BEGIN:VCALENDAR
VERSION:2.0
PRODID:-// - ECPv6.13.2.1//NONSGML v1.0//EN
CALSCALE:GREGORIAN
METHOD:PUBLISH
X-ORIGINAL-URL:https://www.powdems.com
X-WR-CALDESC:Events for 
REFRESH-INTERVAL;VALUE=DURATION:PT1H
X-Robots-Tag:noindex
X-PUBLISHED-TTL:PT1H
BEGIN:VTIMEZONE
TZID:America/Chicago
BEGIN:DAYLIGHT
TZOFFSETFROM:-0600
TZOFFSETTO:-0500
TZNAME:CDT
DTSTART:20250309T080000
END:DAYLIGHT
BEGIN:STANDARD
TZOFFSETFROM:-0500
TZOFFSETTO:-0600
TZNAME:CST
DTSTART:20251102T070000
END:STANDARD
END:VTIMEZONE
BEGIN:VEVENT
DTSTART;TZID=America/Chicago:20250913T153000
DTEND;TZID=America/Chicago:20250913T170000
DTSTAMP:20260423T174530
CREATED:20250818T185442Z
LAST-MODIFIED:20250818T185505Z
UID:1992-1757777400-1757782800@www.powdems.com
SUMMARY:US Senate Candidate Zach Wahls
DESCRIPTION:State Senator Zach Wahls (D-Coralville) will be at Saint’s Rest Coffee (917 Broad Street) in Grinnell on Saturday\, September 13 at 3:30 pm. He will be speaking about his campaign for US Senate. \nAnyone voting in the 2026 Democratic Party primary is welcome to attend.
URL:https://www.powdems.com/event/us-senate-candidate-zach-wahls
LOCATION:Saints Rest Coffee House\, 917 Broad St.\, Grinnell\, IA\, United States
CATEGORIES:Campaign
END:VEVENT
BEGIN:VEVENT
DTSTART;TZID=America/Chicago:20250921T160000
DTEND;TZID=America/Chicago:20250921T180000
DTSTAMP:20260423T174530
CREATED:20250918T185528Z
LAST-MODIFIED:20250918T185652Z
UID:1995-1758470400-1758477600@www.powdems.com
SUMMARY:Cookies with Candidates
DESCRIPTION:Join us for Cookies with Candidates on Sunday\, September 21 at 4 pm. We will be hearing from two US Senate and two US House candidates\, as well as a candidate for Iowa Attorney General.
URL:https://www.powdems.com/event/cookies-with-candidates
LOCATION:Grinnell Central Park\, 925 3rd Avenue\, Grinnell\, IA\, 50112\, United States
CATEGORIES:Campaign
END:VEVENT
BEGIN:VEVENT
DTSTART;TZID=America/Chicago:20250923T190000
DTEND;TZID=America/Chicago:20250923T203000
DTSTAMP:20260423T174530
CREATED:20250918T190701Z
LAST-MODIFIED:20250918T190701Z
UID:2000-1758654000-1758659400@www.powdems.com
SUMMARY:Monthly Meeting
DESCRIPTION:The Poweshiek Democrats Central Committee will meet on Tuesday\, September 23 at Saints Rest Coffee (927 Broad Street) in Grinnell at 7 pm. Anyone supporting Democrats is welcome to attend.
URL:https://www.powdems.com/event/monthly-meeting-4
LOCATION:Saints Rest Coffee House\, 917 Broad St.\, Grinnell\, IA\, United States
CATEGORIES:Central Committee
END:VEVENT
BEGIN:VEVENT
DTSTART;TZID=America/Chicago:20250924T153000
DTEND;TZID=America/Chicago:20250924T170000
DTSTAMP:20260423T174530
CREATED:20250918T190445Z
LAST-MODIFIED:20250918T190445Z
UID:1997-1758727800-1758733200@www.powdems.com
SUMMARY:Auditor Rob Sand in Montezuma
DESCRIPTION:State Auditor Rob Sand will be in Poweshiek County next week to talk about his work as auditor and his campaign for governor. The event will be held on Wednesday\, Sept. 24 at 3:45 pm at The Big Red Barn English Valley B&B\, 4459 135th Street\, Montezuma.
URL:https://www.powdems.com/event/auditor-rob-sand-in-montezuma
LOCATION:Big Red Barn English Valley B&B\, 4459 135th Street\, Montezuma\, IA\, 50171\, United States
CATEGORIES:Campaign
END:VEVENT
BEGIN:VEVENT
DTSTART;TZID=America/Chicago:20250928T180000
DTEND;TZID=America/Chicago:20250928T193000
DTSTAMP:20260423T174530
CREATED:20250925T130645Z
LAST-MODIFIED:20250925T130645Z
UID:2004-1759082400-1759087800@www.powdems.com
SUMMARY:Sam Cox for Mayor Event
DESCRIPTION:Sam Cox will launch her campaign for mayor of Grinnell on Sunday\, September 28 at 6 pm at Saints Rest Coffee (917 Broad Street). Come support Sam and learn how you can get involved.
URL:https://www.powdems.com/event/sam-cox-for-mayor-event
LOCATION:Saints Rest Coffee House\, 917 Broad St.\, Grinnell\, IA\, United States
CATEGORIES:Campaign
END:VEVENT
END:VCALENDAR