BEGIN:VCALENDAR
VERSION:2.0
PRODID:-// - ECPv6.13.2.1//NONSGML v1.0//EN
CALSCALE:GREGORIAN
METHOD:PUBLISH
X-ORIGINAL-URL:https://www.powdems.com
X-WR-CALDESC:Events for 
REFRESH-INTERVAL;VALUE=DURATION:PT1H
X-Robots-Tag:noindex
X-PUBLISHED-TTL:PT1H
BEGIN:VTIMEZONE
TZID:America/Chicago
BEGIN:DAYLIGHT
TZOFFSETFROM:-0600
TZOFFSETTO:-0500
TZNAME:CDT
DTSTART:20190310T080000
END:DAYLIGHT
BEGIN:STANDARD
TZOFFSETFROM:-0500
TZOFFSETTO:-0600
TZNAME:CST
DTSTART:20191103T070000
END:STANDARD
BEGIN:DAYLIGHT
TZOFFSETFROM:-0600
TZOFFSETTO:-0500
TZNAME:CDT
DTSTART:20200308T080000
END:DAYLIGHT
BEGIN:STANDARD
TZOFFSETFROM:-0500
TZOFFSETTO:-0600
TZNAME:CST
DTSTART:20201101T070000
END:STANDARD
END:VTIMEZONE
BEGIN:VEVENT
DTSTART;TZID=America/Chicago:20200821T180000
DTEND;TZID=America/Chicago:20200821T190000
DTSTAMP:20260424T060330
CREATED:20200817T005011Z
LAST-MODIFIED:20200817T005234Z
UID:1693-1598032800-1598036400@www.powdems.com
SUMMARY:Local Candidates Fundraiser with Theresa Greenfield
DESCRIPTION:US Senate candidate Theresa Greenfield will join our three local legislative candidates for a fundraiser on Zoom on Friday\, August 21 at 6 p.m. This fundraiser also celebrates the women candidates running for office in central Iowa during the 100th Anniversary of the ratification of the 19th Amendment enacting women’s suffrage.  \nTheresa has been kind enough to give us some of her time to help raise money for state legislative candidates Ivy Schuster (Iowa Senate from Poweshiek County)\, Sarah Smith (Iowa House from Poweshiek County)\, and Ruby Bodeker (Iowa House from Benton County). Ivy\, Sarah\, and Ruby are bringing tremendous energy and commitment to their campaigns and — with your support — can be part of the Democratic team in the Iowa Legislature in 2021! \nRSVP HERE (We will follow up with a link to the Zoom call as soon as we can. We still have limited access to power and the Internet).  \nWe are asking for a donation of $15 — $5 for each of these state legislative candidates — but we hope you will give more if you can. We won’t have many opportunities to raise money for our candidates this fall given the circumstances we are facing with COVID-19 and now the derecho storm that blasted through Poweshiek County this week.  We are excited to have a chance to hear from Theresa Greenfield\, the woman at the top of the state ticket in Iowa\, and three fantastic local candidates!
URL:https://www.powdems.com/event/local-candidates-fundraiser-with-theresa-greenfield
LOCATION:IA
END:VEVENT
BEGIN:VEVENT
DTSTART;TZID=America/Chicago:20200805T190000
DTEND;TZID=America/Chicago:20200805T203000
DTSTAMP:20260424T060330
CREATED:20200803T020120Z
LAST-MODIFIED:20200803T020120Z
UID:1689-1596654000-1596659400@www.powdems.com
SUMMARY:Sarah Smith Fundraiser with Author George Drake
DESCRIPTION:THE INDISPENSABLE GRINNELLIAN: JOE ROSENFIELD AND THE COLLEGE’S EVOLUTION FROM SALVATION TO EXCELLENCE. \nRSVP to sarahsmithforhd76@gmail.com to receive a link.\nAs a thank you for your $50 donation to the campaign you will receive a signed paperback copy of the book. \nJoin Sarah Smith\, candidate for Iowa House District 76\, as she speaks with George Drake about his book\, Mentor: Life and Legacy of Joe Rosenfield. Learn about Rosenfield’s out-of-the box thinking and unwavering love for Grinnell College.  Hear how his close friendship with famous investor Warren Buffett helped grow Grinnell College’s endowment from $78\,000 at the beginning of Rosenfield’s board service to more than $1 billion only a half-century later.
URL:https://www.powdems.com/event/sarah-smith-fundraiser-with-author-george-drake
LOCATION:IA
END:VEVENT
BEGIN:VEVENT
DTSTART;TZID=America/Chicago:20200728T190000
DTEND;TZID=America/Chicago:20200728T200000
DTSTAMP:20260424T060330
CREATED:20200721T223535Z
LAST-MODIFIED:20200721T223628Z
UID:1685-1595962800-1595966400@www.powdems.com
SUMMARY:Central Committee Meeting
DESCRIPTION:Our Central Committee will hold our regular “4th Tuesday” meeting on Tuesday\, July 28 at 7 p.m. We will be joined by Iowa Democratic Party Chair Mark Smith\, who will talk about the state party’s efforts to elect Democrats up and down the ballot this fall. Anyone who is planning to vote for Democrats in the fall election is welcome to participate. \nFor this meeting\, we are going to try the Zoom conference software that many of you are already using for your work meetings in order to have a face-to-face meeting rather than a phone conference call. RSVP to poweshiekdems@gmail.com if you would like to participate and we will send you the meeting login and password information.
URL:https://www.powdems.com/event/central-committee-meeting-37
LOCATION:Zoom
CATEGORIES:Central Committee
END:VEVENT
BEGIN:VEVENT
DTSTART;TZID=America/Chicago:20200725T080000
DTEND;TZID=America/Chicago:20200725T110000
DTSTAMP:20260424T060330
CREATED:20200721T223433Z
LAST-MODIFIED:20200721T223433Z
UID:1683-1595664000-1595674800@www.powdems.com
SUMMARY:PowDems Cleanup Crew at Diamond Lake
DESCRIPTION:The PowDems Community Clean-up crew is headed to Diamond Lake outside Montezuma on Saturday\, July 25 starting at 8 a.m. We will be cleaning up some of the trash around the lake and be there for most of the morning. Contact poweshiekdems@gmail.com to RSVP — anyone is welcome to help!
URL:https://www.powdems.com/event/powdems-cleanup-crew-at-diamond-lake
LOCATION:IA
CATEGORIES:Volunteer
END:VEVENT
BEGIN:VEVENT
DTSTART;TZID=America/Chicago:20200723T190000
DTEND;TZID=America/Chicago:20200723T200000
DTSTAMP:20260424T060330
CREATED:20200721T223251Z
LAST-MODIFIED:20200721T223251Z
UID:1681-1595530800-1595534400@www.powdems.com
SUMMARY:Environmental Panel with State Senate Candidate Ivy Schuster
DESCRIPTION:State Senate candidate Ivy Schuster will be holding a Zoom forum on environmental issues in central Iowa on Thursday\, July 23 at 7 p.m. Panelists include Adam Rodenberg\, Watershed Project Coordinator in Benton County;  Rob Hach\, Iowa Wind Energy Association Board of Directors; Donna Winburn\, Poweshiek County farmer; and Phil Specht\, former chair of the Clayton County Conservation Board. \nContact ivy@ivyforiowa.com for more info.
URL:https://www.powdems.com/event/environmental-panel-with-state-senate-candidate-ivy-schuster
LOCATION:IA
END:VEVENT
BEGIN:VEVENT
DTSTART;TZID=America/Chicago:20200718T100000
DTEND;TZID=America/Chicago:20200718T110000
DTSTAMP:20260424T060330
CREATED:20200714T030330Z
LAST-MODIFIED:20200714T030330Z
UID:1679-1595066400-1595070000@www.powdems.com
SUMMARY:Virtual Coffee with Iowa State Senate Candidate Ivy Schuster
DESCRIPTION:State Senate Candidate Ivy Schuster will host a virtual coffee this Saturday\, July 18 at 10 a.m. This is a great chance to hear from Ivy about her priorities for this campaign and how she plans to represent the residents of Iowa\, Poweshiek\, and Benton counties in the State Senate. \nRSVP
URL:https://www.powdems.com/event/virtual-coffee-with-iowa-state-senate-candidate-ivy-schuster
LOCATION:IA
CATEGORIES:Campaign
END:VEVENT
BEGIN:VEVENT
DTSTART;TZID=America/Chicago:20200716T190000
DTEND;TZID=America/Chicago:20200716T200000
DTSTAMP:20260424T060330
CREATED:20200710T125937Z
LAST-MODIFIED:20200710T125937Z
UID:1677-1594926000-1594929600@www.powdems.com
SUMMARY:Fundraiser with House Candidate Sarah Smith & Iowa Rep. Jennifer Konfrst
DESCRIPTION:Iowa House candidate Sarah Smith will join the Democrats Assistant Iowa House Leader\, Rep. Jennifer Konfrst of Windsor Heights\, for a virtual event on Thursday\, July 16 at 7 pm. This is a great opportunity to learn more about what happened in the Iowa Legislative session in 2020 and support Sarah’s campaign for the Iowa House seat representing Poweshiek County. \nRSVP
URL:https://www.powdems.com/event/fundraiser-with-house-candidate-sarah-smith-iowa-rep-jennifer-konfrst
LOCATION:IA
CATEGORIES:Campaign
END:VEVENT
BEGIN:VEVENT
DTSTART;TZID=America/Chicago:20200623T190000
DTEND;TZID=America/Chicago:20200623T200000
DTSTAMP:20260424T060330
CREATED:20200619T003110Z
LAST-MODIFIED:20200619T004039Z
UID:1658-1592938800-1592942400@www.powdems.com
SUMMARY:Monthly Meeting
DESCRIPTION:The Poweshiek County Democrats will be holding our monthly meeting (via phone conference) on Tuesday\, June 23 at 7 p.m. Our Central Committee is scheduled to vote on our campaign contributions to local candidates — which represents our biggest financial expenditure of 2020. \n\n\n \n\n\nContact us at poweshiekdems@gmail.com by Tuesday at 5 p.m. if you would like to join this call.
URL:https://www.powdems.com/event/monthly-meeting
LOCATION:IA
CATEGORIES:Central Committee
END:VEVENT
BEGIN:VEVENT
DTSTART;TZID=America/Chicago:20200623T170000
DTEND;TZID=America/Chicago:20200623T170000
DTSTAMP:20260424T060330
CREATED:20200619T163623Z
LAST-MODIFIED:20200619T163643Z
UID:1661-1592931600-1592931600@www.powdems.com
SUMMARY:Socially Distanced Meet & Greet with Local Candidates
DESCRIPTION:Socially Distanced Meet & Greet Event with Local Candidates in Grinnell\nIowa House candidate Sarah Smith\, Iowa Senate candidate Ivy Schuster\, and Poweshiek County Supervisor Diana Dawley will be having a socially distanced meet & greet event on Tuesday\, June 23 starting at 5 p.m. This event will be held in Sarah’s front yard at 1415 Main Street in Grinnell. \nEverything will be outdoors with plenty of room to keep six feet apart\, wear masks\, pick up candidate signs for your yard\, and talk about the upcoming election. \nRSVP here or contact Sarah at SarahSmithforHD76@gmail.com for more info.  
URL:https://www.powdems.com/event/socially-distanced-meet-greet-with-local-candidates
LOCATION:IA
CATEGORIES:Campaign
END:VEVENT
BEGIN:VEVENT
DTSTART;TZID=America/Chicago:20200606T093000
DTEND;TZID=America/Chicago:20200606T120000
DTSTAMP:20260424T060330
CREATED:20200523T185157Z
LAST-MODIFIED:20200523T185157Z
UID:1650-1591435800-1591444800@www.powdems.com
SUMMARY:Community Cleanup in Grinnell
DESCRIPTION:We are still looking for a few Poweshiek Democrats to help us clean up the bike path near Iowa Valley Community College in Grinnell on the morning of Saturday\, June 6. We will make sure any volunteers have necessary personal protection equipment and can maintain social distance. Contact us at poweshiekdems@gmail.com if you are interested in helping.
URL:https://www.powdems.com/event/community-cleanup-in-grinnell
LOCATION:IA
CATEGORIES:Community Service
END:VEVENT
BEGIN:VEVENT
DTSTART;TZID=America/Chicago:20200602T070000
DTEND;TZID=America/Chicago:20200602T210000
DTSTAMP:20260424T060330
CREATED:20200523T185950Z
LAST-MODIFIED:20200602T154749Z
UID:1652-1591081200-1591131600@www.powdems.com
SUMMARY:In-Person Primary Election Voting
DESCRIPTION:If you were not able to vote absentee in the Democratic Party primary election\, you can vote in person on Tuesday\, June 2. The polling places for Poweshiek County are: \nGrinnell Wards 1-4 & CGWS Townships @ Poweshiek County Fairgrounds 4-H Bldg\, 425 East St S\, Grinnell \nBMWJ Townships (includes Brooklyn)\, Malcom\, and Sheridan @ Michael J. Manatt Community Center\, 105 Jackson St\, Brooklyn \nMontezuma\, Deep River\, Guernsey\, Lincoln\, JUPS Townships @ Montezuma Community School Auditorium\, 504 N. 4th St\, Montezuma \nVoting hours are 7 a.m. to 9 p.m. \nContact the Poweshiek County Auditor’s Office at 641-623-5443 for more information.
URL:https://www.powdems.com/event/in-person-primary-election-voting
LOCATION:IA
CATEGORIES:Campaign,Election
END:VEVENT
BEGIN:VEVENT
DTSTART;TZID=America/Chicago:20200601T160000
DTEND;TZID=America/Chicago:20200601T170000
DTSTAMP:20260424T060330
CREATED:20200521T175931Z
LAST-MODIFIED:20200521T175931Z
UID:1646-1591027200-1591030800@www.powdems.com
SUMMARY:Absentee Ballot Postmark Deadline
DESCRIPTION:All absentee ballots for the June 2 primary election must be postmarked by Monday\, June 1 to be counted. Mail all absentee ballots for Poweshiek County to: Poweshiek County Auditor\, PO Box 57\, 302 E. Main Street\, Montezuma\, IA 50171\n\n\nContact the Poweshiek County Auditor Missy Eilander at meilander@poweshiekcounty.org or 641-623-5443 for more information.
URL:https://www.powdems.com/event/absentee-ballot-postmark-deadline
LOCATION:IA
CATEGORIES:Campaign,Election
END:VEVENT
BEGIN:VEVENT
DTSTART;TZID=America/Chicago:20200526T190000
DTEND;TZID=America/Chicago:20200526T203000
DTSTAMP:20260424T060330
CREATED:20200523T185022Z
LAST-MODIFIED:20200523T185022Z
UID:1648-1590519600-1590525000@www.powdems.com
SUMMARY:Monthly County Party Meeting
DESCRIPTION:Our county party will hold our regular monthly meeting via phone on Tuesday\, May 26 at 7 p.m. We will hear from state legislative candidates one final time before the June 2 primary and have an update from Abby Finkenauer’s congressional campaign. Contact us at poweshiekdems@gmail.com if you are interested in joining the call.
URL:https://www.powdems.com/event/monthly-county-party-meeting
LOCATION:IA
CATEGORIES:Central Committee
END:VEVENT
BEGIN:VEVENT
DTSTART;TZID=America/Chicago:20200522T170000
DTEND;TZID=America/Chicago:20200522T170000
DTSTAMP:20260424T060330
CREATED:20200513T122920Z
LAST-MODIFIED:20200521T175704Z
UID:1639-1590166800-1590166800@www.powdems.com
SUMMARY:Absentee Ballot Request Deadline for Primary Election
DESCRIPTION:We encourage Poweshiek Democrats to vote in the June 2 primary election with an absentee ballot. With so much uncertainty regarding public gatherings and with many Democratic Party voters geographically displaced right now\, an absentee ballot will allow you cast a vote in the competitive primary elections for US Senator and Iowa State Senator. Contact the Poweshiek County Auditor Missy Eilander at meilander@poweshiekcounty.org or 641-623-5443 for more information.\n\n\nMail all absentee ballot requests for Poweshiek County to: Poweshiek County Auditor\, PO Box 57\, 302 E. Main Street\, Montezuma\, IA 50171\n\nAbsentee ballot requests must be at the Auditor’s Office by Friday\, May 22
URL:https://www.powdems.com/event/absentee-ballot-request-deadline-for-primary-election
LOCATION:IA
CATEGORIES:Election
END:VEVENT
BEGIN:VEVENT
DTSTART;TZID=America/Chicago:20200509T160000
DTEND;TZID=America/Chicago:20200509T170000
DTSTAMP:20260424T060330
CREATED:20200506T174734Z
LAST-MODIFIED:20200506T174847Z
UID:1636-1589040000-1589043600@www.powdems.com
SUMMARY:Virtual Forum with Iowa Legislative Candidates
DESCRIPTION:The Benton\, Iowa\, and Poweshiek County Democrats will host a virtual forum with four candidates for the Iowa Legislature on Saturday\, May 9 at 4 p.m.  Iowa Democratic Party Chair Mark Smith will pose questions from Democrats in our three counties to\n\nAlvin Aragon – SD38\nIvy Schuster – SD38\nRuby Bodeker – HD75\nSarah Smith – HD76\n\nThis is a great opportunity to hear from the candidates looking to represent us in Des Moines. Register now — and enter your question — HERE
URL:https://www.powdems.com/event/virtual-forum-with-iowa-legislative-candidates
LOCATION:IA
END:VEVENT
BEGIN:VEVENT
DTSTART;TZID=America/Chicago:20200503T150000
DTEND;TZID=America/Chicago:20200503T163000
DTSTAMP:20260424T060330
CREATED:20200422T140805Z
LAST-MODIFIED:20200422T140805Z
UID:1617-1588518000-1588523400@www.powdems.com
SUMMARY:Virtual Forum with US Senate Primary Candidates
DESCRIPTION:The Benton\, Iowa\, and Poweshiek County Democrats will host a virtual forum with Iowa’s five Democratic US Senate candidates on Sunday\, May 3 at 3 p.m. Iowa Senator Rob Hogg of Cedar Rapids will pose questions from Democrats in our three counties to\n\nMichael Franken\nKimberly Graham\nTheresa Greenfield\nEddie Mauro\nCal Woods\n\nThis is a great opportunity to hear from the candidates looking to challenge US Senator Joni Ernst this fall. Register now — and enter your question — at the link below:\n\nhttps://tinyurl.com/y8ppfvwl\n 
URL:https://www.powdems.com/event/virtual-forum-with-us-senate-primary-candidates
LOCATION:IA
CATEGORIES:Campaign
END:VEVENT
BEGIN:VEVENT
DTSTART;TZID=America/Chicago:20200324T190000
DTEND;TZID=America/Chicago:20200324T203000
DTSTAMP:20260424T060330
CREATED:20200301T151002Z
LAST-MODIFIED:20200301T151002Z
UID:1610-1585076400-1585081800@www.powdems.com
SUMMARY:Central Committee Meeting with US Senate Candidate Kimberly Graham
DESCRIPTION:The Poweshiek County Democrats will hold their Central Committee meeting tonight at Pagliai’s Pizza in Grinnell. Some of us meet for dinner at 6 p.m.\, with the meeting starting at 7. Anyone considering supporting Democratic candidates in this fall’s election is welcome to attend. \nKimberly Graham\, a Democratic Party candidate for the US Senate seat held by Joni Ernst\, will be talking with voters at the beginning of this meeting.
URL:https://www.powdems.com/event/central-committee-meeting-with-us-senate-candidate-kimberly-graham
LOCATION:Pagliai’s Pizza\, 816 5th Ave.\, Grinnell\, Iowa\, 50112\, United States
CATEGORIES:Central Committee
END:VEVENT
BEGIN:VEVENT
DTSTART;TZID=America/Chicago:20200321T080000
DTEND;TZID=America/Chicago:20200321T120000
DTSTAMP:20260424T060330
CREATED:20200301T151429Z
LAST-MODIFIED:20200301T151429Z
UID:1612-1584777600-1584792000@www.powdems.com
SUMMARY:County Convention
DESCRIPTION:The Poweshiek Democratic Party will hold its county convention on Saturday\, March 21 at the Malcom Auditorium (212 Main Street) in Malcom. \nRegistration for delegates begins at 8 a.m. with the convention beginning at 8:45 a.m.
URL:https://www.powdems.com/event/county-convention
LOCATION:IA
CATEGORIES:Convention
END:VEVENT
BEGIN:VEVENT
DTSTART;TZID=America/Chicago:20200225T190000
DTEND;TZID=America/Chicago:20200225T203000
DTSTAMP:20260424T060330
CREATED:20200219T205003Z
LAST-MODIFIED:20200219T205038Z
UID:1603-1582657200-1582662600@www.powdems.com
SUMMARY:Central Committee Meeting & US Senate Candidate Michael Franken
DESCRIPTION:The Poweshiek County Democrats will have our Central Committee meeting on Tuesday\, February 25 at Pagliai’s Pizza (816 5th Avenue) in Grinnell. Some of us meet for dinner at 6 p.m. with the official meeting starting at 7 p.m. Anyone considering supporting Democratic Party candidates in 2020 is welcome to attend.  \nUS Senate candidate Michael Franken will speak with us at the beginning of our meeting.
URL:https://www.powdems.com/event/central-committee-meeting-us-senate-candidate-michael-franken
LOCATION:Pagliai’s Pizza\, 816 5th Ave.\, Grinnell\, Iowa\, 50112\, United States
CATEGORIES:Campaign,Central Committee
END:VEVENT
BEGIN:VEVENT
DTSTART;TZID=America/Chicago:20200204T080000
DTEND;TZID=America/Chicago:20200208T170000
DTSTAMP:20260424T060330
CREATED:20200204T210113Z
LAST-MODIFIED:20200204T210113Z
UID:1599-1580803200-1581181200@www.powdems.com
SUMMARY:Delegate Results from Poweshiek County Caucus
DESCRIPTION:COUNTY TOTAL [100% of delegates allocated]\nSanders 36\nWarren 28\nKlobuchar 15\nButtigieg 13\nBiden 4\nUncommitted 4 \nBCMWJ TOWNSHIPS/BROOKLYN [11 delegates]\nButtigieg 3\nBiden 2\nKlobuchar 2\nSanders 2\nWarren 2 \nDEEP RIVER/LINCOLN [2 delegates]\nSanders 1\nKlobuchar 1 \nMALCOM/SHERIDAN [3 delegates]\nBiden 1\nButtigieg 1\nSanders 1 \nCGWS Townships [6 delegates]\nKlobuchar 2\nWarren 2\nButtigieg 1\nSanders 1 \nGRINNELL 1  [24 delegates]\nSanders 11\nWarren 9\nUncommitted 4 \nGRINNELL 2 [17 delegates]\nWarren 6\nSanders 4\nKlobuchar 4\nButtigieg 3 \nGRINNELL 3 [12 delegates]\nSanders 5\nWarren 4\nButtigieg 3 \nGRINNELL 4 [16 delegates]\nSanders 8\nWarren 4\nKlobuchar 4 \nJUPS Townships [5 delegates]\nKlobuchar 2\nSanders 2\nButtigieg 1 \nMontezuma [4 delegates]\nBiden 1\nButtigieg 1\nSanders 1\nWarren 1
URL:https://www.powdems.com/event/delegate-results-from-poweshiek-county-caucus
LOCATION:IA
CATEGORIES:Campaign
END:VEVENT
BEGIN:VEVENT
DTSTART;TZID=America/Chicago:20200203T180000
DTEND;TZID=America/Chicago:20200203T220000
DTSTAMP:20260424T060330
CREATED:20200108T013248Z
LAST-MODIFIED:20200130T161902Z
UID:1583-1580752800-1580767200@www.powdems.com
SUMMARY:2020 Presidential Caucuses in Poweshiek County
DESCRIPTION:2020 POWESHIEK COUNTY PRECINCT LOCATIONS\nDoors open at these sites at 6 pm\nCaucus begins at 7 pm \nPrecinct 1 is for absentee ballots (which does not apply for a caucus) \nPrecinct 2 (Bear Creek\, Madison\, Warren\, and Jefferson Townships): BGM Elementary Library\, 1090 Jackson Street\, Brooklyn\, IA\, 52211  \nPrecinct 3 (Deep River & Lincoln Townships): Montezuma Elementary\, 504 N 4th Street\, Montezuma\, IA 50171 \nPrecinct 4 (Malcom & Sheridan Townships): Malcom Auditorium\, 212 Main Street\, Malcom\, IA 50157 \nPrecinct 5 (Chester\, Grant\, Washington\, and Sugar Creek Townships): 4-H Fairgrounds\, 425 E St S.\, Grinnell\, IA 50112 \nPrecinct 6 (Grinnell Ward 1): Grinnell College Darby Gymnasium\, 1201 10th Avenue\, Grinnell\, IA 50112 \nPrecinct 7 (Grinnell Ward 2): Grinnell High School Main Gymnasium\, 1333 Sunset Street\, Grinnell\, IA 50112 \nPrecinct 8 (Grinnell Ward 3): Hotel Grinnell\, 925 Park Street\, Grinnell\, IA 50112  \nPrecinct 9 (Grinnell Ward 4): Grinnell Middle School Gymnasium\, 132 E St S\, Grinnell\, IA 50112 \nPrecinct 10 (Jackson\, Union\, Pleasant\, and Scott Townships): Montezuma Elementary\, 504 N 4th Street\, Montezuma\, IA 50171 \nPrecinct 11 (City of Montezuma): Montezuma Elementary\, 504 N 4th Street\, Montezuma\, IA 50171
URL:https://www.powdems.com/event/2020-presidential-caucuses-in-poweshiek-county
LOCATION:IA
CATEGORIES:Campaign
END:VEVENT
BEGIN:VEVENT
DTSTART;TZID=America/Chicago:20200128T190000
DTEND;TZID=America/Chicago:20200128T200000
DTSTAMP:20260424T060330
CREATED:20191214T131046Z
LAST-MODIFIED:20200124T025137Z
UID:1544-1580238000-1580241600@www.powdems.com
SUMMARY:Central Committee Meeting
DESCRIPTION:The Poweshiek Democrats will hold their final pre-caucus Central Committee meeting on Tuesday\, January 28 at Pagliai’s Pizza in Grinnell (816 5th Avenue). Some of us meet for dinner at 6 p.m.\, with the official meeting starting at 7 p.m. \nWe encourage anyone who has a question about the caucus to consider attending\, even if you don’t usually come to these meetings. We are trying to address every issue we can before caucus night and your questions help us to prepare. \nThe meeting will include information for caucus night volunteers and a caucus Q&A session — we will stay until you get your question answered!
URL:https://www.powdems.com/event/central-committee-meeting-36
LOCATION:Pagliai’s Pizza\, 816 5th Ave.\, Grinnell\, Iowa\, 50112\, United States
CATEGORIES:Central Committee
END:VEVENT
BEGIN:VEVENT
DTSTART;TZID=America/Chicago:20200121T180000
DTEND;TZID=America/Chicago:20200121T193000
DTSTAMP:20260424T060330
CREATED:20191216T223546Z
LAST-MODIFIED:20191216T223628Z
UID:1549-1579629600-1579635000@www.powdems.com
SUMMARY:Precinct 8 Caucus Volunteers Meeting
DESCRIPTION:Volunteers for the Poweshiek County Precinct 8 Caucus (Southwest Grinnell) will meet at the West Side Diner on Tuesday\, January 21 at 6 pm.  \nA map of all Poweshiek County precincts is available here.
URL:https://www.powdems.com/event/precinct-8-caucus-volunteers-meeting
LOCATION:West Side Diner\, 226 6th Avenue W\, Grinnell\, IA\, 50112\, United States
END:VEVENT
BEGIN:VEVENT
DTSTART;TZID=America/Chicago:20200120T183000
DTEND;TZID=America/Chicago:20200120T200000
DTSTAMP:20260424T060330
CREATED:20200117T143743Z
LAST-MODIFIED:20200117T144611Z
UID:1592-1579545000-1579550400@www.powdems.com
SUMMARY:Andrew Yang in Grinnell
DESCRIPTION:Presidential candidate Andrew Yang will hold a town hall at the Prairie Canary Restaurant (924 Main Street) in Grinnell on Monday\, January 20 at 6:30 p.m.  It’s a great opportunity to hear about Yang’s policy proposals on universal basic income\, climate change\, and education funding. RSVP
URL:https://www.powdems.com/event/andrew-yang-in-grinnell-2
LOCATION:prairie canary\, 924 Main Street\, Grinnell\, IA\, 50112
CATEGORIES:Campaign,Election
END:VEVENT
BEGIN:VEVENT
DTSTART;TZID=America/Chicago:20200120T140000
DTEND;TZID=America/Chicago:20200120T153000
DTSTAMP:20260424T060330
CREATED:20200108T021510Z
LAST-MODIFIED:20200116T174433Z
UID:1585-1579528800-1579534200@www.powdems.com
SUMMARY:Bennet Event Cancelled
DESCRIPTION:Due to the impeachment trial at the US Capitol\, the event with US Senator Michael Bennet of Colorado in Grinnell scheduled for Monday\, January 20 IS CANCELLED.
URL:https://www.powdems.com/event/senator-michael-bennet-in-grinnell
LOCATION:Saints Rest Coffee House\, 917 Broad St.\, Grinnell\, IA\, United States
CATEGORIES:Campaign
END:VEVENT
BEGIN:VEVENT
DTSTART;TZID=America/Chicago:20200105T123000
DTEND;TZID=America/Chicago:20200105T140000
DTSTAMP:20260424T060330
CREATED:20191229T132904Z
LAST-MODIFIED:20191229T133117Z
UID:1576-1578227400-1578232800@www.powdems.com
SUMMARY:Joe Biden in Grinnell
DESCRIPTION:Former Vice President Joe Biden will meet with voters on Sunday\, January 5 at Hotel Grinnell (925 Park Street). Doors open at 12:15 p.m. with the event to start around 12:45 p.m.  \nRSVP
URL:https://www.powdems.com/event/joe-biden-in-grinnell
LOCATION:IA
CATEGORIES:Campaign,Election
END:VEVENT
BEGIN:VEVENT
DTSTART;TZID=America/Chicago:20200103T130000
DTEND;TZID=America/Chicago:20200103T190000
DTSTAMP:20260424T060330
CREATED:20191227T022506Z
LAST-MODIFIED:20191227T024833Z
UID:1569-1578056400-1578078000@www.powdems.com
SUMMARY:John Delaney in Montezuma & Brooklyn
DESCRIPTION:Former US Representative John Delaney of Maryland will talk with voters about his campaign for president (and pick up the tab) at two stops in Poweshiek County on Friday. \nMontezuma\nJust a Small Town Grill\n323 E Main St \n1 pm\nRSVP \nBrooklyn\nThe Classic Deli\n120 Jackson St.\n5 pm \nRSVP \nContact Brent Roske (brent@johnkdelaney.com) for more info.
URL:https://www.powdems.com/event/john-delaney-in-montezuma-brooklyn
LOCATION:IA
CATEGORIES:Campaign,Election
END:VEVENT
BEGIN:VEVENT
DTSTART;TZID=America/Chicago:20200102T150000
DTEND;TZID=America/Chicago:20200102T170000
DTSTAMP:20260424T060330
CREATED:20191229T132603Z
LAST-MODIFIED:20191229T133413Z
UID:1572-1577977200-1577984400@www.powdems.com
SUMMARY:Bernie Sanders in Grinnell
DESCRIPTION:US Senator Bernie Sanders of Vermont will be in Grinnell on Thursday\, January 2 at 3 p.m. to launch a door-to-door canvassing session in support of his campaign for president. This meeting with Sanders will be at the Nelson family home at 1426 West Street in Grinnell. There will be a canvassing training starting at 2:30 p.m.\, with Sanders to speak at 3 p.m.  \nRSVP
URL:https://www.powdems.com/event/bernie-sanders-in-grinnell
LOCATION:IA\, United States
CATEGORIES:Campaign,Election
END:VEVENT
BEGIN:VEVENT
DTSTART;TZID=America/Chicago:20191211T120000
DTEND;TZID=America/Chicago:20191211T133000
DTSTAMP:20260424T060330
CREATED:20191204T032124Z
LAST-MODIFIED:20191204T032124Z
UID:1539-1576065600-1576071000@www.powdems.com
SUMMARY:Julián Castro in Grinnell
DESCRIPTION:Former HUD Secretary and San Antonio Mayor Julián Castro will be at the Grinnell College Humanities and Social Studies Center’s Global Media Event Space (1226 Park Street\, Room N1164) on Wednesday\, December 11 at noon. A great opportunity to meet Julián and hear about his campaign for president! \nhttps://www.facebook.com/events/2515841805317737/
URL:https://www.powdems.com/event/julian-castro-in-grinnell
LOCATION:Grinnell College\, 1115 8th Avenue\, Grinnell\, 50112
CATEGORIES:Campaign
END:VEVENT
BEGIN:VEVENT
DTSTART;TZID=America/Chicago:20191210T170000
DTEND;TZID=America/Chicago:20191210T180000
DTSTAMP:20260424T060330
CREATED:20191127T171848Z
LAST-MODIFIED:20191127T171949Z
UID:1534-1575997200-1576000800@www.powdems.com
SUMMARY:Andrew Yang in Grinnell
DESCRIPTION:Andrew Yang is going to be in Grinnell on December 10th for the opening of his campaign’s new office \nRSVP
URL:https://www.powdems.com/event/andrew-yang-in-grinnell
LOCATION:Yang HQ\, 820 4th Avenue\, Grinnell\, IA\, 50112\, United States
CATEGORIES:Campaign,Election
END:VEVENT
END:VCALENDAR