BEGIN:VCALENDAR
VERSION:2.0
PRODID:-// - ECPv6.13.2.1//NONSGML v1.0//EN
CALSCALE:GREGORIAN
METHOD:PUBLISH
X-ORIGINAL-URL:https://www.powdems.com
X-WR-CALDESC:Events for 
REFRESH-INTERVAL;VALUE=DURATION:PT1H
X-Robots-Tag:noindex
X-PUBLISHED-TTL:PT1H
BEGIN:VTIMEZONE
TZID:America/Chicago
BEGIN:DAYLIGHT
TZOFFSETFROM:-0600
TZOFFSETTO:-0500
TZNAME:CDT
DTSTART:20210314T080000
END:DAYLIGHT
BEGIN:STANDARD
TZOFFSETFROM:-0500
TZOFFSETTO:-0600
TZNAME:CST
DTSTART:20211107T070000
END:STANDARD
BEGIN:DAYLIGHT
TZOFFSETFROM:-0600
TZOFFSETTO:-0500
TZNAME:CDT
DTSTART:20220313T080000
END:DAYLIGHT
BEGIN:STANDARD
TZOFFSETFROM:-0500
TZOFFSETTO:-0600
TZNAME:CST
DTSTART:20221106T070000
END:STANDARD
BEGIN:DAYLIGHT
TZOFFSETFROM:-0600
TZOFFSETTO:-0500
TZNAME:CDT
DTSTART:20230312T080000
END:DAYLIGHT
BEGIN:STANDARD
TZOFFSETFROM:-0500
TZOFFSETTO:-0600
TZNAME:CST
DTSTART:20231105T070000
END:STANDARD
BEGIN:DAYLIGHT
TZOFFSETFROM:-0600
TZOFFSETTO:-0500
TZNAME:CDT
DTSTART:20240310T080000
END:DAYLIGHT
BEGIN:STANDARD
TZOFFSETFROM:-0500
TZOFFSETTO:-0600
TZNAME:CST
DTSTART:20241103T070000
END:STANDARD
END:VTIMEZONE
BEGIN:VEVENT
DTSTART;TZID=America/Chicago:20240115T190000
DTEND;TZID=America/Chicago:20240115T203000
DTSTAMP:20260423T174247
CREATED:20240103T144832Z
LAST-MODIFIED:20240103T144832Z
UID:1899-1705345200-1705350600@www.powdems.com
SUMMARY:Caucus Meetings
DESCRIPTION:It’s caucus time! \n  \nLike Democrats across Iowa\, we will hold our caucus meetings on Monday\, January 15 at 7 pm. Here are the three locations of our meetings: \n  \nFirst Presbyterian Church (1025 5th Avenue\, Grinnell)\nAll Democrats from Grinnell & the CGWS Townships \nMontezuma Public Library (500 East Main Street\, Montezuma)\nAll Democrats from Montezuma & the JUPS Townships \nBrooklyn Public Library (306 Jackson Street\, Brooklyn)\nAll Democrats from Brooklyn\, Malcom\, Deep River\, and the BCWMJ townships \nCaucus meetings are where we take care of three important items of party business: \n(a) Electing new representatives for the local party’s Central Committee; \n(b) Accepting proposals for our local party’s platform and \n(c)  Selecting delegates for the annual county party convention \nAnyone who is a member of the Democratic Party is welcome and encouraged to attend. \nIowa Democrats no longer vote for presidential candidates at the caucus meeting. All Iowa Democrats will cast their vote for the 2024  presidential nominee by mail with a “Presidential Preference Card” issued by the Iowa Democratic Party. The options on the card will be Joe Biden\, Dean Phillips\, Marianne Williamson\, and “Uncommitted.” \nYou can request your card from the Iowa Democratic Party HERE.
URL:https://www.powdems.com/event/caucus-meetings
CATEGORIES:Campaign
END:VEVENT
BEGIN:VEVENT
DTSTART;TZID=America/Chicago:20231027T090000
DTEND;TZID=America/Chicago:20231027T150000
DTSTAMP:20260423T174247
CREATED:20231011T220554Z
LAST-MODIFIED:20231011T220554Z
UID:1897-1698397200-1698418800@www.powdems.com
SUMMARY:Early Voting at Drake Library
DESCRIPTION:Poweshiek County residents can cast their ballot for the November 7 election early on Friday\, October 27 at Drake Library (930 Park Street) from 9 am to 3 pm.
URL:https://www.powdems.com/event/early-voting-at-drake-library-2
LOCATION:Drake Community Library\, 930 Park St.\, Grinnell\, IA\, 50112\, United States
END:VEVENT
BEGIN:VEVENT
DTSTART;TZID=America/Chicago:20231024T190000
DTEND;TZID=America/Chicago:20231024T203000
DTSTAMP:20260423T174247
CREATED:20231011T220331Z
LAST-MODIFIED:20231011T220644Z
UID:1895-1698174000-1698179400@www.powdems.com
SUMMARY:Monthly Meeting for October
DESCRIPTION:The Poweshiek Democrats will hold our monthly meeting on Tuesday\, October 24 at West Side Diner (229 6th Avenue W) in Grinnell. Some of us will meet for dinner at 6 pm with the business meeting to begin at 7 pm. Anyone who supports Democrats in Poweshiek County is welcome to attend.
URL:https://www.powdems.com/event/monthly-meeting-for-october
END:VEVENT
BEGIN:VEVENT
DTSTART;TZID=America/Chicago:20231023T190000
DTEND;TZID=America/Chicago:20231023T203000
DTSTAMP:20260423T174247
CREATED:20231011T220028Z
LAST-MODIFIED:20231011T220028Z
UID:1893-1698087600-1698093000@www.powdems.com
SUMMARY:Grinnell-Newburg School Board Candidate Forum
DESCRIPTION:Candidates for the Grinnell-Newburg School Board will be participating in a public forum sponsored by the Grinnell League of Women Voters and Grinnell Chamber of Commerce on Monday\, October 23 at 7 pm. It will be a hybrid forum both in person at Drake Community Library and over Zoom. \nThe candidates for the At Large seat are Chris Grundler and Joshua Yeager. Jessica Anderson is running for the Ward 4 seat.  The seat for Ward 3 will depend on a write-in candidate. \nEach of the candidates will have an opportunity to present opening statements and will then answer questions. As in the past few years we ask that questions be submitted at least 48 hours before the forum at grinnelllwv@gmail.com. \nTo register to attend the forum on Zoom\, click HERE If you registered for the City Offices forum\, this is the same link and you do not need to re-register. After registering\, you will receive a confirmation email containing information about joining the Zoom meeting.
URL:https://www.powdems.com/event/grinnell-newburg-school-board-candidate-forum
END:VEVENT
BEGIN:VEVENT
DTSTART;TZID=America/Chicago:20231017T190000
DTEND;TZID=America/Chicago:20231017T203000
DTSTAMP:20260423T174247
CREATED:20231011T215919Z
LAST-MODIFIED:20231011T215919Z
UID:1891-1697569200-1697574600@www.powdems.com
SUMMARY:Grinnell City Candidate Forum
DESCRIPTION:Candidates for Grinnell City offices will be participating in a public forum sponsored by the Grinnell League of Women Voters (LWV) and Grinnell Chamber of Commerce on Tuesday\, October 17 at 7 pm. It will be a hybrid forum both in-person at Drake Community Library and over Zoom. \nThe candidates for mayor are Dan Agnew\, Gary Glandon\, and Kamal Hammouda. Byron Hueftle-Worley is running for the Council At Large seat. Jo Wray is running for the Ward 2 seat. Matt Karjalahti and Robert Corry Jr. are running for one available seat in Ward 4. \nEach of the candidates will have an opportunity to present opening statements and will then answer questions. As in the past\, the League asks that questions be submitted at least 48 hours before the forum at grinnelllwv@gmail.com. \nTo register to attend this forum on Zoom\, click HERE. You will receive a confirmation email containing information about joining the Zoom meeting.
URL:https://www.powdems.com/event/grinnell-city-candidate-forum
LOCATION:Drake Community Library\, 930 Park St.\, Grinnell\, IA\, 50112\, United States
END:VEVENT
BEGIN:VEVENT
DTSTART;TZID=America/Chicago:20220207T190000
DTEND;TZID=America/Chicago:20220207T203000
DTSTAMP:20260423T174247
CREATED:20220106T152607Z
LAST-MODIFIED:20220131T151449Z
UID:1858-1644260400-1644265800@www.powdems.com
SUMMARY:Annual Precinct Caucus Meetings
DESCRIPTION:Annual Precinct Caucus Meetings \nMonday\, February 7 @ 7 p.m. \n  \n* All Democrats are Welcome to Attend * \n  \n* Elect Local Party Representatives for Your Precinct * \n  \n* Share Your Ideas for 2022 * \n  \nFour locations: \n  \n1. Montezuma Elementary School Library (504 N. 4th Street\, Montezuma) \nDemocrats from Montezuma and the Jackson\, Union\, Pleasant\, and Scott Townships \n  \n2. BGM Elementary School Library (1090 Jackson Street\, Brooklyn) \nDemocrats from Brooklyn\, Guernsey\, Malcom\, Hartwick\, Victor and Deep River \nAnd Democrats from the Bear Creek\, Madison\, Warren\, and Jefferson Townships \n  \n3. Drake Library (930 Park Street\, Grinnell) \nDemocrats from Grinnell’s First Ward (North of 6th Avenue & east of Main Street) \n  \n4. Bailey Park Elementary School  (210 8th Avenue\, Grinnell) \nPLEASE NOTE THIS IS A NEW LOCATION — IT HAS CHANGED SINCE JANUARY 1 \nDemocrats from Grinnell’s Wards 2\, 3 & 4 \nAnd Democrats from the Chester\, Grant\, Washington\, and Sugar Creek Townships \n  \npoweshiekdems@gmail.com
URL:https://www.powdems.com/event/annual-precinct-caucus-meetings
CATEGORIES:Central Committee,Volunteer
END:VEVENT
BEGIN:VEVENT
DTSTART;TZID=America/Chicago:20220205T090000
DTEND;TZID=America/Chicago:20220205T100000
DTSTAMP:20260423T174247
CREATED:20220128T162357Z
LAST-MODIFIED:20220128T162357Z
UID:1861-1644051600-1644055200@www.powdems.com
SUMMARY:Forum with State Representative Dave Maxwell
DESCRIPTION:The Grinnell League of Women Voters will host Poweshiek County’s State Rep. Dave Maxwell (R-Gibson) for a forum with constituents on Zoom on Saturday\, February 5 at 9 a.m. Sign up HERE. \nThe League encourages you to submit questions for Rep. Maxwell to GrinnellLWV@gmail.com by Thursday\, Feb. 3 at 5 p.m.  Questions will not be shared with anyone before the event.
URL:https://www.powdems.com/event/forum-with-state-representative-dave-maxwell
CATEGORIES:Legislative Coffee
END:VEVENT
BEGIN:VEVENT
DTSTART;TZID=America/Chicago:20211215T190000
DTEND;TZID=America/Chicago:20211215T200000
DTSTAMP:20260423T174247
CREATED:20211213T142806Z
LAST-MODIFIED:20211215T191843Z
UID:1855-1639594800-1639598400@www.powdems.com
SUMMARY:Sarah Smith Campaign Launch Postponed
DESCRIPTION:Due to wind and thunderstorm advisories in central Iowa\, Sarah Smith’s campaign launch event scheduled for December 15 in Grinnell will be postponed. We will contact you when it is rescheduled.
URL:https://www.powdems.com/event/sarah-smith-campaign-launch
LOCATION:hotel grinnell\, 925 Park Street\, Grinnell\, CA\, 50112\, United States
CATEGORIES:Campaign
END:VEVENT
BEGIN:VEVENT
DTSTART;TZID=America/Chicago:20211123T190000
DTEND;TZID=America/Chicago:20211123T203000
DTSTAMP:20260423T174247
CREATED:20211027T193555Z
LAST-MODIFIED:20211027T193555Z
UID:1853-1637694000-1637699400@www.powdems.com
SUMMARY:November Meeting
DESCRIPTION:The Poweshiek County Democrats’ monthly meeting for November will be on Tuesday\, November 23 at Drake Library (930 Park Street) in Grinnell at 7 p.m. Anyone who supports Democratic Party candidates in Poweshiek County is welcome to attend.
URL:https://www.powdems.com/event/november-meeting
LOCATION:Drake Community Library\, 930 Park St.\, Grinnell\, IA\, 50112\, United States
CATEGORIES:Central Committee
END:VEVENT
BEGIN:VEVENT
DTSTART;TZID=America/Chicago:20211107T130000
DTEND;TZID=America/Chicago:20211107T150000
DTSTAMP:20260423T174247
CREATED:20210826T000119Z
LAST-MODIFIED:20210930T150323Z
UID:1826-1636290000-1636297200@www.powdems.com
SUMMARY:Adopt a Highway Route 6 Cleanup
DESCRIPTION:We will be cleaning Route 6 east between the 63 North and 63 South exits on Sunday\, November 7 from 1 to 3 p.m.
URL:https://www.powdems.com/event/adopt-a-highway-route-6-cleanup
END:VEVENT
BEGIN:VEVENT
DTSTART;TZID=America/Chicago:20211102T070000
DTEND;TZID=America/Chicago:20211102T200000
DTSTAMP:20260423T174247
CREATED:20211011T153208Z
LAST-MODIFIED:20211011T153647Z
UID:1846-1635836400-1635883200@www.powdems.com
SUMMARY:City & School Board Elections
DESCRIPTION:Poweshiek County residents can vote in City Council and School Board elections at the locations listed below. A map of Poweshiek County precinct boundaries is here. \n  \nAll polling places are open on Election Day from 7 am to 8 pm.  \n  \nContact the Poweshiek County Auditor at 641-623-5443 for more information. \n  \nBear Creek\, Madison\, Warren\, and Jackson Precinct \n(Including Brooklyn & Holiday Lake) \nMichael J. Manatt Community Center \n105 Jackson St\, Brooklyn \n  \nDeep River/Lincoln Precinct \nDeep River Community Center \n701 Main Street\, Deep River \n  \nMalcom/Sheridan Precinct \nMalcom Auditorium \n212 Main Street\, Malcom \n  \nChester\, Grant\, Washington and Sugar Creek Townships  \nCounty Fairgrounds \n425 East St S\, Grinnell \n  \nGrinnell Ward 1 / Northeast Grinnell \nElks Lodge \n720 3rd Avenue\, Grinnell \n  \nGrinnell Ward 2 / Northwest Grinnell \nElks Lodge \n720 3rd Avenue\, Grinnell \n  \nGrinnell Ward 3 / Southwest Grinnell \nDrake Library \n930 Park Street\, Grinnell \n  \nGrinnell Ward 4 / Southeast Grinnell \nCounty Fairgrounds \n425 East St S\, Grinnell \n  \nJasper\, Union\, Pleasant\, and Scott Townships \nFoster Center \n4896 Stagecoach Road\, Montezuma \n  \nMontezuma \nMontezuma Public Library \n500 E Main St\, Montezuma
URL:https://www.powdems.com/event/city-school-board-elections
CATEGORIES:Election
END:VEVENT
BEGIN:VEVENT
DTSTART;TZID=America/Chicago:20211028T190000
DTEND;TZID=America/Chicago:20211028T203000
DTSTAMP:20260423T174247
CREATED:20211005T132150Z
LAST-MODIFIED:20211013T004349Z
UID:1844-1635447600-1635453000@www.powdems.com
SUMMARY:Grinnell-Newburg School Board Election Forum
DESCRIPTION:The League of Women Voters will host its forum with Grinnell-Newburg School Board candidates on Thursday\, October 28 at 7 p.m. on Zoom. \nThis year’s seven candidates for four School Board seats are \n\n\n\nMeg Jones Bair\, running for re-election\nRoger Belcher\, running for a first-term\nBarbara Brown\, running for re-election\nTyler Harter\, running for a first term\nHelen Redmond\, running for re-election\nChris Starrett\, running for a first term\n\n\nLaurel Tuggle Lacina\, running for re-election\n\n\n\nRegister for the forum here and submit your questions for candidates by emailing the Grinnell League of Women Voters at grinnelllwv@gmail.com. Questions will not be shared with candidates in advance.
URL:https://www.powdems.com/event/grinnell-newburg-school-board-election-forum
LOCATION:Zoom
CATEGORIES:Campaign,Election
END:VEVENT
BEGIN:VEVENT
DTSTART;TZID=America/Chicago:20211026T190000
DTEND;TZID=America/Chicago:20211026T203000
DTSTAMP:20260423T174247
CREATED:20211019T141305Z
LAST-MODIFIED:20211019T141305Z
UID:1851-1635274800-1635280200@www.powdems.com
SUMMARY:October Meeting
DESCRIPTION:The Poweshiek County Democrats’ monthly meeting for October will be on Tuesday\, October 26 at Central Park Shelter (811 Park Street) in Grinnell at 7 p.m. Anyone who supports Democratic Party candidates in Poweshiek County is welcome to attend.
URL:https://www.powdems.com/event/october-meeting
LOCATION:Grinnell Central Park\, 925 3rd Avenue\, Grinnell\, IA\, 50112\, United States
CATEGORIES:Central Committee
END:VEVENT
BEGIN:VEVENT
DTSTART;TZID=America/Chicago:20211026T090000
DTEND;TZID=America/Chicago:20211026T150000
DTSTAMP:20260423T174247
CREATED:20210930T150543Z
LAST-MODIFIED:20210930T150543Z
UID:1840-1635238800-1635260400@www.powdems.com
SUMMARY:Early Voting at Drake Library
DESCRIPTION:The Poweshiek County Auditor will host an early voting session for the 2021 city and school board elections at Drake Library (930 Park Street) in Grinnell on Tuesday\, October 26 from 9 am to 3 pm.
URL:https://www.powdems.com/event/early-voting-at-drake-library
LOCATION:Drake Community Library\, 930 Park St.\, Grinnell\, IA\, 50112\, United States
CATEGORIES:Election
END:VEVENT
BEGIN:VEVENT
DTSTART;TZID=America/Chicago:20211020T190000
DTEND;TZID=America/Chicago:20211020T200000
DTSTAMP:20260423T174247
CREATED:20211005T131814Z
LAST-MODIFIED:20211005T131814Z
UID:1842-1634756400-1634760000@www.powdems.com
SUMMARY:Grinnell City Council Election Forum
DESCRIPTION:The League of Women Voters will host its forum with Grinnell City Council candidates on Wednesday\, October 20 at 7 p.m. on Zoom. \nThis year’s candidates are \n\nDan Agnew\, running for re-election as mayor\nKamal Hammouda\, running for mayor\nJulie Davis\, running unopposed for re-election for Northeast Grinnell”s Ward 1\nRachel Bly\, running unopposed for re-election for Southwest Grinnell’s Ward 3\nJim White\, running unopposed for re-election for Grinnell’s At-large District\n\nRegister for the forum here and submit your questions for candidates by emailing the Grinnell League of Women Voters at grinnelllwv@gmail.com.
URL:https://www.powdems.com/event/grinnell-city-council-election-forum
LOCATION:Zoom
CATEGORIES:Campaign,Election
END:VEVENT
BEGIN:VEVENT
DTSTART;TZID=America/Chicago:20210928T190000
DTEND;TZID=America/Chicago:20210928T203000
DTSTAMP:20260423T174247
CREATED:20210909T223715Z
LAST-MODIFIED:20210909T223715Z
UID:1829-1632855600-1632861000@www.powdems.com
SUMMARY:September Meeting
DESCRIPTION:The Poweshiek County Democrats’ monthly meeting for September will be on Tuesday\, September 28 at Merrill Park East Shelter (11th & Park Streets) in Grinnell at 7 p.m. Anyone who supports Democratic Party candidates in Poweshiek County is welcome to attend.
URL:https://www.powdems.com/event/september-meeting
LOCATION:Merrill Park\, 11th Avenue\, Grinnell\, IA\, 50112\, United States
CATEGORIES:Central Committee
ORGANIZER;CN="Poweshiek Democratic Party":MAILTO:poweshiekdems@gmail.com
END:VEVENT
BEGIN:VEVENT
DTSTART;TZID=America/Chicago:20210824T190000
DTEND;TZID=America/Chicago:20210824T203000
DTSTAMP:20260423T174247
CREATED:20210817T122439Z
LAST-MODIFIED:20210824T133640Z
UID:1821-1629831600-1629837000@www.powdems.com
SUMMARY:August Meeting
DESCRIPTION:The Poweshiek County Democrats’ monthly meeting for August will be on Tuesday\, August 24 at Merrill Park WEST SHELTER (11th & Main Streets) in Grinnell at 7 p.m. Anyone who supports Democratic Party candidates in Poweshiek County is welcome to attend.
URL:https://www.powdems.com/event/august-meeting
LOCATION:Merrill Park\, 11th Avenue\, Grinnell\, IA\, 50112\, United States
CATEGORIES:Central Committee
END:VEVENT
BEGIN:VEVENT
DTSTART;TZID=America/Chicago:20210727T190000
DTEND;TZID=America/Chicago:20210727T203000
DTSTAMP:20260423T174247
CREATED:20210624T125618Z
LAST-MODIFIED:20210624T125618Z
UID:1813-1627412400-1627417800@www.powdems.com
SUMMARY:July Meeting
DESCRIPTION:The Poweshiek County Democrats’ monthly meeting for June will be on Tuesday\, July 27 at Merrill Park East Shelter (11th & Park Streets) in Grinnell at 7 p.m. Anyone who supports Democratic Party candidates in Poweshiek County is welcome to attend.
URL:https://www.powdems.com/event/july-meeting
LOCATION:Merrill Park\, 11th Avenue\, Grinnell\, IA\, 50112\, United States
CATEGORIES:Central Committee
END:VEVENT
BEGIN:VEVENT
DTSTART;TZID=America/Chicago:20210714T200000
DTEND;TZID=America/Chicago:20210714T203000
DTSTAMP:20260423T174247
CREATED:20210624T130755Z
LAST-MODIFIED:20210705T180030Z
UID:1815-1626292800-1626294600@www.powdems.com
SUMMARY:Heart of Iowa Democrats with Rob Sand -- NEW TIME
DESCRIPTION:The Poweshiek County Democrats will join the Heart of Iowa Democrats to host State Auditor Rob Sand via Zoom on Wednesday\, July 14 at 8 p.m. He will discuss his work protecting Iowa’s taxpayers and answer your questions. RSVP here and we will send you the Zoom link before July 14.
URL:https://www.powdems.com/event/heart-of-iowa-democrats-with-rob-sand
LOCATION:Zoom
CATEGORIES:Education
END:VEVENT
BEGIN:VEVENT
DTSTART;TZID=America/Chicago:20210622T190000
DTEND;TZID=America/Chicago:20210622T203000
DTSTAMP:20260423T174247
CREATED:20210528T191540Z
LAST-MODIFIED:20210528T191540Z
UID:1811-1624388400-1624393800@www.powdems.com
SUMMARY:June Meeting
DESCRIPTION:The Poweshiek County Democrats’ monthly meeting for June will be on Tuesday\, June 22 at Merrill Park East Shelter in Grinnell at 7 p.m. Anyone who supports Democratic Party candidates in Poweshiek County is welcome to attend.
URL:https://www.powdems.com/event/june-meeting
LOCATION:Merrill Park\, 11th Avenue\, Grinnell\, IA\, 50112\, United States
CATEGORIES:Central Committee
END:VEVENT
BEGIN:VEVENT
DTSTART;TZID=America/Chicago:20210612T100000
DTEND;TZID=America/Chicago:20210612T120000
DTSTAMP:20260423T174247
CREATED:20210528T191217Z
LAST-MODIFIED:20210528T191217Z
UID:1808-1623492000-1623499200@www.powdems.com
SUMMARY:Flag Day Parade in Brooklyn
DESCRIPTION:Iowa House candidate Sarah Smith (D-Grinnell) and County Supervisor Jason Roudabush (D-Brooklyn) will be at the Flag Day Parade on Saturday\, June 12 at 10 a.m. Contact us at poweshiekdems@gmail.com to let us know you want to join us.
URL:https://www.powdems.com/event/flag-day-parade-in-brooklyn-2
LOCATION:Brooklyn\, IA
END:VEVENT
BEGIN:VEVENT
DTSTART;TZID=America/Chicago:20210602T190000
DTEND;TZID=America/Chicago:20210602T203000
DTSTAMP:20260423T174247
CREATED:20210528T191007Z
LAST-MODIFIED:20210528T191256Z
UID:1806-1622660400-1622665800@www.powdems.com
SUMMARY:Heart of Iowa Event with Deidre DeJear
DESCRIPTION:The Heart of Iowa Democrats will host Deidre DeJear\, the Democrats’ 2018 nominee for Secretary of State\, for a discussion on voting rights and redistricting on Wednesday\, June 2 at 7 p.m. RSVP here and we will send you the Zoom link before June 2.
URL:https://www.powdems.com/event/heart-of-iowa-events-with-deidre-dejear
LOCATION:Zoom
END:VEVENT
BEGIN:VEVENT
DTSTART;TZID=America/Chicago:20210525T190000
DTEND;TZID=America/Chicago:20210525T210000
DTSTAMP:20260423T174247
CREATED:20210513T140601Z
LAST-MODIFIED:20210513T140601Z
UID:1790-1621969200-1621976400@www.powdems.com
SUMMARY:Monthly Meeting for May
DESCRIPTION:The Poweshiek County Democrats’ monthly meeting for May will take place on Zoom on Tuesday\, May 25 at 7 p.m. \n  \nAnyone who supports Democratic Party candidates in Poweshiek County is welcome to attend — e-mail us and we will send you the Zoom link.
URL:https://www.powdems.com/event/monthly-meeting-for-may
LOCATION:Zoom
CATEGORIES:Central Committee
END:VEVENT
BEGIN:VEVENT
DTSTART;TZID=America/Chicago:20210505T190000
DTEND;TZID=America/Chicago:20210505T200000
DTSTAMP:20260423T174247
CREATED:20210428T141239Z
LAST-MODIFIED:20210428T142201Z
UID:1783-1620241200-1620244800@www.powdems.com
SUMMARY:Heart of Iowa Democrats Conversation with State Democratic Party Chair Ross Wilburn
DESCRIPTION:Iowa Democratic Party Chair Ross Wilburn will speak to the Heart of Iowa Democrats via Zoom on Wednesday\, May 5 at 7 p.m. This is an opportunity to have your questions about the direction of the Iowa Democratic Party answered by the person leading the party through the 2022 elections. \nYou can register for the event (and submit your questions) here and we will send you the Zoom link before May 5.
URL:https://www.powdems.com/event/heart-of-iowa-democrats-conversation-with-state-democratic-party-chair-ross-wilburn
LOCATION:Zoom
END:VEVENT
BEGIN:VEVENT
DTSTART;TZID=America/Chicago:20210427T190000
DTEND;TZID=America/Chicago:20210427T203000
DTSTAMP:20260423T174247
CREATED:20210318T134801Z
LAST-MODIFIED:20210318T134801Z
UID:1777-1619550000-1619555400@www.powdems.com
SUMMARY:Central Committee Meeting
DESCRIPTION:The Poweshiek County Democrats’ monthly meeting for April will take place on Zoom on Tuesday\, April 27 at 7 p.m. \n  \nAnyone who supports Democratic Party candidates in Poweshiek County is welcome to attend — e-mail us and we will send you the Zoom link.
URL:https://www.powdems.com/event/central-committee-meeting-42
LOCATION:Zoom
CATEGORIES:Central Committee
END:VEVENT
BEGIN:VEVENT
DTSTART;TZID=America/Chicago:20210407T190000
DTEND;TZID=America/Chicago:20210407T203000
DTSTAMP:20260423T174247
CREATED:20210323T145551Z
LAST-MODIFIED:20210323T145551Z
UID:1779-1617822000-1617827400@www.powdems.com
SUMMARY:Heart of Iowa Democrats Event With JD Scholten & Glenn Hurst
DESCRIPTION:The Poweshiek Democrats’ Heart of Iowa Speaker Series continues on Wednesday\, April 7 at 7 p.m. with an event dedicated to organizing in rural Iowa. \nThe guests will be JD Scholten\, former congressional candidate for Iowa’s very rural (and very Republican) Fourth District\, and Glenn Hurst\, the chair of the Iowa Democratic Party’s rural caucus. We are excited to hear from JD and Glenn about what they learned in the last election cycle and what strategies they encourage candidates to pursue in 2022. \nRegister for the event here and we will send you the Zoom link before April 7.
URL:https://www.powdems.com/event/heart-of-iowa-democrats-event-with-jd-scholten-glenn-hurst
LOCATION:Zoom
CATEGORIES:Campaign,Education
END:VEVENT
BEGIN:VEVENT
DTSTART;TZID=America/Chicago:20210403T090000
DTEND;TZID=America/Chicago:20210403T100000
DTSTAMP:20260423T174247
CREATED:20210323T145724Z
LAST-MODIFIED:20210323T145724Z
UID:1781-1617440400-1617444000@www.powdems.com
SUMMARY:League of Women Voters Legislative Forum
DESCRIPTION:The League of Women Voters will host its final legislative coffee with Rep. Dave Maxwell (R-Gibson) and Sen. Dawn Driscoll (R-Williamsburg) on Zoom on Saturday\, April 3 at 9 a.m. You can register for the event here. (People who participated in the League’s forums in February and March are automatically registered for this April event.) \nThe League encourages people to submit questions for legislators in advance to GrinnellLWV@gmail.com by 5 p.m. on March 31. Priority will be given to questions that are submitted by this deadline.
URL:https://www.powdems.com/event/league-of-women-voters-legislative-forum
END:VEVENT
BEGIN:VEVENT
DTSTART;TZID=America/Chicago:20210323T190000
DTEND;TZID=America/Chicago:20210323T203000
DTSTAMP:20260423T174247
CREATED:20210318T133229Z
LAST-MODIFIED:20210323T144712Z
UID:1775-1616526000-1616531400@www.powdems.com
SUMMARY:Central Committee Meeting
DESCRIPTION:The Poweshiek County Democrats’ monthly meeting for March will take place on Zoom on Tuesday\, March 23 at 7 p.m. \n  \nAnyone who supports Democratic Party candidates in Poweshiek County is welcome to attend — e-mail us and we will send you the Zoom link.
URL:https://www.powdems.com/event/central-committee-meeting-41
LOCATION:Zoom
CATEGORIES:Central Committee
END:VEVENT
BEGIN:VEVENT
DTSTART;TZID=America/Chicago:20210311T190000
DTEND;TZID=America/Chicago:20210311T200000
DTSTAMP:20260423T174247
CREATED:20210219T161442Z
LAST-MODIFIED:20210219T161442Z
UID:1762-1615489200-1615492800@www.powdems.com
SUMMARY:League of Women Voters Forum with Grinnell Police Chief
DESCRIPTION:What does Police Chief Michael McClelland think is the most important issue facing the Grinnell Police Department right now?  Find out at a forum sponsored by the League of Women Voters and the Grinnell City Council on Thursday March 11 at 7 p.m. via Zoom. The event will be moderated by Marta Miller\, who will be conveying questions supplied by the audience.\n \nTo register for the conversation forum\, please use this registration link  \n\n\n\nThe League of Women Voters encourages you to submit questions in advance to GrinnellLWV@gmail.com.  The deadline for submitting questions via email is 5 p.m. on Monday March 8.  Attendees will be able to post questions in the Zoom chat while the event is underway\, but priority will be given to questions submitted in advance.
URL:https://www.powdems.com/event/league-of-women-voters-forum-with-grinnell-police-chief
LOCATION:Zoom
END:VEVENT
BEGIN:VEVENT
DTSTART;TZID=America/Chicago:20210306T090000
DTEND;TZID=America/Chicago:20210306T100000
DTSTAMP:20260423T174247
CREATED:20210219T160952Z
LAST-MODIFIED:20210219T160952Z
UID:1760-1615021200-1615024800@www.powdems.com
SUMMARY:League of Women Voters Forum with State Legislators
DESCRIPTION:The League of Women Voters will host a legislative coffee on Zoom on Saturday\, March 6 from 9 to 10 a.m. \n  \nState Senator Dawn Driscoll and State Representative Dave Maxwell will make brief remarks and then answer questions on issues expected to be considered by the Iowa Legislature in the current session.  Senator Driscoll represents Senate District 38 and Representative Maxwell represents House District 76\, both of which include Poweshiek County. \n  \nTo register for this event\, please use this registration link (also available at the Grinnell League of Women Voters Facebook page): \n  \nThe League of Women Voters encourages you to submit questions in advance to GrinnellLWV@gmail.com.  The deadline for submitting questions via email is 5 PM on the Wednesday before the event\, which will give legislators time to prepare answers.  Attendees will be able to post questions in the Zoom chat while the event is underway\, but priority will be given to questions submitted in advance.
URL:https://www.powdems.com/event/league-of-women-voters-forum-with-state-legislators-2
LOCATION:Zoom
CATEGORIES:Legislative Coffee
END:VEVENT
END:VCALENDAR