BEGIN:VCALENDAR
VERSION:2.0
PRODID:-// - ECPv6.13.2.1//NONSGML v1.0//EN
CALSCALE:GREGORIAN
METHOD:PUBLISH
X-ORIGINAL-URL:https://www.powdems.com
X-WR-CALDESC:Events for 
REFRESH-INTERVAL;VALUE=DURATION:PT1H
X-Robots-Tag:noindex
X-PUBLISHED-TTL:PT1H
BEGIN:VTIMEZONE
TZID:America/Chicago
BEGIN:DAYLIGHT
TZOFFSETFROM:-0600
TZOFFSETTO:-0500
TZNAME:CDT
DTSTART:20120311T080000
END:DAYLIGHT
BEGIN:STANDARD
TZOFFSETFROM:-0500
TZOFFSETTO:-0600
TZNAME:CST
DTSTART:20121104T070000
END:STANDARD
END:VTIMEZONE
BEGIN:VEVENT
DTSTART;TZID=America/Chicago:20120615T173000
DTEND;TZID=America/Chicago:20120615T210059
DTSTAMP:20260425T095329
CREATED:20120523T220752Z
LAST-MODIFIED:20120523T220752Z
UID:384-1339781400-1339794059@www.powdems.com
SUMMARY:13th Annual Iowa Democratic Party Hall of Fame Celebration
DESCRIPTION:The Hall of Fame Celebration will kick off our State Convention Weekend.  One of Poweshiek County’s own\, Grinnell College student Gracie Brandsgard\, will receive the Edward Campbell Rising Star Award. Our special Guest Host is Massachusetts Governor Deval Patrick.  Our inductees are Senator Jack Kibbie\, Outstanding Elected Official and Michael Gartner\, Outstanding Supporter. \nOur other honorees include: \n\nJoAnn Zimmerman (Dixon Terry Outstanding Activist)\nTom Henderson (Bob Creech Outstanding County Chair)\nLinda Nelson (Minnette Doderer Outstanding Leadership)\nBill Brauch (Jim Lodwick Outstanding SCC Member)\nGracie Brandsgard (Edward Campbell Rising Star Award)\n\nHere is the link that makes it easy to purchase tickets. My ask is that you assist us in putting together tables.  If you let Amy know the names by June 1\, she and Cari will make sure friends are seated together. \nPurchase Your 2012 HOF now! \nHall of Fame and State Convention Weekend will be another landmark in this remarkable 2012 election. I’m ready and I know you are too!  See you there! \n  \n\n13th Annual Iowa Democratic Party \nHall of Fame Celebration \nFriday\, June 15th \nCommunity Choice Credit Union Convention Center (Vets) \n5:30pm: Reception \n7:00pm: Program
URL:https://www.powdems.com/event/13th-annual-iowa-democratic-party-hall-of-fame-celebration
LOCATION:Community Choice Credit Union Convention Center\, Des Moines\, Iowa\, Select a Country:
CATEGORIES:Fundraiser
END:VEVENT
BEGIN:VEVENT
DTSTART;TZID=America/Chicago:20120605T070000
DTEND;TZID=America/Chicago:20120605T210059
DTSTAMP:20260425T095329
CREATED:20120518T165231Z
LAST-MODIFIED:20120518T174321Z
UID:334-1338879600-1338930059@www.powdems.com
SUMMARY:Primary Election
DESCRIPTION:The Iowa Primary Election is Tuesday\, June 5. We will elect Democratic Candidates for Federal\, State\, and County offices. You must be a registered Democrat to participate in the primary election. \nTo find your polling place\, visit http://sos.iowa.gov/elections/voterreg/pollingplace/search.aspx.
URL:https://www.powdems.com/event/primary-election
LOCATION:Polling places countywide\, Poweshiek County\, Iowa\, Select a Country:
CATEGORIES:Election
ORGANIZER;CN="Diana Dawley%2C County Auditor":MAILTO:ddawley@poweshiekcounty.org
END:VEVENT
BEGIN:VEVENT
DTSTART;TZID=America/Chicago:20120524T163000
DTEND;TZID=America/Chicago:20120524T180059
DTSTAMP:20260425T095329
CREATED:20120523T214747Z
LAST-MODIFIED:20120523T214747Z
UID:378-1337877000-1337882459@www.powdems.com
SUMMARY:President Obama grassroots event
DESCRIPTION:Obama for America Iowa announced that President Obama will hold the May 24th grassroots event at the Paul R. Knapp Animal Learning Center at the Iowa State Fairgrounds in Des Moines. Thursday’s event is the President’s first campaign grassroots event in Iowa of this election cycle. \nThe grassroots event is open to the public\, and no tickets are required. Space will be first come\, first served. Doors will open at 4:30 PM CST. The address for the Iowa State Fairgrounds is 3000 East Grand Ave.\, Des Moines\, IA 50317\, and guests should enter using the main entrance to the fair grounds at the intersection of East 30th St. and East Grand Ave. \n“We are excited President Obama is coming back to host a grassroots event in Iowa\,” said State Treasurer Mike Fitzgerald. “In Iowa\, we have seen firsthand the choice in November as the President is fighting for the middle class and creating a pro-growth economy that is built to last and Mitt Romney\, whose economic theories are based on outsourcing and tax breaks for the wealthy and biggest corporations that undercut middle class Iowans.”
URL:https://www.powdems.com/event/president-obama-grassroots-event
LOCATION:Paul R. Knapp Animal Learning Center at the Iowa State Fairgrounds\, 3000 East Grand Ave\, Des Moines\, Iowa\, 50317\, Select a Country:
CATEGORIES:Campaign
END:VEVENT
BEGIN:VEVENT
DTSTART;TZID=America/Chicago:20120522T180000
DTEND;TZID=America/Chicago:20120522T200059
DTSTAMP:20260425T095329
CREATED:20120518T163712Z
LAST-MODIFIED:20120518T164449Z
UID:358-1337709600-1337716859@www.powdems.com
SUMMARY:Central Committee Meeting
DESCRIPTION:Our next meeting will be Tuesday\, May 22\, at Pagliai’s Pizza\, 816 5th Ave.\, Grinnell. As usual\, optional dining at 6 p.m.; business meeting at 7 p.m. \nOur guest speakers will be: \n\nIowa Senator (District #38) Tom Rielly\nIowa Senate District # 38 Candidates:\n\nShelley Parbs\nLaForest Sherman\nNick Volk\n\n\nThese candidates will be “making closing arguments”\, bringing yard signs and Volunteer Sign-up Sheets to engage us in their campaigns.  Be ready to sign up and pitch in! \nOne item of Old Business to be addressed will be the upcoming summer parades and festivals throughout the county.  At our last meeting\, we briefly discussed new ways of doing these events—bicycle “posse”\, golf carts\, ATV’s\, floats\, tractor & flatbed trailer\, etc.  PLEASE be thinking of a novel way to attend these events as well as making it easier on our participants!  Remember Grinnell’s “death march” from Donaldson’s\, through town and on to Ahrens Park!  And the oh\, not so friendly Brooklyn hills and vales (LOOKS flat\, but it AIN’T!) \nTwo of the towns have “themes”—Montezuma: “Stars and Stripes Forever”;  Grinnell: “An Inventor’s Paradise”.  Most of you have children or grandchildren who may come up with some “groovy” ideas so we can have some fun with this! \nLuckily for all of us\, the festivities are a bit more spaced than previous years\, so we will have a short breather between performances.  We really need to be out in full force with placards for all of our Democratic candidates!  This is NOT the time to fold our sails and crawl off into obscurity!
URL:https://www.powdems.com/event/central-committee-meeting
LOCATION:Pagliai’s Pizza\, 816 5th Ave.\, Grinnell\, Iowa\, 50112\, United States
CATEGORIES:Central Committee
END:VEVENT
END:VCALENDAR