BEGIN:VCALENDAR
VERSION:2.0
PRODID:-// - ECPv6.13.2.1//NONSGML v1.0//EN
CALSCALE:GREGORIAN
METHOD:PUBLISH
X-ORIGINAL-URL:https://www.powdems.com
X-WR-CALDESC:Events for 
REFRESH-INTERVAL;VALUE=DURATION:PT1H
X-Robots-Tag:noindex
X-PUBLISHED-TTL:PT1H
BEGIN:VTIMEZONE
TZID:America/Chicago
BEGIN:DAYLIGHT
TZOFFSETFROM:-0600
TZOFFSETTO:-0500
TZNAME:CDT
DTSTART:20120311T080000
END:DAYLIGHT
BEGIN:STANDARD
TZOFFSETFROM:-0500
TZOFFSETTO:-0600
TZNAME:CST
DTSTART:20121104T070000
END:STANDARD
BEGIN:DAYLIGHT
TZOFFSETFROM:-0600
TZOFFSETTO:-0500
TZNAME:CDT
DTSTART:20130310T080000
END:DAYLIGHT
BEGIN:STANDARD
TZOFFSETFROM:-0500
TZOFFSETTO:-0600
TZNAME:CST
DTSTART:20131103T070000
END:STANDARD
BEGIN:DAYLIGHT
TZOFFSETFROM:-0600
TZOFFSETTO:-0500
TZNAME:CDT
DTSTART:20140309T080000
END:DAYLIGHT
BEGIN:STANDARD
TZOFFSETFROM:-0500
TZOFFSETTO:-0600
TZNAME:CST
DTSTART:20141102T070000
END:STANDARD
BEGIN:DAYLIGHT
TZOFFSETFROM:-0600
TZOFFSETTO:-0500
TZNAME:CDT
DTSTART:20150308T080000
END:DAYLIGHT
BEGIN:STANDARD
TZOFFSETFROM:-0500
TZOFFSETTO:-0600
TZNAME:CST
DTSTART:20151101T070000
END:STANDARD
BEGIN:DAYLIGHT
TZOFFSETFROM:-0600
TZOFFSETTO:-0500
TZNAME:CDT
DTSTART:20160313T080000
END:DAYLIGHT
BEGIN:STANDARD
TZOFFSETFROM:-0500
TZOFFSETTO:-0600
TZNAME:CST
DTSTART:20161106T070000
END:STANDARD
BEGIN:DAYLIGHT
TZOFFSETFROM:-0600
TZOFFSETTO:-0500
TZNAME:CDT
DTSTART:20170312T080000
END:DAYLIGHT
BEGIN:STANDARD
TZOFFSETFROM:-0500
TZOFFSETTO:-0600
TZNAME:CST
DTSTART:20171105T070000
END:STANDARD
END:VTIMEZONE
BEGIN:VEVENT
DTSTART;TZID=America/Chicago:20170328T190000
DTEND;TZID=America/Chicago:20170328T200000
DTSTAMP:20260425T084235
CREATED:20170306T205308Z
LAST-MODIFIED:20170310T140427Z
UID:638-1490727600-1490731200@www.powdems.com
SUMMARY:Poweshiek Cty. Central Committee
DESCRIPTION:The Poweshiek County Central Committee will meet on Tuesday\, March 28 at Pagliai’s Pizza in Grinnell at 7 p.m. This meeting is for Central Committee planning\, but is open to all interested Democrats. There will be more details to follow in the coming weeks.
URL:https://www.powdems.com/event/poweshiek-cty-central-committee
LOCATION:Pagliai’s Pizza\, 816 5th Ave.\, Grinnell\, Iowa\, 50112\, United States
CATEGORIES:Central Committee
END:VEVENT
BEGIN:VEVENT
DTSTART;TZID=America/Chicago:20170321T190000
DTEND;TZID=America/Chicago:20170321T200000
DTSTAMP:20260425T084235
CREATED:20170306T205200Z
LAST-MODIFIED:20170306T205200Z
UID:636-1490122800-1490126400@www.powdems.com
SUMMARY:George Drake - Constitution
DESCRIPTION:On Tuesday\, March 14 and Tuesday\, March 21\, there will be a two-part educational forum on the U.S. Constitution\, featuring a lecture and discussion by former Grinnell College President George Drake. Both events begin at 7:00 PM at the UCC Church in Grinnell.
URL:https://www.powdems.com/event/george-drake-constitution-2
LOCATION:UCC Church\, 902 Broad St.\, Grinnell\, IA\, 50112\, United States
END:VEVENT
BEGIN:VEVENT
DTSTART;VALUE=DATE:20170315
DTEND;VALUE=DATE:20170317
DTSTAMP:20260425T084235
CREATED:20170306T214406Z
LAST-MODIFIED:20170306T214406Z
UID:642-1489543200-1489629599@www.powdems.com
SUMMARY:#IdesOfTrump
DESCRIPTION:Wednesday\, March 15 is the “#Ides of Trump.” Several organizations are encouraging you to write directly to the president to oppose his policies (President Donald J. Trump\, 1600 Pennsylvania Avenue NW\, Washington DC\, 20050).
URL:https://www.powdems.com/event/idesoftrump
END:VEVENT
BEGIN:VEVENT
DTSTART;TZID=America/Chicago:20170314T190000
DTEND;TZID=America/Chicago:20170314T200000
DTSTAMP:20260425T084235
CREATED:20170306T205042Z
LAST-MODIFIED:20170306T205042Z
UID:632-1489518000-1489521600@www.powdems.com
SUMMARY:George Drake - Constitution
DESCRIPTION:On Tuesday\, March 14 and Tuesday\, March 21\, there will be a two-part educational forum on the U.S. Constitution\, featuring a lecture and discussion by former Grinnell College President George Drake. Both events begin at 7:00 PM at the UCC Church in Grinnell.
URL:https://www.powdems.com/event/george-drake-constitution
LOCATION:UCC Church\, 902 Broad St.\, Grinnell\, IA\, 50112\, United States
END:VEVENT
BEGIN:VEVENT
DTSTART;TZID=America/Chicago:20170314T190000
DTEND;TZID=America/Chicago:20170314T200000
DTSTAMP:20260425T084235
CREATED:20170306T204153Z
LAST-MODIFIED:20170306T204153Z
UID:630-1489518000-1489521600@www.powdems.com
SUMMARY:Bill Stowe - Drake Library
DESCRIPTION:On Tuesday\, March 14\, Bill Stowe\, the CEO of the Des Moines Water Works\, will be speaking at Drake Library in Grinnell at 7 p.m. Stowe is at the center of efforts to promote cleaner public water in Iowa\, and will talk about Republican Party efforts to dismantle the Des Moines Water Works and weaken protections in the state for safe drinking water.
URL:https://www.powdems.com/event/bill-stowe-drake-library
LOCATION:Drake Community Library\, 930 Park St.\, Grinnell\, IA\, 50112\, United States
END:VEVENT
BEGIN:VEVENT
DTSTART;TZID=America/Chicago:20170308T133000
DTEND;TZID=America/Chicago:20170308T143000
DTSTAMP:20260425T084235
CREATED:20170306T201952Z
LAST-MODIFIED:20170306T201952Z
UID:622-1488979800-1488983400@www.powdems.com
SUMMARY:Joni Ernst staffer in Montezuma
DESCRIPTION:On Wednesday\, March 8\, a staffer from Joni Ernst’s office will hold office hours at the Montezuma Public Library (500 E. Main Street\, Montezuma) from 1:30-2:30 p.m. Abby Griffith (abigailgriffith@gmail.com) is interested in coordinating a trip to Montezuma—please contact her if you’re interested in attending.
URL:https://www.powdems.com/event/joni-ernst-staffer-in-montezuma
LOCATION:Montezuma Public Library\, 500 E. Main Street\, Montezuma\, IA\, 50171\, United States
END:VEVENT
BEGIN:VEVENT
DTSTART;TZID=America/Chicago:20130817T100000
DTEND;TZID=America/Chicago:20130817T160000
DTSTAMP:20260425T084235
CREATED:20130526T183352Z
LAST-MODIFIED:20130526T183352Z
UID:506-1376733600-1376755200@www.powdems.com
SUMMARY:1st Congressional District Workshops
DESCRIPTION:Tri-County Democrats will be hosting the Off-Year Meeting/Fundraiser for 1st District at the Howard County Fairgrounds\, Cresco\, IA. \nSite includes a campground for those who would care to camp before & after the workshops. \nThis is a beautiful part of the state–lots to see: Luther College (Decorah)\, Clock Museum (Spillville) and several other parks and sights. \nPossible topics of workshops: “Taking the Plunge into Social Media”; “Successful Fund-Raising”; “Getting the Most from VAN (VoteBuilder)” \nMore info after June 22 Central Committee Meeting.
URL:https://www.powdems.com/event/1st-congressional-district-workshops
LOCATION:Howard County Fairgrounds\, Cresco\, IA\, United States
CATEGORIES:Central Committee,Fundraiser
END:VEVENT
BEGIN:VEVENT
DTSTART;TZID=America/Chicago:20130728T123000
DTEND;TZID=America/Chicago:20130728T143000
DTSTAMP:20260425T084235
CREATED:20130526T182310Z
LAST-MODIFIED:20130526T182310Z
UID:502-1375014600-1375021800@www.powdems.com
SUMMARY:PowDems Annual Potluck/Picnic
DESCRIPTION:Join us for our Annual Potluck/Picnic!  Bring your favorite food dish & table service.  We will be “cool” and out of the sun again this year–same place as last year’s event.  Ahrens Park “Day Care and Kitchens”\, Grinnell. \nWe plan to have a special guest speaker.
URL:https://www.powdems.com/event/powdems-annual-potluckpicnic
LOCATION:Ahrens Park Foundation\, 1510 Penrose St.\, Grinnell\, IA\, 50112\, United States
CATEGORIES:Central Committee
END:VEVENT
BEGIN:VEVENT
DTSTART;TZID=America/Chicago:20130716T080000
DTEND;TZID=America/Chicago:20130722T170000
DTSTAMP:20260425T084235
CREATED:20130526T181522Z
LAST-MODIFIED:20130526T181522Z
UID:501-1373961600-1374512400@www.powdems.com
SUMMARY:Poweshiek County Fair
DESCRIPTION:Week-long festivities at 4-H Fair–July 16 through July 22.
URL:https://www.powdems.com/event/poweshiek-county-fair
CATEGORIES:Community Service
END:VEVENT
BEGIN:VEVENT
DTSTART;TZID=America/Chicago:20130713T080000
DTEND;TZID=America/Chicago:20130713T170000
DTSTAMP:20260425T084235
CREATED:20130526T181350Z
LAST-MODIFIED:20130526T181350Z
UID:500-1373702400-1373734800@www.powdems.com
SUMMARY:Poweshiek County Fair\, Grinnell
DESCRIPTION:Poweshiek County 4-H Fair will be held July 13\, then July 16 – 22. \nPowDems may decide to have a table/booth for part or all of Fair. \nTo be discussed.
URL:https://www.powdems.com/event/poweshiek-county-fair-grinnell
CATEGORIES:Community Service
END:VEVENT
BEGIN:VEVENT
DTSTART;TZID=America/Chicago:20130704T170000
DTEND;TZID=America/Chicago:20130704T190000
DTSTAMP:20260425T084235
CREATED:20130526T181002Z
LAST-MODIFIED:20130526T181002Z
UID:498-1372957200-1372964400@www.powdems.com
SUMMARY:Parade--Grinnell
DESCRIPTION:4th of July Parade\, Grinnell \nParade begins at 5 pm.  More details later
URL:https://www.powdems.com/event/parade-grinnell
CATEGORIES:Community Service
END:VEVENT
BEGIN:VEVENT
DTSTART;TZID=America/Chicago:20130625T180000
DTEND;TZID=America/Chicago:20130625T200000
DTSTAMP:20260425T084235
CREATED:20130526T180802Z
LAST-MODIFIED:20130526T180802Z
UID:495-1372183200-1372190400@www.powdems.com
SUMMARY:PowDems Central Committee Meeting
DESCRIPTION:Our first “Out-and-About in the County” Central Committee Meeting of the year!  Join us at Holiday Spirits Bar and Grill\, at Holiday Lake\, Brooklyn. \nOPTIONAL Dining: 6 pm \nBusiness Meeting: 7 pm \nThis place has great food for a reasonable price!
URL:https://www.powdems.com/event/powdems-central-committee-meeting
LOCATION:Holiday Spirits Bar & Griill\, 3371 Holiday Lane\, Brooklyn (Holiday Lake)\, IA\, United States
CATEGORIES:Central Committee
END:VEVENT
BEGIN:VEVENT
DTSTART;TZID=America/Chicago:20130622T130000
DTEND;TZID=America/Chicago:20130622T150000
DTSTAMP:20260425T084235
CREATED:20130526T175952Z
LAST-MODIFIED:20130526T175952Z
UID:493-1371906000-1371913200@www.powdems.com
SUMMARY:1st Congressional District Central Committee
DESCRIPTION:1st District Central Committee will meet at Black Hawk Democratic HQ at 1 pm\, Saturday\, June 22\, 2013.  Affirmative Action Committee will meet at noon at the same venue.
URL:https://www.powdems.com/event/1st-congressional-district-central-committee
LOCATION:Black Hawk County Democratic HQ\, 512 Mulberry St.\, Waterloo\, IA\, United States
CATEGORIES:Central Committee
END:VEVENT
BEGIN:VEVENT
DTSTART;TZID=America/Chicago:20130528T180000
DTEND;TZID=America/Chicago:20130528T200000
DTSTAMP:20260425T084235
CREATED:20130526T174536Z
LAST-MODIFIED:20130526T174536Z
UID:487-1369764000-1369771200@www.powdems.com
SUMMARY:Central Committee Meeting
DESCRIPTION:Tuesday\, May 28–Pizza Ranch\, Grinnell \nOPTIONAL dining: 6 pm \nBusiness Meeting: 7 pm
URL:https://www.powdems.com/event/central-committee-meeting-11
LOCATION:Pizza Ranch\, Hwy 146 S.\, Grinnell\, IA\, United States
CATEGORIES:Central Committee
END:VEVENT
BEGIN:VEVENT
DTSTART;TZID=America/Chicago:20130326T180000
DTEND;TZID=America/Chicago:20130326T200000
DTSTAMP:20260425T084235
CREATED:20130120T171212Z
LAST-MODIFIED:20130120T171212Z
UID:473-1364320800-1364328000@www.powdems.com
SUMMARY:Central Committee Meeting
DESCRIPTION:PowDems Central Committee Meeting \nALL Democrats are welcome! \nOptional Dining: 6 pm \nBusiness Meeting: 7 pm \nPlace: TBA (To Be Arranged)
URL:https://www.powdems.com/event/central-committee-meeting-10
CATEGORIES:Central Committee
END:VEVENT
BEGIN:VEVENT
DTSTART;TZID=America/Chicago:20130305T070000
DTEND;TZID=America/Chicago:20130305T210000
DTSTAMP:20260425T084235
CREATED:20130120T171018Z
LAST-MODIFIED:20130120T171018Z
UID:472-1362466800-1362517200@www.powdems.com
SUMMARY:Special Election--Poweshiek County Treasurer
DESCRIPTION:VOTE AT ONE OF THREE VOTING CENTERS TODAY! \nManatt’s Center; Brooklyn\, IA \nMontezuma Public Library; Montezuma\, IA \nDrake Public Library; Grinnell\, IA \nHours: 7 am to 9 pm \nYou may vote at whichever center is the most convenient for YOU! \nVOTE!!
URL:https://www.powdems.com/event/special-election-poweshiek-county-treasurer
CATEGORIES:Election
END:VEVENT
BEGIN:VEVENT
DTSTART;TZID=America/Chicago:20130226T180000
DTEND;TZID=America/Chicago:20130226T200000
DTSTAMP:20260425T084235
CREATED:20130120T170524Z
LAST-MODIFIED:20130120T170524Z
UID:470-1361901600-1361908800@www.powdems.com
SUMMARY:Central Committee Meeting
DESCRIPTION:Optional Dining: 6 pm \nBusiness Meeting: 7 pm \nPlace: TBA (To Be Arranged)
URL:https://www.powdems.com/event/central-committee-meeting-9
LOCATION:TBA\, Select a Country:
CATEGORIES:Central Committee
END:VEVENT
BEGIN:VEVENT
DTSTART;TZID=America/Chicago:20130209T130000
DTEND;TZID=America/Chicago:20130209T150000
DTSTAMP:20260425T084235
CREATED:20130120T165857Z
LAST-MODIFIED:20130120T165857Z
UID:466-1360414800-1360422000@www.powdems.com
SUMMARY:1st District Central Committee Meeting
DESCRIPTION:
URL:https://www.powdems.com/event/1st-district-central-committee-meeting-2
LOCATION:Democratic HQ\, 510 - 512 Mulberry St.\, Waterloo\, IA\, United States
END:VEVENT
BEGIN:VEVENT
DTSTART;TZID=America/Chicago:20130202T090000
DTEND;TZID=America/Chicago:20130202T100000
DTSTAMP:20260425T084235
CREATED:20130123T183018Z
LAST-MODIFIED:20130123T183018Z
UID:483-1359795600-1359799200@www.powdems.com
SUMMARY:Legislative Forum
DESCRIPTION:The Grinnell League of Women Voters will hold its first 2013 Legislative Forum (featuring Poweshiek County’s legislators for Iowa House David Maxwell and Iowa Senate Tim Kapucian) at 9 am at the 1st Presbyterian Church\, Grinnell\, IA.  Bring your questions and concerns to present to your legislators!  This is your opportunity to have your voice heard by the people who make our laws!
URL:https://www.powdems.com/event/legislative-forum
LOCATION:1st Presbyterian Church\, 1025 5th Ave.\, Grinnell\, IA\, United States
CATEGORIES:Community Service
END:VEVENT
BEGIN:VEVENT
DTSTART;TZID=America/Chicago:20130122T190000
DTEND;TZID=America/Chicago:20130122T200000
DTSTAMP:20260425T084235
CREATED:20130120T165509Z
LAST-MODIFIED:20130120T165509Z
UID:464-1358881200-1358884800@www.powdems.com
SUMMARY:Central Committee Meeting
DESCRIPTION:Business meeting AFTER the Soup Supper!  7 pm to 8 pm.  Review of 2012 and goals for 2013.  PLEASE JOIN US!
URL:https://www.powdems.com/event/central-committee-meeting-8
LOCATION:1st Presbyterian Church\, 1025 5th Ave.\, Grinnell\, IA\, United States
END:VEVENT
BEGIN:VEVENT
DTSTART;TZID=America/Chicago:20130122T173000
DTEND;TZID=America/Chicago:20130122T190000
DTSTAMP:20260425T084235
CREATED:20130120T164815Z
LAST-MODIFIED:20130120T164815Z
UID:461-1358875800-1358881200@www.powdems.com
SUMMARY:SOUP'S ON!!
DESCRIPTION:Can’t decide what’s for dinner? \nJOIN US TUESDAY\, JANUARY 22\, 2013\, FOR OUR ANNUAL SOUP SUPPER! \nPlace: 1st Presbyterian Church\, Grinnell \nTime: 5:30 pm to 7:00 pm \nAdults: $10 \nStudents: $5 \nChildren Under 12: Free \n(Also accepting Annual Sustaining Contributions of $10 or more)
URL:https://www.powdems.com/event/soups-on
LOCATION:1st Presbyterian Church\, 1025 5th Ave.\, Grinnell\, IA\, 52211\, United States
CATEGORIES:Fundraiser
END:VEVENT
BEGIN:VEVENT
DTSTART;TZID=America/Chicago:20121126T180000
DTEND;TZID=America/Chicago:20121126T200059
DTSTAMP:20260425T084235
CREATED:20120518T164815Z
LAST-MODIFIED:20120518T164815Z
UID:368-1353952800-1353960059@www.powdems.com
SUMMARY:Central Committee meeting
DESCRIPTION:
URL:https://www.powdems.com/event/central-committee-meeting-7
CATEGORIES:Central Committee
END:VEVENT
BEGIN:VEVENT
DTSTART;TZID=America/Chicago:20121106T070000
DTEND;TZID=America/Chicago:20121106T210059
DTSTAMP:20260425T084235
CREATED:20120508T205610Z
LAST-MODIFIED:20120508T213005Z
UID:327-1352185200-1352235659@www.powdems.com
SUMMARY:Election Day
DESCRIPTION:Vote in the general election. To find your polling place\, visit https://sos.iowa.gov/elections/voterreg/pollingplace/search.aspx. \n 
URL:https://www.powdems.com/event/election-day
LOCATION:Multiple sites in Poweshiek County\, Iowa\, Select a Country:
CATEGORIES:Election
ORGANIZER;CN="State of Iowa":MAILTO:ddawley@poweshiekcounty.org 
END:VEVENT
BEGIN:VEVENT
DTSTART;TZID=America/Chicago:20121103T090000
DTEND;TZID=America/Chicago:20121103T120000
DTSTAMP:20260425T084235
CREATED:20121008T210126Z
LAST-MODIFIED:20121008T210126Z
UID:455-1351933200-1351944000@www.powdems.com
SUMMARY:Satellite Vote (Early Voting)
DESCRIPTION:Drake Community Library \n930 Park St. \nGrinnell\, IA
URL:https://www.powdems.com/event/satellite-vote-early-voting-4
LOCATION:Drake Community Library\, 930 Park St.\, Grinnell\, IA\, United States
CATEGORIES:Election
END:VEVENT
BEGIN:VEVENT
DTSTART;TZID=America/Chicago:20121024T090000
DTEND;TZID=America/Chicago:20121024T150000
DTSTAMP:20260425T084235
CREATED:20121008T205836Z
LAST-MODIFIED:20121008T205836Z
UID:452-1351069200-1351090800@www.powdems.com
SUMMARY:Satellite Vote (Early Voting)
DESCRIPTION:Grinnell Mutual Reinsurance Co. (GMRC) \n4215 Hwy 146 S \nGrinnell\, IA  50112
URL:https://www.powdems.com/event/satellite-vote-early-voting-3
LOCATION:Grinnell Mutual (GMRC)\, 4215 Hwy 146 S\, Grinnell\, IA\, 50112\, United States
CATEGORIES:Election
END:VEVENT
BEGIN:VEVENT
DTSTART;TZID=America/Chicago:20121023T180000
DTEND;TZID=America/Chicago:20121023T200000
DTSTAMP:20260425T084235
CREATED:20120518T164733Z
LAST-MODIFIED:20120926T125625Z
UID:367-1351015200-1351022400@www.powdems.com
SUMMARY:Central Committee meeting
DESCRIPTION:PowDems monthly meeting will be held at Pagliai’s Pizza\, 816 5th Ave.\, Grinnell\, IA.  Optional Dining at 6 pm; Business Meeting at 7 pm.  This is the last meeting prior to the General Election on November 6.  We will be fine tuning our end game!  Please turn out and get fired up to finish in fine style!
URL:https://www.powdems.com/event/central-committee-meeting-6
LOCATION:Pagliai’s Pizza\, 816 5th Ave.\, Grinnell\, IA\, 50112\, United States
CATEGORIES:Central Committee
ORGANIZER;CN="Poweshiek Democratic Party":MAILTO:poweshiekdems@gmail.com
END:VEVENT
BEGIN:VEVENT
DTSTART;TZID=America/Chicago:20121021T170000
DTEND;TZID=America/Chicago:20121021T190000
DTSTAMP:20260425T084235
CREATED:20121008T211029Z
LAST-MODIFIED:20121008T211029Z
UID:458-1350838800-1350846000@www.powdems.com
SUMMARY:BBQ Fundraiser
DESCRIPTION:BARBECUE  FUNDRAISER  SUPPER \n\nFor \n\nTom Kriegel \nCandidate for Poweshiek County Sheriff \n\nAnd \n\nLamoyne Gaard \nCandidate for County Supervisor \n\nSunday October 21\, 2012 \n5 to 7PM \nMalcom City Auditorium \n\nAdmission by Donation \n\nMenu \nAssorted barbecued meats\, salad\, chips\, cookies\, lemonade and coffee \n\nMusic provided by:  “Too Many Strings” \n\nCan’t attend but want to donate??  Please send checks written to your specific candidate to Virginia Davis\, PO Box 219\, Malcom\, Iowa\, 50157 \n\nSponsored by Poweshiek County Democratic Central Committee \nMore information: Virginia Davis 641-528-2506
URL:https://www.powdems.com/event/bbq-fundraiser
LOCATION:Malcom City Auditorium\, Malcom\, IA\, United States
CATEGORIES:Fundraiser
END:VEVENT
BEGIN:VEVENT
DTSTART;TZID=America/Chicago:20121019T120500
DTEND;TZID=America/Chicago:20121019T180000
DTSTAMP:20260425T084235
CREATED:20121008T205528Z
LAST-MODIFIED:20121008T205528Z
UID:449-1350648300-1350669600@www.powdems.com
SUMMARY:Satellite Vote (Early Voting)
DESCRIPTION:Hy-Vee (Grinnell) \n320 West St. S \nGrinnell\, IA
URL:https://www.powdems.com/event/satellite-vote-early-voting-2
LOCATION:Grinnell Hy-Vee\, 320 West St. S\, Grinnell\, IA\, 50112\, United States
CATEGORIES:Election
END:VEVENT
BEGIN:VEVENT
DTSTART;TZID=America/Chicago:20121017T110000
DTEND;TZID=America/Chicago:20121017T170000
DTSTAMP:20260425T084235
CREATED:20121008T205202Z
LAST-MODIFIED:20121008T205202Z
UID:446-1350471600-1350493200@www.powdems.com
SUMMARY:Satellite Vote (Early Voting)
DESCRIPTION:Rosenfield Center (Grinnell College) \n1115 8th Ave. \nGrinnell\, IA
URL:https://www.powdems.com/event/satellite-vote-early-voting
LOCATION:Rosenfield Center (Grinnell College)\, 1115 8th Ave.\, Grinnell\, IA\, 50112\, United States
CATEGORIES:Election
END:VEVENT
BEGIN:VEVENT
DTSTART;TZID=America/Chicago:20121010T110000
DTEND;TZID=America/Chicago:20121010T170000
DTSTAMP:20260425T084235
CREATED:20121008T204718Z
LAST-MODIFIED:20121008T204900Z
UID:443-1349866800-1349888400@www.powdems.com
SUMMARY:Satellite Vote (Early Voting)
DESCRIPTION:Harris Center (Grinnell College) \n1114 10th Ave. \nGrinnell\, IA
URL:https://www.powdems.com/event/satellite-vote
LOCATION:Harris Center (Grinnell College)\, 1114 10th Ave.\, Grinnell\, IA\, IA\, 50112\, United States
END:VEVENT
END:VCALENDAR