BEGIN:VCALENDAR
VERSION:2.0
PRODID:-// - ECPv6.13.2.1//NONSGML v1.0//EN
CALSCALE:GREGORIAN
METHOD:PUBLISH
X-ORIGINAL-URL:https://www.powdems.com
X-WR-CALDESC:Events for 
REFRESH-INTERVAL;VALUE=DURATION:PT1H
X-Robots-Tag:noindex
X-PUBLISHED-TTL:PT1H
BEGIN:VTIMEZONE
TZID:America/Chicago
BEGIN:DAYLIGHT
TZOFFSETFROM:-0600
TZOFFSETTO:-0500
TZNAME:CDT
DTSTART:20260308T080000
END:DAYLIGHT
BEGIN:STANDARD
TZOFFSETFROM:-0500
TZOFFSETTO:-0600
TZNAME:CST
DTSTART:20261101T070000
END:STANDARD
END:VTIMEZONE
BEGIN:VEVENT
DTSTART;TZID=America/Chicago:20260127T190000
DTEND;TZID=America/Chicago:20260127T203000
DTSTAMP:20260423T150636
CREATED:20260120T173842Z
LAST-MODIFIED:20260120T173842Z
UID:2015-1769540400-1769545800@www.powdems.com
SUMMARY:Monthly Meeting
DESCRIPTION:Our Central Committee meets on Tuesday\, January 27 at Pagliai’s Pizza in Grinnell (816 5th Avenue). Some of us will meet for dinner at 6 pm\, with the business meeting to begin at 7 pm. Anyone who supports Democrats is welcome to attend.
URL:https://www.powdems.com/event/monthly-meeting-6
LOCATION:Pagliai’s Pizza\, 816 5th Ave.\, Grinnell\, Iowa\, 50112\, United States
CATEGORIES:Central Committee
END:VEVENT
BEGIN:VEVENT
DTSTART;TZID=America/Chicago:20260202T190000
DTEND;TZID=America/Chicago:20260202T203000
DTSTAMP:20260423T150636
CREATED:20260112T142534Z
LAST-MODIFIED:20260112T142534Z
UID:2013-1770058800-1770064200@www.powdems.com
SUMMARY:2026 Annual Caucus Meeting
DESCRIPTION:The Poweshiek County Democratic Party will hold our annual caucus meetings on Monday\, February 2 at 7 pm. \nThese are meetings to elect neighborhood representatives to the party’s Central Committee\, learn more about this year’s elections\, and connect with fellow Democrats. \n  \nThere are two locations: \n  \nDrake Public Library\n930 Park Street\, Grinnell \nFor Democrats in Grinnell\, Montezuma\, and Searsboro \nAnd townships of Chester\, Jackson\, Grant\, Union\, Pleasant\, Scott\, Sugar Creek\, and Washington \n  \nBGM Elementary School Library\n1090 Jackson Street\, Brooklyn \nFor Democrats in Brooklyn\, Deep River\, Guernsey\, Malcom\, and Victor\nAnd the townships of Bear Creek\, Jefferson\, Lincoln\, Madison\, Sheridan\, and Warren \n  \nOpen to all registered Democrats in Poweshiek County\nYou can register as a Democrat at the meeting \n  \nContact us at poweshiekdems@gmail.com if you have any questions.
URL:https://www.powdems.com/event/2026-annual-caucus-meeting
LOCATION:IA
END:VEVENT
BEGIN:VEVENT
DTSTART;TZID=America/Chicago:20260210T170000
DTEND;TZID=America/Chicago:20260210T180000
DTSTAMP:20260423T150636
CREATED:20260129T141325Z
LAST-MODIFIED:20260129T141325Z
UID:2017-1770742800-1770746400@www.powdems.com
SUMMARY:Congressional Candidate Kathy Dolter in Grinnell
DESCRIPTION:US House candidate Kathy Dolter will visit with voters on Tuesday\, February 10 at 5 pm. This event is at Drake Library (930 Park Street) in Grinnell.
URL:https://www.powdems.com/event/congressional-candidate-kathy-dolter-in-grinnell
LOCATION:Drake Community Library\, 930 Park St.\, Grinnell\, IA\, 50112\, United States
CATEGORIES:Election
END:VEVENT
BEGIN:VEVENT
DTSTART;TZID=America/Chicago:20260212T173000
DTEND;TZID=America/Chicago:20260212T190000
DTSTAMP:20260423T150636
CREATED:20260129T142341Z
LAST-MODIFIED:20260205T152831Z
UID:2021-1770917400-1770922800@www.powdems.com
SUMMARY:Congressional Candidate Twedt-Ball in Grinnell
DESCRIPTION:US House candidate Clint Twedt-Ball will visit with voters in Grinnell on Thursday\, February 12 at 5:30 pm. This event will be held at Saints Rest Coffee (917 Broad Street).
URL:https://www.powdems.com/event/congressional-candidate-twedt-ball-in-grinnell
LOCATION:Saints Rest Coffee House\, 917 Broad St.\, Grinnell\, IA\, United States
CATEGORIES:Election
END:VEVENT
BEGIN:VEVENT
DTSTART;TZID=America/Chicago:20260224T190000
DTEND;TZID=America/Chicago:20260224T203000
DTSTAMP:20260423T150636
CREATED:20260129T141541Z
LAST-MODIFIED:20260129T141541Z
UID:2019-1771959600-1771965000@www.powdems.com
SUMMARY:Montly Meeting
DESCRIPTION:Our Central Committee meets on Tuesday\, February 24 at Pagliai’s Pizza in Grinnell (816 5th Avenue). Some of us will meet for dinner at 6 pm\, with the business meeting to begin at 7 pm. Anyone who supports Democrats is welcome to attend.
URL:https://www.powdems.com/event/montly-meeting
LOCATION:Pagliai’s Pizza\, 816 5th Ave.\, Grinnell\, Iowa\, 50112\, United States
CATEGORIES:Central Committee
END:VEVENT
BEGIN:VEVENT
DTSTART;TZID=America/Chicago:20260321T100000
DTEND;TZID=America/Chicago:20260321T120000
DTSTAMP:20260423T150636
CREATED:20260226T131541Z
LAST-MODIFIED:20260226T131654Z
UID:2027-1774087200-1774094400@www.powdems.com
SUMMARY:County Convention
DESCRIPTION:The Poweshiek Democrats County Convention is on Saturday\, March 21 at 10 am at Drake Library in Grinnell (930 Park Street). \nDelegates were elected at our February 2 caucus meetings\, and the convention is open to the public. \nContact us at poweshiekdems@gmail.com with any questions.
URL:https://www.powdems.com/event/county-convention-2
LOCATION:Drake Community Library\, 930 Park St.\, Grinnell\, IA\, 50112\, United States
END:VEVENT
BEGIN:VEVENT
DTSTART;TZID=America/Chicago:20260324T190000
DTEND;TZID=America/Chicago:20260324T203000
DTSTAMP:20260423T150636
CREATED:20260226T131253Z
LAST-MODIFIED:20260226T131253Z
UID:2025-1774378800-1774384200@www.powdems.com
SUMMARY:Monthly Meeting
DESCRIPTION:Our Central Committee meets on Tuesday\, March 24 at Pagliai’s Pizza in Grinnell (816 5th Avenue). Some of us will meet for dinner at 6 pm\, with the business meeting to begin at 7 pm. Anyone who supports Democrats is welcome to attend.
URL:https://www.powdems.com/event/monthly-meeting-7
LOCATION:Pagliai’s Pizza\, 816 5th Ave.\, Grinnell\, Iowa\, 50112\, United States
CATEGORIES:Central Committee
END:VEVENT
END:VCALENDAR