BEGIN:VCALENDAR
VERSION:2.0
PRODID:-// - ECPv6.13.2.1//NONSGML v1.0//EN
CALSCALE:GREGORIAN
METHOD:PUBLISH
X-ORIGINAL-URL:https://www.powdems.com
X-WR-CALDESC:Events for 
REFRESH-INTERVAL;VALUE=DURATION:PT1H
X-Robots-Tag:noindex
X-PUBLISHED-TTL:PT1H
BEGIN:VTIMEZONE
TZID:America/Chicago
BEGIN:DAYLIGHT
TZOFFSETFROM:-0600
TZOFFSETTO:-0500
TZNAME:CDT
DTSTART:20170312T080000
END:DAYLIGHT
BEGIN:STANDARD
TZOFFSETFROM:-0500
TZOFFSETTO:-0600
TZNAME:CST
DTSTART:20171105T070000
END:STANDARD
END:VTIMEZONE
BEGIN:VEVENT
DTSTART;TZID=America/Chicago:20170510T190000
DTEND;TZID=America/Chicago:20170510T200000
DTSTAMP:20260423T174247
CREATED:20170505T141154Z
LAST-MODIFIED:20170505T141154Z
UID:893-1494442800-1494446400@www.powdems.com
SUMMARY:Rod Blum Townhall
DESCRIPTION:May 10th – Cedar Falls High School Gym – 7PM\n1015 Division Street\, Cedar Falls\, IA\nRSVP\n*Please note only residents of the First Congressional District of Iowa will be admitted*\nRSVP and Photo ID Required for Entry\n\n\nFor those without or with limited internet access\, please contact Representative Blum’s Washington DC office at 202-225-2911 to RSVP.\n\n\nIf your photo ID does not reflect your current 1st District address\, please bring a utility bill or statement reflecting your current 1st District address along with your photo ID.\n\n\nInformation listed on ID must match the information provided on RSVP.\n\n\nChildren under 16 will be admitted without ID but still require RSVP.\n\n\nDoors will open 60 minutes prior to events\n\n\nNo backpacks\, signs\, banners\, or artificial noisemakers will be allowed into the event.
URL:https://www.powdems.com/event/rod-blum-townhall-3
LOCATION:Cedar Falls High School Gym\, 1015 Division Street\, Cedar Falls\, IA\, United States
CATEGORIES:Legislative Coffee
END:VEVENT
BEGIN:VEVENT
DTSTART;TZID=America/Chicago:20170509T190000
DTEND;TZID=America/Chicago:20170509T200000
DTSTAMP:20260423T174247
CREATED:20170505T140952Z
LAST-MODIFIED:20170505T141306Z
UID:889-1494356400-1494360000@www.powdems.com
SUMMARY:Rod Blum Townhall
DESCRIPTION:May 9th – Kirkwood Community College Johnson Hall Gym – 7PM\n6301 Kirkwood Boulevard SW\, Cedar Rapids\, IA\nRSVP\n*Please note only residents of the First Congressional District of Iowa will be admitted*\nRSVP and Photo ID Required for Entry\n\n\nFor those without or with limited internet access\, please contact Representative Blum’s Washington DC office at 202-225-2911 to RSVP.\n\n\nIf your photo ID does not reflect your current 1st District address\, please bring a utility bill or statement reflecting your current 1st District address along with your photo ID.\n\n\nInformation listed on ID must match the information provided on RSVP.\n\n\nChildren under 16 will be admitted without ID but still require RSVP.\n\n\nDoors will open 60 minutes prior to events\n\n\nNo backpacks\, signs\, banners\, or artificial noisemakers will be allowed into the event.
URL:https://www.powdems.com/event/rod-blum-townhall-2
LOCATION:Kirkwood Community College\, 6301 Kirkwood Boulevard SW\, Cedar Rapids\, IA\, United States
CATEGORIES:Legislative Coffee
END:VEVENT
BEGIN:VEVENT
DTSTART;TZID=America/Chicago:20170508T190000
DTEND;TZID=America/Chicago:20170508T200000
DTSTAMP:20260423T174247
CREATED:20170505T140732Z
LAST-MODIFIED:20170505T141013Z
UID:886-1494270000-1494273600@www.powdems.com
SUMMARY:Rod Blum Townhall
DESCRIPTION:May 8th – Dubuque Senior High School Nora Gym – 7PM\n1800 Clarke Drive\, Dubuque\, IA\nRSVP\n*Please note only residents of the First Congressional District of Iowa will be admitted*\nRSVP and Photo ID Required for Entry\n\n\nFor those without or with limited internet access\, please contact Representative Blum’s Washington DC office at 202-225-2911 to RSVP.\n\n\nIf your photo ID does not reflect your current 1st District address\, please bring a utility bill or statement reflecting your current 1st District address along with your photo ID.\n\n\nInformation listed on ID must match the information provided on RSVP.\n\n\nChildren under 16 will be admitted without ID but still require RSVP.\n\n\nDoors will open 60 minutes prior to events\n\n\nNo backpacks\, signs\, banners\, or artificial noisemakers will be allowed into the event.
URL:https://www.powdems.com/event/rod-blum-townhall
LOCATION:Dubuque Senior High School\, Dubuque IA\, Dubuque\, United States
CATEGORIES:Legislative Coffee
END:VEVENT
BEGIN:VEVENT
DTSTART;TZID=America/Chicago:20170401T083000
DTEND;TZID=America/Chicago:20170401T100000
DTSTAMP:20260423T174247
CREATED:20170320T135741Z
LAST-MODIFIED:20170327T184955Z
UID:812-1491035400-1491040800@www.powdems.com
SUMMARY:Legislative Coffee with Maxwell & Kapucian
DESCRIPTION:On Saturday\, April 1\, the League of Women Voters and the Chamber of Commerce will co-sponsor a third legislative coffee with Rep. Dave Maxwell and Sen. Tim Kapucian at 8:30 AM at the First Presbyterian Church.
URL:https://www.powdems.com/event/legislative-coffee-maxwell-kapucian
LOCATION:1st Presbyterian Church\, 1025 5th Ave.\, Grinnell\, IA\, 52211\, United States
CATEGORIES:Legislative Coffee
END:VEVENT
END:VCALENDAR