BEGIN:VCALENDAR
VERSION:2.0
PRODID:-// - ECPv6.13.2.1//NONSGML v1.0//EN
CALSCALE:GREGORIAN
METHOD:PUBLISH
X-ORIGINAL-URL:https://www.powdems.com
X-WR-CALDESC:Events for 
REFRESH-INTERVAL;VALUE=DURATION:PT1H
X-Robots-Tag:noindex
X-PUBLISHED-TTL:PT1H
BEGIN:VTIMEZONE
TZID:America/Chicago
BEGIN:DAYLIGHT
TZOFFSETFROM:-0600
TZOFFSETTO:-0500
TZNAME:CDT
DTSTART:20170312T080000
END:DAYLIGHT
BEGIN:STANDARD
TZOFFSETFROM:-0500
TZOFFSETTO:-0600
TZNAME:CST
DTSTART:20171105T070000
END:STANDARD
BEGIN:DAYLIGHT
TZOFFSETFROM:-0600
TZOFFSETTO:-0500
TZNAME:CDT
DTSTART:20180311T080000
END:DAYLIGHT
BEGIN:STANDARD
TZOFFSETFROM:-0500
TZOFFSETTO:-0600
TZNAME:CST
DTSTART:20181104T070000
END:STANDARD
BEGIN:DAYLIGHT
TZOFFSETFROM:-0600
TZOFFSETTO:-0500
TZNAME:CDT
DTSTART:20190310T080000
END:DAYLIGHT
BEGIN:STANDARD
TZOFFSETFROM:-0500
TZOFFSETTO:-0600
TZNAME:CST
DTSTART:20191103T070000
END:STANDARD
BEGIN:DAYLIGHT
TZOFFSETFROM:-0600
TZOFFSETTO:-0500
TZNAME:CDT
DTSTART:20200308T080000
END:DAYLIGHT
BEGIN:STANDARD
TZOFFSETFROM:-0500
TZOFFSETTO:-0600
TZNAME:CST
DTSTART:20201101T070000
END:STANDARD
BEGIN:DAYLIGHT
TZOFFSETFROM:-0600
TZOFFSETTO:-0500
TZNAME:CDT
DTSTART:20210314T080000
END:DAYLIGHT
BEGIN:STANDARD
TZOFFSETFROM:-0500
TZOFFSETTO:-0600
TZNAME:CST
DTSTART:20211107T070000
END:STANDARD
BEGIN:DAYLIGHT
TZOFFSETFROM:-0600
TZOFFSETTO:-0500
TZNAME:CDT
DTSTART:20220313T080000
END:DAYLIGHT
BEGIN:STANDARD
TZOFFSETFROM:-0500
TZOFFSETTO:-0600
TZNAME:CST
DTSTART:20221106T070000
END:STANDARD
BEGIN:DAYLIGHT
TZOFFSETFROM:-0600
TZOFFSETTO:-0500
TZNAME:CDT
DTSTART:20230312T080000
END:DAYLIGHT
BEGIN:STANDARD
TZOFFSETFROM:-0500
TZOFFSETTO:-0600
TZNAME:CST
DTSTART:20231105T070000
END:STANDARD
BEGIN:DAYLIGHT
TZOFFSETFROM:-0600
TZOFFSETTO:-0500
TZNAME:CDT
DTSTART:20240310T080000
END:DAYLIGHT
BEGIN:STANDARD
TZOFFSETFROM:-0500
TZOFFSETTO:-0600
TZNAME:CST
DTSTART:20241103T070000
END:STANDARD
BEGIN:DAYLIGHT
TZOFFSETFROM:-0600
TZOFFSETTO:-0500
TZNAME:CDT
DTSTART:20250309T080000
END:DAYLIGHT
BEGIN:STANDARD
TZOFFSETFROM:-0500
TZOFFSETTO:-0600
TZNAME:CST
DTSTART:20251102T070000
END:STANDARD
END:VTIMEZONE
BEGIN:VEVENT
DTSTART;TZID=America/Chicago:20250412T100000
DTEND;TZID=America/Chicago:20250412T110000
DTSTAMP:20260423T174203
CREATED:20250409T173711Z
LAST-MODIFIED:20250409T173711Z
UID:1979-1744452000-1744455600@www.powdems.com
SUMMARY:Legislative Coffee in Grinnell
DESCRIPTION:The League of Women Voters will host our State Senator Annette Sweeney (R) for a Legislative Coffee on Saturday\, April 12 at 10 am at the Drake Library in Grinnell (930 Park Street). This forum will also be broadcast on Zoom — register here. Dean Fisher\, our state representative\, has refused to participate in League of Women Voters forums since 2023. \nYou can email questions for Senator Sweeney to GrinnellLWV@gmail.com by 5 pm today (April 9). There may also be an opportunity to ask Senator Sweeney questions\, but the League gives priority to questions submitted by email in advance.
URL:https://www.powdems.com/event/legislative-coffee-in-grinnell
LOCATION:Drake Community Library\, 930 Park St.\, Grinnell\, IA\, 50112\, United States
CATEGORIES:Legislative Coffee
END:VEVENT
BEGIN:VEVENT
DTSTART;TZID=America/Chicago:20240309T100000
DTEND;TZID=America/Chicago:20240309T113000
DTSTAMP:20260423T174203
CREATED:20240228T163439Z
LAST-MODIFIED:20240228T163439Z
UID:1912-1709978400-1709983800@www.powdems.com
SUMMARY:League of Women Voters Legislative Forum
DESCRIPTION:It is almost time for the League of Women Voters March Legislative Coffee.  It will be held on March 9 at 10 am at the Drake Community Library in Grinnell. Unfortunately\, Representative Dean Fisher has declined our offer to participate\, and Senator Annette Sweeney will not be able to attend this month due to a prior engagement. \nDue to these circumstances\, we will be viewing and then practicing how to follow bills on the legislative website using the video “Navigating the Iowa State Legislative Website” produced by the Johnson County League of Women Voters. We will also discuss bills currently in play at the legislature and how to contact legislators regarding the bills important to you. We invite everyone to bring their own laptop if they would like to participate “hands on” during this Coffee.
URL:https://www.powdems.com/event/league-of-women-voters-legislative-forum-2
LOCATION:Drake Community Library\, 930 Park St.\, Grinnell\, IA\, 50112\, United States
CATEGORIES:Legislative Coffee
END:VEVENT
BEGIN:VEVENT
DTSTART;TZID=America/Chicago:20220205T090000
DTEND;TZID=America/Chicago:20220205T100000
DTSTAMP:20260423T174203
CREATED:20220128T162357Z
LAST-MODIFIED:20220128T162357Z
UID:1861-1644051600-1644055200@www.powdems.com
SUMMARY:Forum with State Representative Dave Maxwell
DESCRIPTION:The Grinnell League of Women Voters will host Poweshiek County’s State Rep. Dave Maxwell (R-Gibson) for a forum with constituents on Zoom on Saturday\, February 5 at 9 a.m. Sign up HERE. \nThe League encourages you to submit questions for Rep. Maxwell to GrinnellLWV@gmail.com by Thursday\, Feb. 3 at 5 p.m.  Questions will not be shared with anyone before the event.
URL:https://www.powdems.com/event/forum-with-state-representative-dave-maxwell
LOCATION:IA
CATEGORIES:Legislative Coffee
END:VEVENT
BEGIN:VEVENT
DTSTART;TZID=America/Chicago:20210306T090000
DTEND;TZID=America/Chicago:20210306T100000
DTSTAMP:20260423T174203
CREATED:20210219T160952Z
LAST-MODIFIED:20210219T160952Z
UID:1760-1615021200-1615024800@www.powdems.com
SUMMARY:League of Women Voters Forum with State Legislators
DESCRIPTION:The League of Women Voters will host a legislative coffee on Zoom on Saturday\, March 6 from 9 to 10 a.m. \n  \nState Senator Dawn Driscoll and State Representative Dave Maxwell will make brief remarks and then answer questions on issues expected to be considered by the Iowa Legislature in the current session.  Senator Driscoll represents Senate District 38 and Representative Maxwell represents House District 76\, both of which include Poweshiek County. \n  \nTo register for this event\, please use this registration link (also available at the Grinnell League of Women Voters Facebook page): \n  \nThe League of Women Voters encourages you to submit questions in advance to GrinnellLWV@gmail.com.  The deadline for submitting questions via email is 5 PM on the Wednesday before the event\, which will give legislators time to prepare answers.  Attendees will be able to post questions in the Zoom chat while the event is underway\, but priority will be given to questions submitted in advance.
URL:https://www.powdems.com/event/league-of-women-voters-forum-with-state-legislators-2
LOCATION:Zoom
CATEGORIES:Legislative Coffee
END:VEVENT
BEGIN:VEVENT
DTSTART;TZID=America/Chicago:20210206T090000
DTEND;TZID=America/Chicago:20210206T100000
DTSTAMP:20260423T174203
CREATED:20210121T152024Z
LAST-MODIFIED:20210121T152024Z
UID:1755-1612602000-1612605600@www.powdems.com
SUMMARY:League of Women Voters Forum with State Legislators
DESCRIPTION:The League of Women Voters will host a legislative coffee on Zoom on Saturday\, February 6 from 9 to 10 a.m. \n  \nState Senator Dawn Driscoll and State Representative Dave Maxwell will make brief remarks and then answer questions on issues expected to be considered by the Iowa Legislature in the current session.  Senator Driscoll represents Senate District 38 and Representative Maxwell represents House District 76\, both of which include Poweshiek County. \n  \nTo register for this event\, please use this registration link (also available at the Grinnell League of Women Voters Facebook page): \n  \nThe League of Women Voters encourages you to submit questions in advance to GrinnellLWV@gmail.com.  The deadline for submitting questions via email is 5 PM on the Wednesday before each event\, which will give legislators time to prepare answers.  Attendees will be able to post questions in the Zoom chat while the event is underway\, but priority will be given to questions submitted in advance.
URL:https://www.powdems.com/event/league-of-women-voters-forum-with-state-legislators
LOCATION:IA
CATEGORIES:Legislative Coffee
END:VEVENT
BEGIN:VEVENT
DTSTART;TZID=America/Chicago:20190406T090000
DTEND;TZID=America/Chicago:20190406T100000
DTSTAMP:20260423T174203
CREATED:20190131T024439Z
LAST-MODIFIED:20190131T024439Z
UID:1352-1554541200-1554544800@www.powdems.com
SUMMARY:League of Women Voters Forum with Legislators
DESCRIPTION:The League of Women Voters will host a legislative forum with Representative Dave Maxwell and State Senator Tim Kapucian on Saturday\, April 6 at 9 a.m. in Grinnell’s First Presbyterian Church (1025 5th Avenue). This is a great opportunity to raise concerns you have about the Iowa budget or to ask for updates on promises Maxwell and Kapucian have made during elections.
URL:https://www.powdems.com/event/league-of-women-voters-forum-with-legislators-3
LOCATION:IA
CATEGORIES:Legislative Coffee
END:VEVENT
BEGIN:VEVENT
DTSTART;TZID=America/Chicago:20190302T090000
DTEND;TZID=America/Chicago:20190302T100000
DTSTAMP:20260423T174203
CREATED:20190131T024212Z
LAST-MODIFIED:20190131T024212Z
UID:1350-1551517200-1551520800@www.powdems.com
SUMMARY:League of Women Voters Forum with Legislators
DESCRIPTION:The League of Women Voters will host a legislative forum with Representative Dave Maxwell and State Senator Tim Kapucian on Saturday\, March 2 at 9 a.m. in Grinnell’s First Presbyterian Church (1025 5th Avenue). This is a great opportunity to raise concerns you have about the Iowa budget or to ask for updates on promises Maxwell and Kapucian have made during elections.
URL:https://www.powdems.com/event/league-of-women-voters-forum-with-legislators-2
LOCATION:1st Presbyterian Church\, 1025 5th Ave.\, Grinnell\, IA\, 52211\, United States
CATEGORIES:Legislative Coffee
END:VEVENT
BEGIN:VEVENT
DTSTART;TZID=America/Chicago:20180407T090000
DTEND;TZID=America/Chicago:20180407T100000
DTSTAMP:20260423T174203
CREATED:20180403T165920Z
LAST-MODIFIED:20180403T165920Z
UID:1120-1523091600-1523095200@www.powdems.com
SUMMARY:Legislative Coffee with State Representatives
DESCRIPTION:The Grinnell League of Women Voters will host a legislative coffee at Grinnell’s First Presbyterian Church (1025 5th Avenue) on Saturday\, April 7 at 9 a.m. The forum will feature Jerry Foxhoven\, director of Iowa’s Department of Human Services\, who will answer questions on his department’s management of the foster care and Medicaid systems. State Senator Tim Kapucian and Representative Dave Maxwell plan to attend if the legislative schedule permits.
URL:https://www.powdems.com/event/legislative-coffee-with-state-representatives
LOCATION:1st Presbyterian Church\, 1025 5th Ave.\, Grinnell\, IA\, 52211\, United States
CATEGORIES:Legislative Coffee
END:VEVENT
BEGIN:VEVENT
DTSTART;TZID=America/Chicago:20180203T090000
DTEND;TZID=America/Chicago:20180203T100000
DTSTAMP:20260423T174203
CREATED:20180129T150216Z
LAST-MODIFIED:20180129T151201Z
UID:1065-1517648400-1517652000@www.powdems.com
SUMMARY:Forum with State Senator Tim Kapucian and State Representative Dave Maxwell
DESCRIPTION:This is your opportunity to present questions to State Senator Tim Kapucian and State Representative Dave Maxwell\, the Republicans who represent Poweshiek County at the State Capitol.
URL:https://www.powdems.com/event/voter-forum-state-senator-tim-kapucian-state-representative-dave-maxwell
LOCATION:IA
CATEGORIES:Legislative Coffee
END:VEVENT
BEGIN:VEVENT
DTSTART;TZID=America/Chicago:20170511T120000
DTEND;TZID=America/Chicago:20170511T130000
DTSTAMP:20260423T174203
CREATED:20170505T144045Z
LAST-MODIFIED:20170505T144045Z
UID:897-1494504000-1494507600@www.powdems.com
SUMMARY:Rod Blum Townhall
DESCRIPTION:Congressman Rod Blum will be hosting a town hall at 12PM on Thursday\, May 11th in in Marshalltown at Babe Harder Gym on the campus of Marshalltown Community College. \nPlease note that entry will be reserved to constituents of Iowa’s 1st District. To verify residency\, please RSVP here and bring a photo ID to the town hall. Ticket and photo ID will be required for entry. \n\nInformation provided on registration ticket must match address on photo ID.\nIf your photo ID does not reflect your current 1st District address\, please bring a utility bill or statement reflecting your current 1st District address along with your photo ID.\nChildren under 16 will be admitted without ID but still require RSVP.\nIdentification and RSVP confirmation tickets will be verified at the door and are required to enter the venue.\nFor those without or with limited internet access\, please contact Representative Blum’s Washington DC office at 202-225-2911 to RSVP.\nNo backpacks\, signs\, banners\, or artificial noisemakers will be allowed into the event.\nDoors will open at 11:00 AM\nMembers of the Press Should RSVP to blum.townhall@mail.house.gov
URL:https://www.powdems.com/event/rod-blum-townhall-4
LOCATION:Marshalltown Community College\, 3700 South Center Street\, Marshalltown\, IA\, United States
CATEGORIES:Legislative Coffee
END:VEVENT
BEGIN:VEVENT
DTSTART;TZID=America/Chicago:20170510T190000
DTEND;TZID=America/Chicago:20170510T200000
DTSTAMP:20260423T174203
CREATED:20170505T141154Z
LAST-MODIFIED:20170505T141154Z
UID:893-1494442800-1494446400@www.powdems.com
SUMMARY:Rod Blum Townhall
DESCRIPTION:May 10th – Cedar Falls High School Gym – 7PM\n1015 Division Street\, Cedar Falls\, IA\nRSVP\n*Please note only residents of the First Congressional District of Iowa will be admitted*\nRSVP and Photo ID Required for Entry\n\n\nFor those without or with limited internet access\, please contact Representative Blum’s Washington DC office at 202-225-2911 to RSVP.\n\n\nIf your photo ID does not reflect your current 1st District address\, please bring a utility bill or statement reflecting your current 1st District address along with your photo ID.\n\n\nInformation listed on ID must match the information provided on RSVP.\n\n\nChildren under 16 will be admitted without ID but still require RSVP.\n\n\nDoors will open 60 minutes prior to events\n\n\nNo backpacks\, signs\, banners\, or artificial noisemakers will be allowed into the event.
URL:https://www.powdems.com/event/rod-blum-townhall-3
LOCATION:Cedar Falls High School Gym\, 1015 Division Street\, Cedar Falls\, IA\, United States
CATEGORIES:Legislative Coffee
END:VEVENT
BEGIN:VEVENT
DTSTART;TZID=America/Chicago:20170509T190000
DTEND;TZID=America/Chicago:20170509T200000
DTSTAMP:20260423T174203
CREATED:20170505T140952Z
LAST-MODIFIED:20170505T141306Z
UID:889-1494356400-1494360000@www.powdems.com
SUMMARY:Rod Blum Townhall
DESCRIPTION:May 9th – Kirkwood Community College Johnson Hall Gym – 7PM\n6301 Kirkwood Boulevard SW\, Cedar Rapids\, IA\nRSVP\n*Please note only residents of the First Congressional District of Iowa will be admitted*\nRSVP and Photo ID Required for Entry\n\n\nFor those without or with limited internet access\, please contact Representative Blum’s Washington DC office at 202-225-2911 to RSVP.\n\n\nIf your photo ID does not reflect your current 1st District address\, please bring a utility bill or statement reflecting your current 1st District address along with your photo ID.\n\n\nInformation listed on ID must match the information provided on RSVP.\n\n\nChildren under 16 will be admitted without ID but still require RSVP.\n\n\nDoors will open 60 minutes prior to events\n\n\nNo backpacks\, signs\, banners\, or artificial noisemakers will be allowed into the event.
URL:https://www.powdems.com/event/rod-blum-townhall-2
LOCATION:Kirkwood Community College\, 6301 Kirkwood Boulevard SW\, Cedar Rapids\, IA\, United States
CATEGORIES:Legislative Coffee
END:VEVENT
BEGIN:VEVENT
DTSTART;TZID=America/Chicago:20170508T190000
DTEND;TZID=America/Chicago:20170508T200000
DTSTAMP:20260423T174203
CREATED:20170505T140732Z
LAST-MODIFIED:20170505T141013Z
UID:886-1494270000-1494273600@www.powdems.com
SUMMARY:Rod Blum Townhall
DESCRIPTION:May 8th – Dubuque Senior High School Nora Gym – 7PM\n1800 Clarke Drive\, Dubuque\, IA\nRSVP\n*Please note only residents of the First Congressional District of Iowa will be admitted*\nRSVP and Photo ID Required for Entry\n\n\nFor those without or with limited internet access\, please contact Representative Blum’s Washington DC office at 202-225-2911 to RSVP.\n\n\nIf your photo ID does not reflect your current 1st District address\, please bring a utility bill or statement reflecting your current 1st District address along with your photo ID.\n\n\nInformation listed on ID must match the information provided on RSVP.\n\n\nChildren under 16 will be admitted without ID but still require RSVP.\n\n\nDoors will open 60 minutes prior to events\n\n\nNo backpacks\, signs\, banners\, or artificial noisemakers will be allowed into the event.
URL:https://www.powdems.com/event/rod-blum-townhall
LOCATION:Dubuque Senior High School\, Dubuque IA\, Dubuque\, United States
CATEGORIES:Legislative Coffee
END:VEVENT
BEGIN:VEVENT
DTSTART;TZID=America/Chicago:20170401T083000
DTEND;TZID=America/Chicago:20170401T100000
DTSTAMP:20260423T174203
CREATED:20170320T135741Z
LAST-MODIFIED:20170327T184955Z
UID:812-1491035400-1491040800@www.powdems.com
SUMMARY:Legislative Coffee with Maxwell & Kapucian
DESCRIPTION:On Saturday\, April 1\, the League of Women Voters and the Chamber of Commerce will co-sponsor a third legislative coffee with Rep. Dave Maxwell and Sen. Tim Kapucian at 8:30 AM at the First Presbyterian Church.
URL:https://www.powdems.com/event/legislative-coffee-maxwell-kapucian
LOCATION:1st Presbyterian Church\, 1025 5th Ave.\, Grinnell\, IA\, 52211\, United States
CATEGORIES:Legislative Coffee
END:VEVENT
END:VCALENDAR