BEGIN:VCALENDAR
VERSION:2.0
PRODID:-// - ECPv6.13.2.1//NONSGML v1.0//EN
CALSCALE:GREGORIAN
METHOD:PUBLISH
X-ORIGINAL-URL:https://www.powdems.com
X-WR-CALDESC:Events for 
REFRESH-INTERVAL;VALUE=DURATION:PT1H
X-Robots-Tag:noindex
X-PUBLISHED-TTL:PT1H
BEGIN:VTIMEZONE
TZID:America/Chicago
BEGIN:DAYLIGHT
TZOFFSETFROM:-0600
TZOFFSETTO:-0500
TZNAME:CDT
DTSTART:20120311T080000
END:DAYLIGHT
BEGIN:STANDARD
TZOFFSETFROM:-0500
TZOFFSETTO:-0600
TZNAME:CST
DTSTART:20121104T070000
END:STANDARD
BEGIN:DAYLIGHT
TZOFFSETFROM:-0600
TZOFFSETTO:-0500
TZNAME:CDT
DTSTART:20130310T080000
END:DAYLIGHT
BEGIN:STANDARD
TZOFFSETFROM:-0500
TZOFFSETTO:-0600
TZNAME:CST
DTSTART:20131103T070000
END:STANDARD
BEGIN:DAYLIGHT
TZOFFSETFROM:-0600
TZOFFSETTO:-0500
TZNAME:CDT
DTSTART:20140309T080000
END:DAYLIGHT
BEGIN:STANDARD
TZOFFSETFROM:-0500
TZOFFSETTO:-0600
TZNAME:CST
DTSTART:20141102T070000
END:STANDARD
BEGIN:DAYLIGHT
TZOFFSETFROM:-0600
TZOFFSETTO:-0500
TZNAME:CDT
DTSTART:20150308T080000
END:DAYLIGHT
BEGIN:STANDARD
TZOFFSETFROM:-0500
TZOFFSETTO:-0600
TZNAME:CST
DTSTART:20151101T070000
END:STANDARD
BEGIN:DAYLIGHT
TZOFFSETFROM:-0600
TZOFFSETTO:-0500
TZNAME:CDT
DTSTART:20160313T080000
END:DAYLIGHT
BEGIN:STANDARD
TZOFFSETFROM:-0500
TZOFFSETTO:-0600
TZNAME:CST
DTSTART:20161106T070000
END:STANDARD
BEGIN:DAYLIGHT
TZOFFSETFROM:-0600
TZOFFSETTO:-0500
TZNAME:CDT
DTSTART:20170312T080000
END:DAYLIGHT
BEGIN:STANDARD
TZOFFSETFROM:-0500
TZOFFSETTO:-0600
TZNAME:CST
DTSTART:20171105T070000
END:STANDARD
BEGIN:DAYLIGHT
TZOFFSETFROM:-0600
TZOFFSETTO:-0500
TZNAME:CDT
DTSTART:20180311T080000
END:DAYLIGHT
BEGIN:STANDARD
TZOFFSETFROM:-0500
TZOFFSETTO:-0600
TZNAME:CST
DTSTART:20181104T070000
END:STANDARD
END:VTIMEZONE
BEGIN:VEVENT
DTSTART;TZID=America/Chicago:20180206T070000
DTEND;TZID=America/Chicago:20180206T200000
DTSTAMP:20260423T214304
CREATED:20180107T165418Z
LAST-MODIFIED:20180118T182350Z
UID:1039-1517900400-1517947200@www.powdems.com
SUMMARY:Grinnell-Newburg School Bond Election
DESCRIPTION:Residents of the Grinnell-Newburg School District will vote on a School Bond proposal on Tuesday\, February 6. Information about the bond is available here. \nVoting will take place on Tuesday\, February 6 from 7 a.m. to 8 p.m. at the Elks Lodge Building in Grinnell (720 3rd Avenue).
URL:https://www.powdems.com/event/grinnell-newburg-school-bond-election
LOCATION:IA
CATEGORIES:Education,Election
END:VEVENT
BEGIN:VEVENT
DTSTART;TZID=America/Chicago:20130305T070000
DTEND;TZID=America/Chicago:20130305T210000
DTSTAMP:20260423T214304
CREATED:20130120T171018Z
LAST-MODIFIED:20130120T171018Z
UID:472-1362466800-1362517200@www.powdems.com
SUMMARY:Special Election--Poweshiek County Treasurer
DESCRIPTION:VOTE AT ONE OF THREE VOTING CENTERS TODAY! \nManatt’s Center; Brooklyn\, IA \nMontezuma Public Library; Montezuma\, IA \nDrake Public Library; Grinnell\, IA \nHours: 7 am to 9 pm \nYou may vote at whichever center is the most convenient for YOU! \nVOTE!!
URL:https://www.powdems.com/event/special-election-poweshiek-county-treasurer
LOCATION:IA
CATEGORIES:Election
END:VEVENT
BEGIN:VEVENT
DTSTART;TZID=America/Chicago:20121106T070000
DTEND;TZID=America/Chicago:20121106T210059
DTSTAMP:20260423T214304
CREATED:20120508T205610Z
LAST-MODIFIED:20120508T213005Z
UID:327-1352185200-1352235659@www.powdems.com
SUMMARY:Election Day
DESCRIPTION:Vote in the general election. To find your polling place\, visit https://sos.iowa.gov/elections/voterreg/pollingplace/search.aspx. \n 
URL:https://www.powdems.com/event/election-day
LOCATION:Multiple sites in Poweshiek County\, Iowa\, Select a Country:
CATEGORIES:Election
ORGANIZER;CN="State of Iowa":MAILTO:ddawley@poweshiekcounty.org 
END:VEVENT
BEGIN:VEVENT
DTSTART;TZID=America/Chicago:20121103T090000
DTEND;TZID=America/Chicago:20121103T120000
DTSTAMP:20260423T214304
CREATED:20121008T210126Z
LAST-MODIFIED:20121008T210126Z
UID:455-1351933200-1351944000@www.powdems.com
SUMMARY:Satellite Vote (Early Voting)
DESCRIPTION:Drake Community Library \n930 Park St. \nGrinnell\, IA
URL:https://www.powdems.com/event/satellite-vote-early-voting-4
LOCATION:Drake Community Library\, 930 Park St.\, Grinnell\, IA\, United States
CATEGORIES:Election
END:VEVENT
BEGIN:VEVENT
DTSTART;TZID=America/Chicago:20121024T090000
DTEND;TZID=America/Chicago:20121024T150000
DTSTAMP:20260423T214304
CREATED:20121008T205836Z
LAST-MODIFIED:20121008T205836Z
UID:452-1351069200-1351090800@www.powdems.com
SUMMARY:Satellite Vote (Early Voting)
DESCRIPTION:Grinnell Mutual Reinsurance Co. (GMRC) \n4215 Hwy 146 S \nGrinnell\, IA  50112
URL:https://www.powdems.com/event/satellite-vote-early-voting-3
LOCATION:Grinnell Mutual (GMRC)\, 4215 Hwy 146 S\, Grinnell\, IA\, 50112\, United States
CATEGORIES:Election
END:VEVENT
BEGIN:VEVENT
DTSTART;TZID=America/Chicago:20121019T120500
DTEND;TZID=America/Chicago:20121019T180000
DTSTAMP:20260423T214304
CREATED:20121008T205528Z
LAST-MODIFIED:20121008T205528Z
UID:449-1350648300-1350669600@www.powdems.com
SUMMARY:Satellite Vote (Early Voting)
DESCRIPTION:Hy-Vee (Grinnell) \n320 West St. S \nGrinnell\, IA
URL:https://www.powdems.com/event/satellite-vote-early-voting-2
LOCATION:Grinnell Hy-Vee\, 320 West St. S\, Grinnell\, IA\, 50112\, United States
CATEGORIES:Election
END:VEVENT
BEGIN:VEVENT
DTSTART;TZID=America/Chicago:20121017T110000
DTEND;TZID=America/Chicago:20121017T170000
DTSTAMP:20260423T214304
CREATED:20121008T205202Z
LAST-MODIFIED:20121008T205202Z
UID:446-1350471600-1350493200@www.powdems.com
SUMMARY:Satellite Vote (Early Voting)
DESCRIPTION:Rosenfield Center (Grinnell College) \n1115 8th Ave. \nGrinnell\, IA
URL:https://www.powdems.com/event/satellite-vote-early-voting
LOCATION:Rosenfield Center (Grinnell College)\, 1115 8th Ave.\, Grinnell\, IA\, 50112\, United States
CATEGORIES:Election
END:VEVENT
BEGIN:VEVENT
DTSTART;TZID=America/Chicago:20121008T190000
DTEND;TZID=America/Chicago:20121008T200000
DTSTAMP:20260423T214304
CREATED:20120926T130831Z
LAST-MODIFIED:20120926T130831Z
UID:439-1349722800-1349726400@www.powdems.com
SUMMARY:Forum for State & County Candidates
DESCRIPTION:The League of Women Voters\, Grinnell\, IA\, are sponsoring a Forum for State and County Candidates to help voters make educated decisions on Election Day\, November 6\, 2012. \nThe Formum will be held at: \nDrake Community Library \n930 Park Street \nGrinnell\, IA \nOctober 8\, 2012 \n7 PM \nMeet the candidates from both the Democratic and Republican parties running for the following offices:  Iowa House of Representatives–District 76; Iowa Senate–District 38; Poweshiek County Supervisor; and Poweshiek County Sheriff.  All voters in Poweshiek County are encouraged to participate! \n  \n 
URL:https://www.powdems.com/event/forum-for-state-county-candidates
LOCATION:Drake Community Library\, 930 Park Street\, Grinnell\, IA\, 50112\, United States
CATEGORIES:Election
END:VEVENT
BEGIN:VEVENT
DTSTART;TZID=America/Chicago:20120927T090000
DTEND;TZID=America/Chicago:20120927T150000
DTSTAMP:20260423T214304
CREATED:20120925T205517Z
LAST-MODIFIED:20120925T205517Z
UID:420-1348736400-1348758000@www.powdems.com
SUMMARY:Satellite Voting--Drake Library
DESCRIPTION:All Poweshiek County registered voters may capitalize on the beautiful weather this year and VOTE EARLY.  The first Satellite Vote will take place at Drake Library\, Grinnell\, IA\, September 27\, 2012\,  from 9 am to 3 pm.  VOTE EARLY–GET RID OF ANNOYING PHONE CALLS!
URL:https://www.powdems.com/event/satellite-voting-drake-library
LOCATION:Drake Community Library\, 930 Park St.\, Grinnell\, IA\, 50112\, United States
CATEGORIES:Election
END:VEVENT
BEGIN:VEVENT
DTSTART;TZID=America/Chicago:20120605T070000
DTEND;TZID=America/Chicago:20120605T210059
DTSTAMP:20260423T214304
CREATED:20120518T165231Z
LAST-MODIFIED:20120518T174321Z
UID:334-1338879600-1338930059@www.powdems.com
SUMMARY:Primary Election
DESCRIPTION:The Iowa Primary Election is Tuesday\, June 5. We will elect Democratic Candidates for Federal\, State\, and County offices. You must be a registered Democrat to participate in the primary election. \nTo find your polling place\, visit http://sos.iowa.gov/elections/voterreg/pollingplace/search.aspx.
URL:https://www.powdems.com/event/primary-election
LOCATION:Polling places countywide\, Poweshiek County\, Iowa\, Select a Country:
CATEGORIES:Election
ORGANIZER;CN="Diana Dawley%2C County Auditor":MAILTO:ddawley@poweshiekcounty.org
END:VEVENT
END:VCALENDAR