BEGIN:VCALENDAR
VERSION:2.0
PRODID:-// - ECPv6.13.2.1//NONSGML v1.0//EN
CALSCALE:GREGORIAN
METHOD:PUBLISH
X-ORIGINAL-URL:https://www.powdems.com
X-WR-CALDESC:Events for 
REFRESH-INTERVAL;VALUE=DURATION:PT1H
X-Robots-Tag:noindex
X-PUBLISHED-TTL:PT1H
BEGIN:VTIMEZONE
TZID:America/Chicago
BEGIN:DAYLIGHT
TZOFFSETFROM:-0600
TZOFFSETTO:-0500
TZNAME:CDT
DTSTART:20170312T080000
END:DAYLIGHT
BEGIN:STANDARD
TZOFFSETFROM:-0500
TZOFFSETTO:-0600
TZNAME:CST
DTSTART:20171105T070000
END:STANDARD
BEGIN:DAYLIGHT
TZOFFSETFROM:-0600
TZOFFSETTO:-0500
TZNAME:CDT
DTSTART:20180311T080000
END:DAYLIGHT
BEGIN:STANDARD
TZOFFSETFROM:-0500
TZOFFSETTO:-0600
TZNAME:CST
DTSTART:20181104T070000
END:STANDARD
BEGIN:DAYLIGHT
TZOFFSETFROM:-0600
TZOFFSETTO:-0500
TZNAME:CDT
DTSTART:20190310T080000
END:DAYLIGHT
BEGIN:STANDARD
TZOFFSETFROM:-0500
TZOFFSETTO:-0600
TZNAME:CST
DTSTART:20191103T070000
END:STANDARD
BEGIN:DAYLIGHT
TZOFFSETFROM:-0600
TZOFFSETTO:-0500
TZNAME:CDT
DTSTART:20200308T080000
END:DAYLIGHT
BEGIN:STANDARD
TZOFFSETFROM:-0500
TZOFFSETTO:-0600
TZNAME:CST
DTSTART:20201101T070000
END:STANDARD
BEGIN:DAYLIGHT
TZOFFSETFROM:-0600
TZOFFSETTO:-0500
TZNAME:CDT
DTSTART:20210314T080000
END:DAYLIGHT
BEGIN:STANDARD
TZOFFSETFROM:-0500
TZOFFSETTO:-0600
TZNAME:CST
DTSTART:20211107T070000
END:STANDARD
END:VTIMEZONE
BEGIN:VEVENT
DTSTART;TZID=America/Chicago:20210714T200000
DTEND;TZID=America/Chicago:20210714T203000
DTSTAMP:20260423T190638
CREATED:20210624T130755Z
LAST-MODIFIED:20210705T180030Z
UID:1815-1626292800-1626294600@www.powdems.com
SUMMARY:Heart of Iowa Democrats with Rob Sand -- NEW TIME
DESCRIPTION:The Poweshiek County Democrats will join the Heart of Iowa Democrats to host State Auditor Rob Sand via Zoom on Wednesday\, July 14 at 8 p.m. He will discuss his work protecting Iowa’s taxpayers and answer your questions. RSVP here and we will send you the Zoom link before July 14.
URL:https://www.powdems.com/event/heart-of-iowa-democrats-with-rob-sand
LOCATION:Zoom
CATEGORIES:Education
END:VEVENT
BEGIN:VEVENT
DTSTART;TZID=America/Chicago:20210407T190000
DTEND;TZID=America/Chicago:20210407T203000
DTSTAMP:20260423T190638
CREATED:20210323T145551Z
LAST-MODIFIED:20210323T145551Z
UID:1779-1617822000-1617827400@www.powdems.com
SUMMARY:Heart of Iowa Democrats Event With JD Scholten & Glenn Hurst
DESCRIPTION:The Poweshiek Democrats’ Heart of Iowa Speaker Series continues on Wednesday\, April 7 at 7 p.m. with an event dedicated to organizing in rural Iowa. \nThe guests will be JD Scholten\, former congressional candidate for Iowa’s very rural (and very Republican) Fourth District\, and Glenn Hurst\, the chair of the Iowa Democratic Party’s rural caucus. We are excited to hear from JD and Glenn about what they learned in the last election cycle and what strategies they encourage candidates to pursue in 2022. \nRegister for the event here and we will send you the Zoom link before April 7.
URL:https://www.powdems.com/event/heart-of-iowa-democrats-event-with-jd-scholten-glenn-hurst
LOCATION:Zoom
CATEGORIES:Campaign,Education
END:VEVENT
BEGIN:VEVENT
DTSTART;TZID=America/Chicago:20201119T145000
DTEND;TZID=America/Chicago:20201119T160000
DTSTAMP:20260423T190638
CREATED:20201117T012921Z
LAST-MODIFIED:20201117T012942Z
UID:1746-1605797400-1605801600@www.powdems.com
SUMMARY:Virtual Town Hall with State Auditor Rob Sand
DESCRIPTION:State Auditor Rob Sand will hold a virtual town hall for Poweshiek County voters on Thursday\, November 19 at 2:50 p.m. This is an opportunity to learn more about the auditor’s work monitoring state government spending on COVID-19 relief and other programs.
URL:https://www.powdems.com/event/virtual-town-hall-with-state-auditor-rob-sand
CATEGORIES:Education
END:VEVENT
BEGIN:VEVENT
DTSTART;TZID=America/Chicago:20181020T140000
DTEND;TZID=America/Chicago:20181020T160000
DTSTAMP:20260423T190638
CREATED:20181007T172901Z
LAST-MODIFIED:20181007T173044Z
UID:1294-1540044000-1540051200@www.powdems.com
SUMMARY:Midterm Momentum with Ann Egley
DESCRIPTION:Come and enjoy an afternoon of grassroots activism\, political conversations\, and camaraderie with friends and neighbors.\nSpeakers include Ann Egley\, Democratic candidate for Iowa House District 76\, and Ross Wilburn\, former mayor of Iowa City.\nWe will be writing postcards for Ann to send to voters in the district\nYou can register to vote or fill out an absentee ballot request\nInformation on candidates will be available\nEnjoy beverages\, desserts\, and satirical folk stylings of the Cedar River Whalers.
URL:https://www.powdems.com/event/midterm-momentum-with-ann-egley
LOCATION:Grinnell Central Park\, 925 3rd Avenue\, Grinnell\, IA\, 50112\, United States
CATEGORIES:Campaign,Education,Election
END:VEVENT
BEGIN:VEVENT
DTSTART;TZID=America/Chicago:20181009T190000
DTEND;TZID=America/Chicago:20181009T203000
DTSTAMP:20260423T190638
CREATED:20181005T182225Z
LAST-MODIFIED:20181005T182225Z
UID:1286-1539111600-1539117000@www.powdems.com
SUMMARY:Civility in an Age of Division?
DESCRIPTION:The League of Women Voters is hosting a forum on civil discourse on Tuesday\, October 9 at the United Christian Church (4th and Broad Street) in Grinnell at 7 p.m.  The forum will feature Rachel Bly\, chair of the Poweshiek County Democrats\, and Chris Varney\, chair of the Poweshiek County Republicans. Come with your questions and ideas!
URL:https://www.powdems.com/event/civility-in-an-age-of-division
CATEGORIES:Education
END:VEVENT
BEGIN:VEVENT
DTSTART;TZID=America/Chicago:20181009T160000
DTEND;TZID=America/Chicago:20181009T173000
DTSTAMP:20260423T190638
CREATED:20181005T181850Z
LAST-MODIFIED:20181005T181943Z
UID:1283-1539100800-1539106200@www.powdems.com
SUMMARY:Deidre DeJear at Grinnell College on Tuesday
DESCRIPTION:The Grinnell College Democrats will host Democratic Secretary of State candidate (and voting rights defender) Deidre DeJear on Tuesday\, October 9 at 4 p.m. at the Joe Rosenfield Center Room 209 (1115 8th Avenue in Grinnell). DeJear will talk about the importance of voting and the obstacles certain Iowans are facing in exercising their democratic right to vote. Members of the community are welcome!
URL:https://www.powdems.com/event/deidre-dejear-at-grinnell-college-on-tuesday
LOCATION:Grinnell College\, 1115 8th Avenue\, Grinnell\, 50112
CATEGORIES:Campaign,Education
END:VEVENT
BEGIN:VEVENT
DTSTART;TZID=America/Chicago:20180404T190000
DTEND;TZID=America/Chicago:20180404T190000
DTSTAMP:20260423T190638
CREATED:20180403T165755Z
LAST-MODIFIED:20180403T165755Z
UID:1118-1522868400-1522868400@www.powdems.com
SUMMARY:Iowa Mental Health Legislation Forum
DESCRIPTION:The Grinnell League of Women Voters will host a forum on Iowa’s mental health care system this Wednesday (April 4) at 7 p.m. at Grinnell’s Drake Library (930 Park Street). The forum will feature Tammy Nyden (a Grinnell College professor involved in statewide working groups on mental health care for children) and Jody Eaton (director of Central Iowa Community Services).
URL:https://www.powdems.com/event/iowa-mental-health-legislation-forum
LOCATION:Drake Community Library\, 930 Park St.\, Grinnell\, IA\, 50112\, United States
CATEGORIES:Education
END:VEVENT
BEGIN:VEVENT
DTSTART;TZID=America/Chicago:20180303T090000
DTEND;TZID=America/Chicago:20180303T100000
DTSTAMP:20260423T190638
CREATED:20180302T151505Z
LAST-MODIFIED:20180302T151505Z
UID:1090-1520067600-1520071200@www.powdems.com
SUMMARY:Legislative forum with Sen. Kapucian & Rep. Maxwell
DESCRIPTION:This is your opportunity to present questions to State Senator Tim Kapucian and State Representative Dave Maxwell\, the Republicans who represent Poweshiek County at the State Capitol.
URL:https://www.powdems.com/event/legislative-forum-sen-kapucian-rep-maxwell
LOCATION:1st Presbyterian Church\, 1025 5th Ave.\, Grinnell\, IA\, 52211\, United States
CATEGORIES:Education
END:VEVENT
BEGIN:VEVENT
DTSTART;TZID=America/Chicago:20180206T070000
DTEND;TZID=America/Chicago:20180206T200000
DTSTAMP:20260423T190638
CREATED:20180107T165418Z
LAST-MODIFIED:20180118T182350Z
UID:1039-1517900400-1517947200@www.powdems.com
SUMMARY:Grinnell-Newburg School Bond Election
DESCRIPTION:Residents of the Grinnell-Newburg School District will vote on a School Bond proposal on Tuesday\, February 6. Information about the bond is available here. \nVoting will take place on Tuesday\, February 6 from 7 a.m. to 8 p.m. at the Elks Lodge Building in Grinnell (720 3rd Avenue).
URL:https://www.powdems.com/event/grinnell-newburg-school-bond-election
CATEGORIES:Education,Election
END:VEVENT
BEGIN:VEVENT
DTSTART;TZID=America/Chicago:20180201T183000
DTEND;TZID=America/Chicago:20180201T193000
DTSTAMP:20260423T190638
CREATED:20180129T213452Z
LAST-MODIFIED:20180129T213510Z
UID:1072-1517509800-1517513400@www.powdems.com
SUMMARY:Gubernatorial Candidate Fred Hubbell in Grinnell
DESCRIPTION:The Poweshiek Democrats are hosting gubernatorial candidate Fred Hubbell this Thursday\, February 1 from 6:30 to 7:30 p.m. at the Peace Tree Brewery in Grinnell (923 Main Street). More information on Hubbell’s campaign is available here. If you have questions or would like to help with this event\, email the Poweshiek Democrats at poweshiekdems@gmail.com.
URL:https://www.powdems.com/event/gubernatorial-candidate-fred-hubbel-grinnell
LOCATION:Peace Tree Brewery\, 923 Main St.\, Grinnell\, IA\, 50112\, United States
CATEGORIES:Education
END:VEVENT
BEGIN:VEVENT
DTSTART;TZID=America/Chicago:20180125T180000
DTEND;TZID=America/Chicago:20180125T190000
DTSTAMP:20260423T190638
CREATED:20180116T212107Z
LAST-MODIFIED:20180116T212107Z
UID:1053-1516903200-1516906800@www.powdems.com
SUMMARY:George Ramsey at Drake Library
DESCRIPTION:George Ramsey\, one of four Democratic Party candidate for Iowa’s Congressional District 1 currently held by Republican Rod Blum\, will be at Drake Library’s Story Room in Grinnell (930 Park Street) on Thursday\, January 25 at 6 p.m. This is a great opportunity to speak directly with Ramsey about his campaign and vision for representing eastern Iowa in Congress.
URL:https://www.powdems.com/event/george-ramsey-drake-library
LOCATION:Drake Community Library\, 930 Park St.\, Grinnell\, IA\, 50112\, United States
CATEGORIES:Education
END:VEVENT
BEGIN:VEVENT
DTSTART;TZID=America/Chicago:20171019T183000
DTEND;TZID=America/Chicago:20171019T203000
DTSTAMP:20260423T190638
CREATED:20170930T134301Z
LAST-MODIFIED:20170930T134321Z
UID:971-1508437800-1508445000@www.powdems.com
SUMMARY:Four County Health Care Forum
DESCRIPTION:The Poweshiek\, Benton\, Iowa\, and Tama County Democrats will host the Four County Health Care Forum on Thursday\, October 19 at 6:30 p.m. at the Historical Museum in Belle Plaine. More details to follow.
URL:https://www.powdems.com/event/four-county-health-care-forum
LOCATION:Belle Plaine
CATEGORIES:Education
END:VEVENT
BEGIN:VEVENT
DTSTART;TZID=America/Chicago:20170620T190000
DTEND;TZID=America/Chicago:20170620T210000
DTSTAMP:20260423T190638
CREATED:20170608T125316Z
LAST-MODIFIED:20170608T125316Z
UID:918-1497985200-1497992400@www.powdems.com
SUMMARY:Rural Forward Event with Bill Menner
DESCRIPTION:What are the industries of the future that can bring good-paying jobs to Poweshiek County? How will farming change in communities like ours over the next decade? And how can we support the public schools and hospitals we need in our rural communities? \nJoin Rural Forward—an organization of concerned citizens and policy professionals with experience in communities like ours—for a conversation about what towns and farms in Poweshiek County need to succeed in the modern economy. This discussion will be moderated by Bill Menner and John Whitaker\, two former U.S. Department of Agriculture officials in Iowa.
URL:https://www.powdems.com/event/rural-forward-event-bill-menner
LOCATION:Drake Community Library\, 930 Park St.\, Grinnell\, IA\, 50112\, United States
CATEGORIES:Education
END:VEVENT
BEGIN:VEVENT
DTSTART;TZID=America/Chicago:20170422T080000
DTEND;TZID=America/Chicago:20170422T170000
DTSTAMP:20260423T190638
CREATED:20170412T130252Z
LAST-MODIFIED:20170412T130252Z
UID:841-1492848000-1492880400@www.powdems.com
SUMMARY:March for Science
DESCRIPTION:On Saturday\, April 22nd\, join us for the March for Science. Much like the January 21 Women’s March\, a “main” march in Washington DC will be accompanied by marches in cities across the country. If you’re interested in attending the march in DC\, please get in touch with Shannon Hinsa (hinsa@grinnell.edu); if you’d like to attend the Des Moines march\, please get in touch with Josh Sandquist (jcsandquist@gmail.com).
URL:https://www.powdems.com/event/march-for-science
CATEGORIES:Education
END:VEVENT
BEGIN:VEVENT
DTSTART;TZID=America/Chicago:20170418T190000
DTEND;TZID=America/Chicago:20170418T200000
DTSTAMP:20260423T190638
CREATED:20170407T195424Z
LAST-MODIFIED:20170407T195424Z
UID:838-1492542000-1492545600@www.powdems.com
SUMMARY:What's at Stake with Health Care Reform?
DESCRIPTION:Join us for a panel discussion with local health care providers Laura Ferguson and Kun Hong-Lu and several Chicago-based experts who focus on enrolling people into the Affordable Care Act\, administering Medicaid\, and working with underinsured communities in Cook County. The event will be held on Tuesday\, April 18 at 7 p.m. in Saint’s Rest coffee shop. Contact Abby Griffith (abigail.griffith@gmail.com) or John Grennan (johngrennan315@hotmail.com) for more information
URL:https://www.powdems.com/event/whats-stake-health-care-reform
LOCATION:Saints Rest Coffee House\, 917 Broad St.\, Grinnell\, IA\, United States
CATEGORIES:Education
END:VEVENT
BEGIN:VEVENT
DTSTART;TZID=America/Chicago:20170328T193000
DTEND;TZID=America/Chicago:20170328T203000
DTSTAMP:20260423T190638
CREATED:20170322T151557Z
LAST-MODIFIED:20170322T151557Z
UID:828-1490729400-1490733000@www.powdems.com
SUMMARY:Educational Forum on Iowa Legislative Process
DESCRIPTION:Educational Forum on Iowa Legislative Process. Featuring Janet Carl and Lyle Krewson. Tuesday\, March 28 at 7:30 PM Grinnell United Church of Christ; 902 Broad St\, Grinnell\, Iowa 50112
URL:https://www.powdems.com/event/educational-forum-iowa-legislative-process
LOCATION:UCC Church\, 902 Broad St.\, Grinnell\, IA\, 50112\, United States
CATEGORIES:Education
END:VEVENT
END:VCALENDAR