BEGIN:VCALENDAR
VERSION:2.0
PRODID:-// - ECPv6.13.2.1//NONSGML v1.0//EN
CALSCALE:GREGORIAN
METHOD:PUBLISH
X-ORIGINAL-URL:https://www.powdems.com
X-WR-CALDESC:Events for 
REFRESH-INTERVAL;VALUE=DURATION:PT1H
X-Robots-Tag:noindex
X-PUBLISHED-TTL:PT1H
BEGIN:VTIMEZONE
TZID:America/Chicago
BEGIN:DAYLIGHT
TZOFFSETFROM:-0600
TZOFFSETTO:-0500
TZNAME:CDT
DTSTART:20120311T080000
END:DAYLIGHT
BEGIN:STANDARD
TZOFFSETFROM:-0500
TZOFFSETTO:-0600
TZNAME:CST
DTSTART:20121104T070000
END:STANDARD
BEGIN:DAYLIGHT
TZOFFSETFROM:-0600
TZOFFSETTO:-0500
TZNAME:CDT
DTSTART:20130310T080000
END:DAYLIGHT
BEGIN:STANDARD
TZOFFSETFROM:-0500
TZOFFSETTO:-0600
TZNAME:CST
DTSTART:20131103T070000
END:STANDARD
BEGIN:DAYLIGHT
TZOFFSETFROM:-0600
TZOFFSETTO:-0500
TZNAME:CDT
DTSTART:20140309T080000
END:DAYLIGHT
BEGIN:STANDARD
TZOFFSETFROM:-0500
TZOFFSETTO:-0600
TZNAME:CST
DTSTART:20141102T070000
END:STANDARD
BEGIN:DAYLIGHT
TZOFFSETFROM:-0600
TZOFFSETTO:-0500
TZNAME:CDT
DTSTART:20150308T080000
END:DAYLIGHT
BEGIN:STANDARD
TZOFFSETFROM:-0500
TZOFFSETTO:-0600
TZNAME:CST
DTSTART:20151101T070000
END:STANDARD
BEGIN:DAYLIGHT
TZOFFSETFROM:-0600
TZOFFSETTO:-0500
TZNAME:CDT
DTSTART:20160313T080000
END:DAYLIGHT
BEGIN:STANDARD
TZOFFSETFROM:-0500
TZOFFSETTO:-0600
TZNAME:CST
DTSTART:20161106T070000
END:STANDARD
BEGIN:DAYLIGHT
TZOFFSETFROM:-0600
TZOFFSETTO:-0500
TZNAME:CDT
DTSTART:20170312T080000
END:DAYLIGHT
BEGIN:STANDARD
TZOFFSETFROM:-0500
TZOFFSETTO:-0600
TZNAME:CST
DTSTART:20171105T070000
END:STANDARD
BEGIN:DAYLIGHT
TZOFFSETFROM:-0600
TZOFFSETTO:-0500
TZNAME:CDT
DTSTART:20180311T080000
END:DAYLIGHT
BEGIN:STANDARD
TZOFFSETFROM:-0500
TZOFFSETTO:-0600
TZNAME:CST
DTSTART:20181104T070000
END:STANDARD
BEGIN:DAYLIGHT
TZOFFSETFROM:-0600
TZOFFSETTO:-0500
TZNAME:CDT
DTSTART:20190310T080000
END:DAYLIGHT
BEGIN:STANDARD
TZOFFSETFROM:-0500
TZOFFSETTO:-0600
TZNAME:CST
DTSTART:20191103T070000
END:STANDARD
BEGIN:DAYLIGHT
TZOFFSETFROM:-0600
TZOFFSETTO:-0500
TZNAME:CDT
DTSTART:20200308T080000
END:DAYLIGHT
BEGIN:STANDARD
TZOFFSETFROM:-0500
TZOFFSETTO:-0600
TZNAME:CST
DTSTART:20201101T070000
END:STANDARD
END:VTIMEZONE
BEGIN:VEVENT
DTSTART;TZID=America/Chicago:20200321T080000
DTEND;TZID=America/Chicago:20200321T120000
DTSTAMP:20260423T162226
CREATED:20200301T151429Z
LAST-MODIFIED:20200301T151429Z
UID:1612-1584777600-1584792000@www.powdems.com
SUMMARY:County Convention
DESCRIPTION:The Poweshiek Democratic Party will hold its county convention on Saturday\, March 21 at the Malcom Auditorium (212 Main Street) in Malcom. \nRegistration for delegates begins at 8 a.m. with the convention beginning at 8:45 a.m.
URL:https://www.powdems.com/event/county-convention
CATEGORIES:Convention
END:VEVENT
BEGIN:VEVENT
DTSTART;VALUE=DATE:20120903
DTEND;VALUE=DATE:20120907
DTSTAMP:20260423T162226
CREATED:20120508T210058Z
LAST-MODIFIED:20120508T210058Z
UID:331-1346630400-1346975999@www.powdems.com
SUMMARY:Democratic National Convention
DESCRIPTION:
URL:https://www.powdems.com/event/democratic-national-convention
LOCATION:Democratic National Convention\, 400 South Tryon Street\, Charlotte\, NC\, United States
CATEGORIES:Convention
END:VEVENT
BEGIN:VEVENT
DTSTART;VALUE=DATE:20120616
DTEND;VALUE=DATE:20120617
DTSTAMP:20260423T162226
CREATED:20120518T180732Z
LAST-MODIFIED:20120518T180732Z
UID:373-1339804800-1339891199@www.powdems.com
SUMMARY:Iowa State Democratic Convention
DESCRIPTION:  \nThe Iowa Democratic Party will hold its biennial State Convention on June 16\, 2012\, in Des Moines. The 1200 delegates to the State Convention will be elected at the county conventions across the state. \n  \nPurpose: Attendees will elect Iowa’s remaining delegates to the National Convention: 12 At-large Delegates and 7 Pledged Party Leader and Elected Official Delegates (PLEO) and 1 At-Large Alternate. IDP Constituency Caucuses will also meet and elect members to the State Central Committee. Attendees to the State Convention will also vote on resolutions to the state party platform. \n  \nAttendees who would like to run as either an At Large or PLEO delegate to the National Convention\, must collect signatures and complete the appropriate petition. \nhttp://www.iowademocrats.org/2012conventions/state-convention/
URL:https://www.powdems.com/event/iowa-state-democratic-convention
LOCATION:Unnamed Venue\, Des Moines\, Iowa\, Select a Country:
CATEGORIES:Convention
END:VEVENT
END:VCALENDAR