BEGIN:VCALENDAR
VERSION:2.0
PRODID:-// - ECPv6.13.2.1//NONSGML v1.0//EN
CALSCALE:GREGORIAN
METHOD:PUBLISH
X-ORIGINAL-URL:https://www.powdems.com
X-WR-CALDESC:Events for 
REFRESH-INTERVAL;VALUE=DURATION:PT1H
X-Robots-Tag:noindex
X-PUBLISHED-TTL:PT1H
BEGIN:VTIMEZONE
TZID:America/Chicago
BEGIN:DAYLIGHT
TZOFFSETFROM:-0600
TZOFFSETTO:-0500
TZNAME:CDT
DTSTART:20170312T080000
END:DAYLIGHT
BEGIN:STANDARD
TZOFFSETFROM:-0500
TZOFFSETTO:-0600
TZNAME:CST
DTSTART:20171105T070000
END:STANDARD
BEGIN:DAYLIGHT
TZOFFSETFROM:-0600
TZOFFSETTO:-0500
TZNAME:CDT
DTSTART:20180311T080000
END:DAYLIGHT
BEGIN:STANDARD
TZOFFSETFROM:-0500
TZOFFSETTO:-0600
TZNAME:CST
DTSTART:20181104T070000
END:STANDARD
BEGIN:DAYLIGHT
TZOFFSETFROM:-0600
TZOFFSETTO:-0500
TZNAME:CDT
DTSTART:20190310T080000
END:DAYLIGHT
BEGIN:STANDARD
TZOFFSETFROM:-0500
TZOFFSETTO:-0600
TZNAME:CST
DTSTART:20191103T070000
END:STANDARD
BEGIN:DAYLIGHT
TZOFFSETFROM:-0600
TZOFFSETTO:-0500
TZNAME:CDT
DTSTART:20200308T080000
END:DAYLIGHT
BEGIN:STANDARD
TZOFFSETFROM:-0500
TZOFFSETTO:-0600
TZNAME:CST
DTSTART:20201101T070000
END:STANDARD
END:VTIMEZONE
BEGIN:VEVENT
DTSTART;TZID=America/Chicago:20200324T190000
DTEND;TZID=America/Chicago:20200324T203000
DTSTAMP:20260423T175541
CREATED:20200301T151002Z
LAST-MODIFIED:20200301T151002Z
UID:1610-1585076400-1585081800@www.powdems.com
SUMMARY:Central Committee Meeting with US Senate Candidate Kimberly Graham
DESCRIPTION:The Poweshiek County Democrats will hold their Central Committee meeting tonight at Pagliai’s Pizza in Grinnell. Some of us meet for dinner at 6 p.m.\, with the meeting starting at 7. Anyone considering supporting Democratic candidates in this fall’s election is welcome to attend. \nKimberly Graham\, a Democratic Party candidate for the US Senate seat held by Joni Ernst\, will be talking with voters at the beginning of this meeting.
URL:https://www.powdems.com/event/central-committee-meeting-with-us-senate-candidate-kimberly-graham
LOCATION:Pagliai’s Pizza\, 816 5th Ave.\, Grinnell\, Iowa\, 50112\, United States
CATEGORIES:Central Committee
END:VEVENT
BEGIN:VEVENT
DTSTART;TZID=America/Chicago:20200225T190000
DTEND;TZID=America/Chicago:20200225T203000
DTSTAMP:20260423T175541
CREATED:20200219T205003Z
LAST-MODIFIED:20200219T205038Z
UID:1603-1582657200-1582662600@www.powdems.com
SUMMARY:Central Committee Meeting & US Senate Candidate Michael Franken
DESCRIPTION:The Poweshiek County Democrats will have our Central Committee meeting on Tuesday\, February 25 at Pagliai’s Pizza (816 5th Avenue) in Grinnell. Some of us meet for dinner at 6 p.m. with the official meeting starting at 7 p.m. Anyone considering supporting Democratic Party candidates in 2020 is welcome to attend.  \nUS Senate candidate Michael Franken will speak with us at the beginning of our meeting.
URL:https://www.powdems.com/event/central-committee-meeting-us-senate-candidate-michael-franken
LOCATION:Pagliai’s Pizza\, 816 5th Ave.\, Grinnell\, Iowa\, 50112\, United States
CATEGORIES:Campaign,Central Committee
END:VEVENT
BEGIN:VEVENT
DTSTART;TZID=America/Chicago:20200128T190000
DTEND;TZID=America/Chicago:20200128T200000
DTSTAMP:20260423T175541
CREATED:20191214T131046Z
LAST-MODIFIED:20200124T025137Z
UID:1544-1580238000-1580241600@www.powdems.com
SUMMARY:Central Committee Meeting
DESCRIPTION:The Poweshiek Democrats will hold their final pre-caucus Central Committee meeting on Tuesday\, January 28 at Pagliai’s Pizza in Grinnell (816 5th Avenue). Some of us meet for dinner at 6 p.m.\, with the official meeting starting at 7 p.m. \nWe encourage anyone who has a question about the caucus to consider attending\, even if you don’t usually come to these meetings. We are trying to address every issue we can before caucus night and your questions help us to prepare. \nThe meeting will include information for caucus night volunteers and a caucus Q&A session — we will stay until you get your question answered!
URL:https://www.powdems.com/event/central-committee-meeting-36
LOCATION:Pagliai’s Pizza\, 816 5th Ave.\, Grinnell\, Iowa\, 50112\, United States
CATEGORIES:Central Committee
END:VEVENT
BEGIN:VEVENT
DTSTART;TZID=America/Chicago:20191126T190000
DTEND;TZID=America/Chicago:20191126T200000
DTSTAMP:20260423T175541
CREATED:20191121T140246Z
LAST-MODIFIED:20191121T140246Z
UID:1528-1574794800-1574798400@www.powdems.com
SUMMARY:US Senate Candidate Theresa Greenfield @ Central Committee Meeting
DESCRIPTION:Join the Poweshiek Democrats as we talk to US Senate candidate Theresa Greenfield about her campaign on Tuesday\, November 26 at 7 p.m. at Pagliai’s Pizza (816 5th Avenue) in Grinnell. RSVP. \nThe county party’s Central Committee meeting will immediately follow Ms. Greenfield’s visit — anyone interested in caucusing with the Democrats in 2020 is welcome to attend.
URL:https://www.powdems.com/event/us-senate-candidate-theresa-greenfield-central-committee-meeting
LOCATION:Pagliai’s Pizza\, 816 5th Ave.\, Grinnell\, Iowa\, 50112\, United States
CATEGORIES:Campaign,Central Committee
END:VEVENT
BEGIN:VEVENT
DTSTART;TZID=America/Chicago:20191022T190000
DTEND;TZID=America/Chicago:20191022T203000
DTSTAMP:20260423T175541
CREATED:20190828T154450Z
LAST-MODIFIED:20191013T122810Z
UID:1464-1571770800-1571776200@www.powdems.com
SUMMARY:Central Committee Meeting
DESCRIPTION:The Poweshiek County Democrats will hold their October Central Committee meeting on Tuesday\, October 22 at Paglai’s (816 5th Avenue) in Grinnell. Some Democrats will meet for dinner at 6 p.m.\, with the official meeting to begin at 7 p.m. Anyone interested in the local Democratic Party or in caucusing for Democrats in 2020 is welcome to attend. \nUS Senate candidate Michael Franken was originally scheduled to speak at this event\, but had a scheduling conflict. He will come to Grinnell on another date.
URL:https://www.powdems.com/event/central-committee-meeting-35
LOCATION:Pagliai’s Pizza\, 816 5th Ave.\, Grinnell\, Iowa\, 50112\, United States
CATEGORIES:Central Committee
END:VEVENT
BEGIN:VEVENT
DTSTART;TZID=America/Chicago:20190924T190000
DTEND;TZID=America/Chicago:20190924T203000
DTSTAMP:20260423T175541
CREATED:20190828T154125Z
LAST-MODIFIED:20190828T154125Z
UID:1460-1569351600-1569357000@www.powdems.com
SUMMARY:Central Committee Meeting
DESCRIPTION:The Poweshiek County Democrats will hold their September Central Committee meeting on Tuesday\, September 24 at Pagliai’s Pizza (816 5th Avenue) in Grinnell. Some Democrats will meet for dinner at 6 p.m.\, with the official meeting to begin at 7 p.m. Anyone interested in the local Democratic Party or in caucusing for Democrats in 2020 is welcome to attend.
URL:https://www.powdems.com/event/central-committee-meeting-34
LOCATION:Pagliai’s Pizza\, 816 5th Ave.\, Grinnell\, Iowa\, 50112\, United States
CATEGORIES:Central Committee
END:VEVENT
BEGIN:VEVENT
DTSTART;TZID=America/Chicago:20190827T190000
DTEND;TZID=America/Chicago:20190827T190000
DTSTAMP:20260423T175541
CREATED:20190822T003834Z
LAST-MODIFIED:20190822T003834Z
UID:1453-1566932400-1566932400@www.powdems.com
SUMMARY:August Central Committee Meeting
DESCRIPTION:The Poweshiek County Democrats will hold their August Central Committee meeting on Thursday\, August 27 at Pirates of Ponderosa (199 Marina Drive) in Montezuma. Some Democrats will meet for dinner at 6 p.m.\, with the official meeting to begin at 7 p.m. Anyone interested in the local Democratic Party or in caucusing for Democrats in 2020 is welcome to attend.
URL:https://www.powdems.com/event/august-central-committee-meeting
LOCATION:Pirates of Ponderosa\, 199 Marina Drive\, Montezuma\, 50171\, United States
CATEGORIES:Campaign,Central Committee
END:VEVENT
BEGIN:VEVENT
DTSTART;TZID=America/Chicago:20190723T190000
DTEND;TZID=America/Chicago:20190723T203000
DTSTAMP:20260423T175541
CREATED:20190710T151819Z
LAST-MODIFIED:20190722T203121Z
UID:1432-1563908400-1563913800@www.powdems.com
SUMMARY:US Senate Candidate Kimberly Graham & Presidential Candidate Joe Sestak
DESCRIPTION:Kimberly Graham\, a candidate for the Democratic nomination for the US Senate\, will speak with voters at the Classic Deli (120 Jackson Street) in Brooklyn on Tuesday\, July 23 at 7 p.m.  \nJoe Sestak\, a retired admiral who served two terms in Congress\, will also talk about his campaign for the Democratic Party nomination for the presidency.  \nThe Poweshiek Democrats Central Committee meeting will follow Graham and Sestak’s remarks.  \nWe will also meet for dinner starting at 6 p.m. All Democrats are welcome to attend.
URL:https://www.powdems.com/event/us-senate-candidate-kimberly-graham-at-july-central-committee-meeting
LOCATION:Classic Deli Brooklyn IA
CATEGORIES:Campaign,Central Committee
END:VEVENT
BEGIN:VEVENT
DTSTART;TZID=America/Chicago:20190625T190000
DTEND;TZID=America/Chicago:20190625T203000
DTSTAMP:20260423T175541
CREATED:20190613T160121Z
LAST-MODIFIED:20190613T160247Z
UID:1413-1561489200-1561494600@www.powdems.com
SUMMARY:US Senate Candidate Eddie Mauro @ Central Committee Meeting in Montezuma
DESCRIPTION:US Senate candidate Eddie Mauro will speak with voters at our Central Committee meeting on Tuesday\, June 25 at Sauce’d Pizza in Montezuma. We will hold our monthly Central Committee meeting following Mr. Mauro’s remarks. \nSome Democrats will meet for dinner at 6 p.m. with Mauro’s appearance scheduled to start at 7 p.m. Anyone interested in the direction of the local Democratic Party or Mr. Mauro’s Senate campaign is welcome to attend.
URL:https://www.powdems.com/event/us-senate-candidate-eddie-maruo-central-committee-meeting-in-montezuma
LOCATION:Sauce’d Pizza\, 106 N 4th St\, Montezuma\, Iowa\, 50171\, United States
CATEGORIES:Campaign,Central Committee
END:VEVENT
BEGIN:VEVENT
DTSTART;TZID=America/Chicago:20190528T190000
DTEND;TZID=America/Chicago:20190528T203000
DTSTAMP:20260423T175541
CREATED:20190427T141119Z
LAST-MODIFIED:20190427T141119Z
UID:1393-1559070000-1559075400@www.powdems.com
SUMMARY:Central Committee Meeting
DESCRIPTION:The Poweshiek County Democrats will hold a Central Committee meeting on Tuesday\, May 28 at Pagliai’s Pizza (816 5th Avenue) in Grinnell. Some of us Democrats will meet for dinner at 6 p.m.\, with the official meeting starting at 7 p.m. Anyone interested in the direction of the local Democratic Party is welcome to attend.
URL:https://www.powdems.com/event/central-committee-meeting-33
LOCATION:Pagliai’s Pizza\, 816 5th Ave.\, Grinnell\, Iowa\, 50112\, United States
CATEGORIES:Central Committee
END:VEVENT
BEGIN:VEVENT
DTSTART;TZID=America/Chicago:20190423T190000
DTEND;TZID=America/Chicago:20190423T200000
DTSTAMP:20260423T175541
CREATED:20190409T151800Z
LAST-MODIFIED:20190409T151800Z
UID:1389-1556046000-1556049600@www.powdems.com
SUMMARY:Central Committee Meeting
DESCRIPTION:The Poweshiek County Democrats will hold a Central Committee meeting on Tuesday\, April 23 at Pagliai’s Pizza (816 5th Avenue) in Grinnell. Some of us Democrats will meet for dinner at 6 p.m.\, with the official meeting starting at 7 p.m. Anyone interested in the direction of the local Democratic Party is welcome to attend.
URL:https://www.powdems.com/event/central-committee-meeting-32
LOCATION:Pagliai’s Pizza\, 816 5th Ave.\, Grinnell\, Iowa\, 50112\, United States
CATEGORIES:Central Committee
END:VEVENT
BEGIN:VEVENT
DTSTART;TZID=America/Chicago:20190326T190000
DTEND;TZID=America/Chicago:20190326T200000
DTSTAMP:20260423T175541
CREATED:20190313T175426Z
LAST-MODIFIED:20190313T175426Z
UID:1376-1553626800-1553630400@www.powdems.com
SUMMARY:March Central Committee Meeting
DESCRIPTION:The Poweshiek County Democratic Party will hold its monthly Central Committee meeting on Tuesday\, March 26 at Pagliai’s Pizza in Grinnell (816 5th Avenue) beginning at 7 p.m. Several of us will gather at 6 p.m. for dinner. \nAnyone interested in the direction of the local Democratic Party is welcome to attend.
URL:https://www.powdems.com/event/march-central-committee-meeting
LOCATION:Pagliai’s Pizza\, 816 5th Ave.\, Grinnell\, Iowa\, 50112\, United States
CATEGORIES:Central Committee
END:VEVENT
BEGIN:VEVENT
DTSTART;TZID=America/Chicago:20190226T190000
DTEND;TZID=America/Chicago:20190226T200000
DTSTAMP:20260423T175541
CREATED:20190130T150650Z
LAST-MODIFIED:20190130T150650Z
UID:1341-1551207600-1551211200@www.powdems.com
SUMMARY:Central Committee Meeting
DESCRIPTION:The Poweshiek County Democratic Party will hold its monthly Central Committee meeting on Tuesday\, February 26 at Pagliai’s Pizza in Grinnell (816 5th Avenue) beginning at 7 p.m. Several of us will gather at 6 p.m. for dinner. \nAnyone interested in the direction of the local Democratic Party is welcome to attend.
URL:https://www.powdems.com/event/central-committee-meeting-31
LOCATION:Pagliai’s Pizza\, 816 5th Ave.\, Grinnell\, Iowa\, 50112\, United States
CATEGORIES:Central Committee
END:VEVENT
BEGIN:VEVENT
DTSTART;TZID=America/Chicago:20190122T190000
DTEND;TZID=America/Chicago:20190122T203000
DTSTAMP:20260423T175541
CREATED:20181218T161909Z
LAST-MODIFIED:20190122T204340Z
UID:1331-1548183600-1548189000@www.powdems.com
SUMMARY:January Central Committee Meeting CANCELLED
DESCRIPTION:The Poweshiek County Democratic Party Central Committee meeting on Tuesday\, January 22 at Pagliai’s Pizza in Grinnell IS CANCELLED due to weather. We will meet again on February 26.
URL:https://www.powdems.com/event/january-central-committee-meeting
LOCATION:Pagliai’s Pizza\, 816 5th Ave.\, Grinnell\, Iowa\, 50112\, United States
CATEGORIES:Central Committee
END:VEVENT
BEGIN:VEVENT
DTSTART;TZID=America/Chicago:20181127T190000
DTEND;TZID=America/Chicago:20181127T200000
DTSTAMP:20260423T175541
CREATED:20180107T165218Z
LAST-MODIFIED:20180817T002135Z
UID:1037-1543345200-1543348800@www.powdems.com
SUMMARY:Central Committee Meeting
DESCRIPTION:The Poweshiek County Democratic Party will hold its monthly Central Committee meeting on Tuesday\, November 27 at Pagliai’s Pizza in Grinnell (816 5th Avenue) beginning at 7 p.m. Several of us will gather at 6 p.m. for dinner. \nAnyone interested in the direction of the local Democratic Party is welcome to attend.
URL:https://www.powdems.com/event/central-committee-meeting-29
CATEGORIES:Central Committee
END:VEVENT
BEGIN:VEVENT
DTSTART;TZID=America/Chicago:20181023T190000
DTEND;TZID=America/Chicago:20181023T200000
DTSTAMP:20260423T175541
CREATED:20180107T165058Z
LAST-MODIFIED:20181014T154507Z
UID:1035-1540321200-1540324800@www.powdems.com
SUMMARY:Central Committee Meeting
DESCRIPTION:The Poweshiek County Democratic Party will hold its monthly Central Committee meeting on Tuesday\, October 23 at Poweshiek Democrats Headquarters (928 Main Street) beginning at 7 p.m. We will be making calls to Democratic Party voters and working on ways to help our candidates get elected! \nAnyone interested in the direction of the local Democratic Party is welcome to attend.
URL:https://www.powdems.com/event/central-committee-meeting-28
LOCATION:PowDems HQ\, 928 Main Street\, Grinnell\, IA\, 50112\, United States
CATEGORIES:Central Committee,Election
END:VEVENT
BEGIN:VEVENT
DTSTART;TZID=America/Chicago:20180925T190000
DTEND;TZID=America/Chicago:20180925T200000
DTSTAMP:20260423T175541
CREATED:20180107T164954Z
LAST-MODIFIED:20180817T002023Z
UID:1033-1537902000-1537905600@www.powdems.com
SUMMARY:Central Committee Meeting
DESCRIPTION:The Poweshiek County Democratic Party will hold its monthly Central Committee meeting on Tuesday\, September 25 at Pagliai’s Pizza in Grinnell (816 5th Avenue) beginning at 7 p.m. Several of us will gather at 6 p.m. for dinner. \nAnyone interested in the direction of the local Democratic Party is welcome to attend.
URL:https://www.powdems.com/event/central-committee-meeting-27
LOCATION:Pagliai’s Pizza\, 816 5th Ave.\, Grinnell\, Iowa\, 50112\, United States
CATEGORIES:Central Committee
END:VEVENT
BEGIN:VEVENT
DTSTART;TZID=America/Chicago:20180828T190000
DTEND;TZID=America/Chicago:20180828T200000
DTSTAMP:20260423T175541
CREATED:20180815T180443Z
LAST-MODIFIED:20180817T001943Z
UID:1031-1535482800-1535486400@www.powdems.com
SUMMARY:Central Committee Meeting
DESCRIPTION:The Poweshiek County Democratic Party will hold its monthly Central Committee meeting on Tuesday\, August 28 at Pagliai’s Pizza in Grinnell (816 5th Avenue) beginning at 7 p.m. Several of us will gather at 6 p.m. for dinner. \nAnyone interested in the direction of the local Democratic Party is welcome to attend.
URL:https://www.powdems.com/event/central-committee-meeting-30
LOCATION:Pagliai’s Pizza\, 816 5th Ave.\, Grinnell\, Iowa\, 50112\, United States
CATEGORIES:Central Committee
END:VEVENT
BEGIN:VEVENT
DTSTART;TZID=America/Chicago:20180724T190000
DTEND;TZID=America/Chicago:20180724T203000
DTSTAMP:20260423T175541
CREATED:20180107T164745Z
LAST-MODIFIED:20180719T232618Z
UID:1029-1532458800-1532464200@www.powdems.com
SUMMARY:Event with Candidates in Brooklyn
DESCRIPTION:The Poweshiek Democrats are back in the eastern part of the county with a big event on Tuesday night! We have reserved the Classic Deli in downtown Brooklyn as we meet with our candidates for office in the 2018 election: \nPOWESHIEK DEMOCRATS MEET WITH THE CANDIDATES\nClassic Deli\n120 Jackson Street\, Brooklyn\nTuesday\, July 24\nDinner available starting at 5:45 p.m.\nProgram Begins at 7 p.m. \n\nScheduled to Appear\n*Abby Finkenauer\, Candidate for US Congress\n*Rita Hart\, Candidate for Iowa Lieutenant Governor\n*Deidre DeJear\, Candidate for Secretary of State\n*Tim Gannon\, Candidate for Secretary of Agriculture\n*Rob Sand\, Candidate for Iowa Auditor\n*Ann Egley\, Candidate for Iowa House\n*Jason Roudabush & Lamoyne Gaard\, Candidates for County Supervisor\n*Dave VanCompernolle\, Candidate for County Attorney \nThis is a great opportunity to meet with the Democrats we will be supporting this fall — invite your friends to join us! \n\n\n\nA menu is listed under photos on Classic Deli’s Facebook Page:\nhttps://www.facebook.com/TheClassicDeliIceCreamShoppe/
URL:https://www.powdems.com/event/central-committee-meeting-26
LOCATION:Classic Deli Brooklyn IA
CATEGORIES:Campaign,Central Committee
END:VEVENT
BEGIN:VEVENT
DTSTART;TZID=America/Chicago:20180626T190000
DTEND;TZID=America/Chicago:20180626T200000
DTSTAMP:20260423T175541
CREATED:20180107T164500Z
LAST-MODIFIED:20180626T125338Z
UID:1027-1530039600-1530043200@www.powdems.com
SUMMARY:Central Committee Meeting
DESCRIPTION:The Poweshiek County Democratic Party will hold its monthly Central Committee meeting on Tuesday\, June 26 at WEST SIDE DINER in Grinnell (229 6th Avenue W) beginning at 7 p.m. Several of us with gather at 6 p.m. for dinner. \nAnyone interested in the direction of the local Democratic Party is welcome to attend.
URL:https://www.powdems.com/event/central-committee-meeting-25
LOCATION:Pagliai’s Pizza\, 816 5th Ave.\, Grinnell\, Iowa\, 50112\, United States
CATEGORIES:Central Committee
END:VEVENT
BEGIN:VEVENT
DTSTART;TZID=America/Chicago:20180522T180000
DTEND;TZID=America/Chicago:20180522T200000
DTSTAMP:20260423T175541
CREATED:20180107T164242Z
LAST-MODIFIED:20180518T142417Z
UID:1025-1527012000-1527019200@www.powdems.com
SUMMARY:Central Committee Meeting
DESCRIPTION:The Poweshiek Democrats will hold their monthly meeting on Tuesday\, May 22 at Sauce’d Pizza in Montezuma (106 N 4th St). Some Democrats will meet for dinner at 6 p.m.\, with the business meeting starting at 7 p.m. We will discuss the June primary\, summer events\, and canvassing strategies for the fall election. Anyone interested in the direction of the local Democratic Party is welcome to attend. We are excited to be back in Montezuma!
URL:https://www.powdems.com/event/central-committee-meeting-24
LOCATION:Sauce’d Pizza\, 106 N 4th St\, Montezuma\, Iowa\, 50171\, United States
CATEGORIES:Central Committee
ORGANIZER;CN="Poweshiek Democratic Party":MAILTO:poweshiekdems@gmail.com
END:VEVENT
BEGIN:VEVENT
DTSTART;TZID=America/Chicago:20180424T190000
DTEND;TZID=America/Chicago:20180424T200000
DTSTAMP:20260423T175541
CREATED:20180107T164115Z
LAST-MODIFIED:20180107T164554Z
UID:1023-1524596400-1524600000@www.powdems.com
SUMMARY:Central Committee Meeting
DESCRIPTION:The Poweshiek County Democratic Party will hold its monthly Central Committee meeting on Tuesday\, April 24 at Pagliai’s Pizza in Grinnell (816 5th Avenue) beginning at 7 p.m. Several of us with gather at 6 p.m. for dinner. \nAnyone interested in the direction of the local Democratic Party is welcome to attend.
URL:https://www.powdems.com/event/central-committee-meeting-23
LOCATION:Pagliai’s Pizza\, 816 5th Ave.\, Grinnell\, Iowa\, 50112\, United States
CATEGORIES:Central Committee
END:VEVENT
BEGIN:VEVENT
DTSTART;TZID=America/Chicago:20180327T190000
DTEND;TZID=America/Chicago:20180327T200000
DTSTAMP:20260423T175541
CREATED:20180107T163924Z
LAST-MODIFIED:20180319T211753Z
UID:1021-1522177200-1522180800@www.powdems.com
SUMMARY:Central Committee Meeting with Ross Wilburn and Deidre DeJear
DESCRIPTION:The Poweshiek County Democratic Party will hold its monthly Central Committee meeting on Tuesday\, March 27 at Pagliai’s Pizza in Grinnell (816 5th Avenue) beginning at 7 p.m. Several of us with gather at 6 p.m. for dinner. \nRoss Wilburn\, former mayor of Iowa City and a 2018 candidate for governor\, and Deidre Dejear\, a candidate for secretary of state\, will be on hand to tell us about their campaigns. \nAnyone interested in the direction of the local Democratic Party is welcome to attend.
URL:https://www.powdems.com/event/central-committee-meeting-22
LOCATION:Pagliai’s Pizza\, 816 5th Ave.\, Grinnell\, Iowa\, 50112\, United States
CATEGORIES:Central Committee
END:VEVENT
BEGIN:VEVENT
DTSTART;TZID=America/Chicago:20180227T190000
DTEND;TZID=America/Chicago:20180227T203000
DTSTAMP:20260423T175541
CREATED:20180107T163649Z
LAST-MODIFIED:20180219T144133Z
UID:1019-1519758000-1519763400@www.powdems.com
SUMMARY:Central Committee Meeting
DESCRIPTION:The Poweshiek County Democratic Party will hold its monthly Central Committee meeting on Tuesday\, February 27 at Pagliai’s Pizza in Grinnell (816 5th Avenue) beginning at 7 p.m. Several of us with gather at 6 p.m. for dinner. \nAnyone interested in the direction of the local Democratic Party is welcome to attend.
URL:https://www.powdems.com/event/central-committee-meeting-21
LOCATION:Pagliai’s Pizza\, 816 5th Ave.\, Grinnell\, Iowa\, 50112\, United States
CATEGORIES:Campaign,Central Committee
END:VEVENT
BEGIN:VEVENT
DTSTART;TZID=America/Chicago:20180123T190000
DTEND;TZID=America/Chicago:20180123T200000
DTSTAMP:20260423T175541
CREATED:20180107T163457Z
LAST-MODIFIED:20180111T211823Z
UID:1017-1516734000-1516737600@www.powdems.com
SUMMARY:Central Committee Meeting Featuring Gubernatorial Candidate Andy McGuire
DESCRIPTION:The Poweshiek County Democratic Party will hold its monthly Central Committee meeting on Tuesday\, January 23 at Pagliai’s Pizza in Grinnell (816 5th Avenue) beginning at 7 p.m. Several of us with gather at 6 p.m. for dinner. \nAndy McGuire\, the former Iowa Democratic Party chair and a candidate for governor\, will speak and take questions from voters at 7 p.m. \nAnyone interested in the direction of the local Democratic Party is welcome to attend.
URL:https://www.powdems.com/event/central-committee-meeting-20
LOCATION:Pagliai’s Pizza\, 816 5th Ave.\, Grinnell\, Iowa\, 50112\, United States
CATEGORIES:Central Committee
END:VEVENT
BEGIN:VEVENT
DTSTART;TZID=America/Chicago:20171128T190000
DTEND;TZID=America/Chicago:20171128T200000
DTSTAMP:20260423T175541
CREATED:20170421T191940Z
LAST-MODIFIED:20171116T143003Z
UID:860-1511895600-1511899200@www.powdems.com
SUMMARY:Central Committee Meeting
DESCRIPTION:The Poweshiek County Democratic Party will hold its monthly Central Committee meeting on Tuesday\, November 28 beginning at 7 p.m at Pagliai’s Pizza in Grinnell (816 5th Avenue). Some of us meet for dinner at 6 p.m\, with the business meeting starting at 7 p.m.  Anyone interested in the direction of the local Democratic Party is welcome to attend.
URL:https://www.powdems.com/event/central-committee-meeting-19
CATEGORIES:Central Committee
END:VEVENT
BEGIN:VEVENT
DTSTART;TZID=America/Chicago:20171024T190000
DTEND;TZID=America/Chicago:20171024T200000
DTSTAMP:20260423T175541
CREATED:20170421T191850Z
LAST-MODIFIED:20170927T192811Z
UID:858-1508871600-1508875200@www.powdems.com
SUMMARY:Central Committee Meeting
DESCRIPTION:The Poweshiek County Democratic Party will hold its monthly Central Committee meeting on Tuesday\, October 24 at Pagliai’s Pizza in Grinnell (816 5th Avenue) beginning at 7 p.m. Several of us with gather at 6 p.m. for dinner. \nAnyone interested in the direction of the local Democratic Party is welcome to attend.
URL:https://www.powdems.com/event/central-committee-meeting-18
LOCATION:Pagliai’s Pizza\, 816 5th Ave.\, Grinnell\, Iowa\, 50112\, United States
CATEGORIES:Central Committee
END:VEVENT
BEGIN:VEVENT
DTSTART;TZID=America/Chicago:20170926T190000
DTEND;TZID=America/Chicago:20170926T200000
DTSTAMP:20260423T175541
CREATED:20170421T191740Z
LAST-MODIFIED:20170906T004008Z
UID:856-1506452400-1506456000@www.powdems.com
SUMMARY:Central Committee Meeting
DESCRIPTION:The Poweshiek County Democratic Party will hold its monthly Central Committee meeting at Saint’s Rest Coffee Shop in Grinnell (917 Broad St\,) on Tuesday\, September 26 beginning at 7 p.m.
URL:https://www.powdems.com/event/central-committee-meeting-17
CATEGORIES:Central Committee
END:VEVENT
BEGIN:VEVENT
DTSTART;TZID=America/Chicago:20170822T190000
DTEND;TZID=America/Chicago:20170822T200000
DTSTAMP:20260423T175541
CREATED:20170421T191649Z
LAST-MODIFIED:20170421T191649Z
UID:854-1503428400-1503432000@www.powdems.com
SUMMARY:Central Committee Meeting
DESCRIPTION:The Poweshiek County Democratic Party will hold its monthly Central Committee on Tuesday\, August 22 beginning at 7 p.m. Location TBD.
URL:https://www.powdems.com/event/central-committee-meeting-16
CATEGORIES:Central Committee
END:VEVENT
BEGIN:VEVENT
DTSTART;TZID=America/Chicago:20170725T190000
DTEND;TZID=America/Chicago:20170725T200000
DTSTAMP:20260423T175541
CREATED:20170421T191602Z
LAST-MODIFIED:20170421T191602Z
UID:852-1501009200-1501012800@www.powdems.com
SUMMARY:Central Committee Meeting
DESCRIPTION:The Poweshiek County Democratic Party will hold its monthly Central Committee on Tuesday\, July 25 beginning at 7 p.m. Location TBD.
URL:https://www.powdems.com/event/central-committee-meeting-15
CATEGORIES:Central Committee
END:VEVENT
END:VCALENDAR