BEGIN:VCALENDAR
VERSION:2.0
PRODID:-// - ECPv6.13.2.1//NONSGML v1.0//EN
CALSCALE:GREGORIAN
METHOD:PUBLISH
X-ORIGINAL-URL:https://www.powdems.com
X-WR-CALDESC:Events for 
REFRESH-INTERVAL;VALUE=DURATION:PT1H
X-Robots-Tag:noindex
X-PUBLISHED-TTL:PT1H
BEGIN:VTIMEZONE
TZID:America/Chicago
BEGIN:DAYLIGHT
TZOFFSETFROM:-0600
TZOFFSETTO:-0500
TZNAME:CDT
DTSTART:20180311T080000
END:DAYLIGHT
BEGIN:STANDARD
TZOFFSETFROM:-0500
TZOFFSETTO:-0600
TZNAME:CST
DTSTART:20181104T070000
END:STANDARD
END:VTIMEZONE
BEGIN:VEVENT
DTSTART;TZID=America/Chicago:20181012T160000
DTEND;TZID=America/Chicago:20181012T180000
DTSTAMP:20260424T002149
CREATED:20181005T182708Z
LAST-MODIFIED:20181005T182755Z
UID:1288-1539360000-1539367200@www.powdems.com
SUMMARY:Building the Blue Wave\, with Senator Jeff Merkeley and Candidates Tim Gannon & Rob Sand
DESCRIPTION:Come meet Tim Gannon\, the Democratic candidate for Secretary of Agriculture\, and Rob Sand\, the Democratic candidate for State Auditor. We will also be joined by Senator Jeff Merkley of Oregon\, who has been one of the leading voices in Congress against the Trump Administration’s immigration policies and for the release of all government records regarding Supreme Court nominee Brett Kavanaugh. Merkley’s Blue Wave Project supports candidates in down-ballot races to help build up the Democratic Party from the grassroots level. \nWe will host Tim\, Rob and Jeff at the Poweshiek County Democratic Headquarters (928 Main Street in Grinnell) on Friday\, October 12. Hors d’oeuvres available starting at 4 p.m. and candidates speak at 5 p.m. Rob and Tim are part of the ticket helping to build a long-term Democratic Party plan for Iowa starting in 2018. Come hear about their plan to help build the Blue Wave in Iowa!
URL:https://www.powdems.com/event/building-the-blue-wave-with-senator-jeff-merkeley-and-candidates-tim-gannon-rob-sand
LOCATION:PowDems HQ\, 928 Main Street\, Grinnell\, IA\, 50112\, United States
CATEGORIES:Campaign,Election
END:VEVENT
BEGIN:VEVENT
DTSTART;TZID=America/Chicago:20181009T160000
DTEND;TZID=America/Chicago:20181009T173000
DTSTAMP:20260424T002149
CREATED:20181005T181850Z
LAST-MODIFIED:20181005T181943Z
UID:1283-1539100800-1539106200@www.powdems.com
SUMMARY:Deidre DeJear at Grinnell College on Tuesday
DESCRIPTION:The Grinnell College Democrats will host Democratic Secretary of State candidate (and voting rights defender) Deidre DeJear on Tuesday\, October 9 at 4 p.m. at the Joe Rosenfield Center Room 209 (1115 8th Avenue in Grinnell). DeJear will talk about the importance of voting and the obstacles certain Iowans are facing in exercising their democratic right to vote. Members of the community are welcome!
URL:https://www.powdems.com/event/deidre-dejear-at-grinnell-college-on-tuesday
LOCATION:Grinnell College\, 1115 8th Avenue\, Grinnell\, 50112
CATEGORIES:Campaign,Education
END:VEVENT
BEGIN:VEVENT
DTSTART;TZID=America/Chicago:20181009T090000
DTEND;TZID=America/Chicago:20181009T150000
DTSTAMP:20260424T002149
CREATED:20180905T193114Z
LAST-MODIFIED:20180920T102722Z
UID:1229-1539075600-1539097200@www.powdems.com
SUMMARY:Early voting @ Drake Library
DESCRIPTION:All registered voters in Poweshiek County may cast their ballots early for the general election at this voting station in the Drake Library. \nYou may also register to vote at this station if you bring (1) A government-issued photo ID (driver’s license\, passport\, etc.) (2) Proof of your residence in Poweshiek County (bank statement\, utility bill\, lease agreement\, etc.) \nThank you to the Poweshiek County Auditor’s Office or arranging this satellite voting opportunity. Early and absentee voting options help ensure that all voters have access to the ballot. \n 
URL:https://www.powdems.com/event/early-voting-drake-library
LOCATION:Drake Community Library\, 930 Park St.\, Grinnell\, IA\, United States
CATEGORIES:Campaign,Election
END:VEVENT
BEGIN:VEVENT
DTSTART;TZID=America/Chicago:20181008T170000
DTEND;TZID=America/Chicago:20181008T190000
DTSTAMP:20260424T002149
CREATED:20181005T181421Z
LAST-MODIFIED:20181005T181635Z
UID:1280-1539018000-1539025200@www.powdems.com
SUMMARY:Abby Finkenauer Fundraiser in Grinnell
DESCRIPTION:Democratic Party congressional candidate Abby Finkenauer will be in Grinnell next week for a fundraising reception. The event will take place on Monday\, October 8 at Solera Wine Bar (829 Broad Street) from 5 to 7 p.m. Grinnell is located in what some have called “the most flippable Congressional districts in the country\,” so make you do what you can to help bring Abby to victory!
URL:https://www.powdems.com/event/abby-finkenauer-fundraiser-in-grinnell
LOCATION:Solera Wine Bar\, 829 Broad Street\, Grinnell\, IA\, 50112\, United States
CATEGORIES:Campaign,Fundraiser
END:VEVENT
BEGIN:VEVENT
DTSTART;TZID=America/Chicago:20181008T143000
DTEND;TZID=America/Chicago:20181008T163000
DTSTAMP:20260424T002149
CREATED:20181005T181048Z
LAST-MODIFIED:20181005T181048Z
UID:1276-1539009000-1539016200@www.powdems.com
SUMMARY:Lieutenant Governor Candidate Rita Hart in Montezuma
DESCRIPTION:Lieutenant Governor candidate Rita Hart will be at the Daily Grind Coffee Shop in downtown Montezuma (105 N 4th Street) on Monday\, October 8 at 2:30 p.m. After meeting with Senator Hart\, you can head directly to the county courthouse and vote early for the November election! \nSign up to join Senator Hart on Monday and cast your ballot for her\, Fred Hubbell\, and the rest of the great slate of Democrats running in Iowa!
URL:https://www.powdems.com/event/lieutenant-governor-candidate-rita-hart-in-montezuma
LOCATION:Daily Grind Coffee Shop\, 105 N 4th Stree\, Montezuma\, IA\, United States
CATEGORIES:Campaign,Election
END:VEVENT
BEGIN:VEVENT
DTSTART;TZID=America/Chicago:20181006T080000
DTEND;TZID=America/Chicago:20181006T170000
DTSTAMP:20260424T002149
CREATED:20180928T015008Z
LAST-MODIFIED:20180928T015008Z
UID:1268-1538812800-1538845200@www.powdems.com
SUMMARY:Voter Canvassing in Grinnell
DESCRIPTION:The Poweshiek Democrats will be talking to voters at their doors in Grinnell this weekend. We will meet at the new headquarters at 928 Main Street at the following times:\nSaturday\, Noon or 3 p.m.\nSunday\,  Noon or 3 p.m. \nOur group will talk to voters about the November election and gather absentee ballot requests. Canvassing voters is one of the best ways to ensure the Democrats win in November\, as voters who are contacted by someone in their community are significantly more likely to vote. If you can volunteer this weekend\, contact the Poweshiek Democrats at poweshiekdems@gmail.com or Iowa Democratic Party Organizer Sam Kovacs 319-535-3813 to RSVP.
URL:https://www.powdems.com/event/voter-canvassing-in-grinnell-3
LOCATION:PowDems HQ\, 928 Main Street\, Grinnell\, IA\, 50112\, United States
CATEGORIES:Campaign
END:VEVENT
BEGIN:VEVENT
DTSTART;TZID=America/Chicago:20180930T120000
DTEND;TZID=America/Chicago:20180930T170000
DTSTAMP:20260424T002149
CREATED:20180928T014726Z
LAST-MODIFIED:20180928T014726Z
UID:1266-1538308800-1538326800@www.powdems.com
SUMMARY:Voter Canvassing in Grinnell
DESCRIPTION:The Poweshiek Democrats will be talking to voters at their doors in Grinnell this weekend. We will meet at the new headquarters at 928 Main Street at the following times:\nSaturday\, Noon or 3 p.m.\nSunday\,  Noon or 3 p.m. \nOur group will talk to voters about the November election and gather absentee ballot requests. Canvassing voters is one of the best ways to ensure the Democrats win in November\, as voters who are contacted by someone in their community are significantly more likely to vote. If you can volunteer this weekend\, contact the Poweshiek Democrats at poweshiekdems@gmail.com or Iowa Democratic Party Organizer Sam Kovacs 319-535-3813 to RSVP.
URL:https://www.powdems.com/event/voter-canvassing-in-grinnell-2
LOCATION:PowDems HQ\, 928 Main Street\, Grinnell\, IA\, 50112\, United States
CATEGORIES:Campaign
END:VEVENT
BEGIN:VEVENT
DTSTART;TZID=America/Chicago:20180929T120000
DTEND;TZID=America/Chicago:20180929T170000
DTSTAMP:20260424T002149
CREATED:20180928T014455Z
LAST-MODIFIED:20180928T014455Z
UID:1264-1538222400-1538240400@www.powdems.com
SUMMARY:Voter Canvassing in Grinnell
DESCRIPTION:The Poweshiek Democrats will be talking to voters at their doors in Grinnell this weekend. We will meet at the new headquarters at 928 Main Street at the following times:\nSaturday\, Noon or 3 p.m.\nSunday\,  Noon or 3 p.m. \nOur group will talk to voters about the November election and gather absentee ballot requests. Canvassing voters is one of the best ways to ensure the Democrats win in November\, as voters who are contacted by someone in their community are significantly more likely to vote. If you can volunteer this weekend\, contact the Poweshiek Democrats at poweshiekdems@gmail.com or Iowa Democratic Party Organizer Sam Kovacs 319-535-3813 to RSVP.
URL:https://www.powdems.com/event/voter-canvassing-in-grinnell
LOCATION:PowDems HQ\, 928 Main Street\, Grinnell\, IA\, 50112\, United States
CATEGORIES:Campaign
END:VEVENT
BEGIN:VEVENT
DTSTART;TZID=America/Chicago:20180926T180000
DTEND;TZID=America/Chicago:20180926T193000
DTSTAMP:20260424T002149
CREATED:20180923T123340Z
LAST-MODIFIED:20180923T133803Z
UID:1256-1537984800-1537990200@www.powdems.com
SUMMARY:Ann Egley Iowa House Debate Prep
DESCRIPTION:Come and help Ann Egley\, the Democratic candidate for Iowa House\, prepare for a League of Women Voters debate. Volunteers are needed to prepare and ask questions and serve in different campaign debate roles. \nContact the Poweshiek Democrats at poweshiekdems@gmail.com for more information.
URL:https://www.powdems.com/event/ann-egley-iowa-house-debate-prep
LOCATION:Drake Community Library\, 930 Park St.\, Grinnell\, IA\, United States
CATEGORIES:Campaign
END:VEVENT
BEGIN:VEVENT
DTSTART;TZID=America/Chicago:20180920T163000
DTEND;TZID=America/Chicago:20180920T183000
DTSTAMP:20260424T002149
CREATED:20180903T145356Z
LAST-MODIFIED:20180903T145356Z
UID:1222-1537461000-1537468200@www.powdems.com
SUMMARY:Grinnell Homecoming Parade
DESCRIPTION:The Poweshiek Democrats will march in the Grinnell Homecoming Parade in support of our local candidates. \nLineup Begins: 4:30 p.m. at 4th Avenue & Park Street downtown. Parade begins at 5:30. \nContact us at poweshiekdems@gmail.com if you are interested in participating.
URL:https://www.powdems.com/event/grinnell-homecoming-parade
LOCATION:Grinnell Central Park\, 925 3rd Avenue\, Grinnell\, IA\, 50112\, United States
CATEGORIES:Campaign
END:VEVENT
BEGIN:VEVENT
DTSTART;TZID=America/Chicago:20180916T120000
DTEND;TZID=America/Chicago:20180916T170000
DTSTAMP:20260424T002149
CREATED:20180914T113431Z
LAST-MODIFIED:20180914T113431Z
UID:1242-1537099200-1537117200@www.powdems.com
SUMMARY:Canvassing Voters in Grinnell
DESCRIPTION:The Poweshiek Democrats will be talking with our core supporters this weekend. Help us go door-to-door to encourage people to vote\, vote early\, and vote absentee!\n\nCanvasses meet at Poweshiek Democrats Headquarters\n1109 West Street\, Grinnell \nSunday\,  September 16: Shifts begin at noon and 3 p.m.\n \nWe have excellent candidates in Iowa and Poweshiek County\, but they will need OUR support to win! Contact us at poweshiekdems@gmail.com or Sam Kovacs of the Iowa Democratic Party at 319-535-3813.
URL:https://www.powdems.com/event/canvassing-voters-in-grinnell-2
LOCATION:PowDems HQ\, 928 Main Street\, Grinnell\, IA\, 50112\, United States
CATEGORIES:Campaign
END:VEVENT
BEGIN:VEVENT
DTSTART;TZID=America/Chicago:20180915T120000
DTEND;TZID=America/Chicago:20180915T170000
DTSTAMP:20260424T002149
CREATED:20180914T113308Z
LAST-MODIFIED:20180914T113308Z
UID:1239-1537012800-1537030800@www.powdems.com
SUMMARY:Canvassing Voters in Grinnell
DESCRIPTION:The Poweshiek Democrats will be talking with our core supporters this weekend. Help us go door-to-door to encourage people to vote\, vote early\, and vote absentee!\n\nCanvasses meet at Poweshiek Democrats Headquarters\n1109 West Street\, Grinnell \nSaturday\, September 15: Shifts begin at noon and 3 p.m. \nSunday\,  September 16: Shifts begin at noon and 3 p.m.\n \nWe have excellent candidates in Iowa and Poweshiek County\, but they will need OUR support to win! Contact us at poweshiekdems@gmail.com or Sam Kovacs of the Iowa Democratic Party at 319-535-3813.
URL:https://www.powdems.com/event/canvassing-voters-in-grinnell
LOCATION:PowDems HQ\, 928 Main Street\, Grinnell\, IA\, 50112\, United States
CATEGORIES:Campaign
END:VEVENT
BEGIN:VEVENT
DTSTART;TZID=America/Chicago:20180909T170000
DTEND;TZID=America/Chicago:20180909T190000
DTSTAMP:20260424T002149
CREATED:20180903T131252Z
LAST-MODIFIED:20180903T153250Z
UID:1215-1536512400-1536519600@www.powdems.com
SUMMARY:Poweshiek Democrats Picnic with Abby Finkenauer and Deidre DeJear
DESCRIPTION:After almost two years of patiently organizing for this moment\, Democrats’ chance to bring about change at the ballot box is almost upon us.  Come hear from the candidates who are ready to bring the “Blue Wave” to Iowa in 2018. \nSpeakers include: \n\nAbby Finkenauer\, candidate for Congress\nDeidre DeJear\, candidate for Secretary of State\nCandidates for county office.\n\nEvent details: \nGrilled food (including vegetarian options) will be available. Please bring a dessert or salad to share. Seating is limited\, so bring chairs or picnic blankets. \n$10 donation\, $5 donation for students.  Volunteer to help by e-mailing poweshiekdems@gmail.com. \nSee you there!
URL:https://www.powdems.com/event/poweshiek-democrats-picnic-with-abby-finkenauer-and-deidre-dejear
LOCATION:Grinnell Central Park\, 925 3rd Avenue\, Grinnell\, IA\, 50112\, United States
CATEGORIES:Campaign,Fundraiser
ORGANIZER;CN="Poweshiek Democratic Party":MAILTO:poweshiekdems@gmail.com
END:VEVENT
BEGIN:VEVENT
DTSTART;TZID=America/Chicago:20180724T190000
DTEND;TZID=America/Chicago:20180724T203000
DTSTAMP:20260424T002149
CREATED:20180107T164745Z
LAST-MODIFIED:20180719T232618Z
UID:1029-1532458800-1532464200@www.powdems.com
SUMMARY:Event with Candidates in Brooklyn
DESCRIPTION:The Poweshiek Democrats are back in the eastern part of the county with a big event on Tuesday night! We have reserved the Classic Deli in downtown Brooklyn as we meet with our candidates for office in the 2018 election: \nPOWESHIEK DEMOCRATS MEET WITH THE CANDIDATES\nClassic Deli\n120 Jackson Street\, Brooklyn\nTuesday\, July 24\nDinner available starting at 5:45 p.m.\nProgram Begins at 7 p.m. \n\nScheduled to Appear\n*Abby Finkenauer\, Candidate for US Congress\n*Rita Hart\, Candidate for Iowa Lieutenant Governor\n*Deidre DeJear\, Candidate for Secretary of State\n*Tim Gannon\, Candidate for Secretary of Agriculture\n*Rob Sand\, Candidate for Iowa Auditor\n*Ann Egley\, Candidate for Iowa House\n*Jason Roudabush & Lamoyne Gaard\, Candidates for County Supervisor\n*Dave VanCompernolle\, Candidate for County Attorney \nThis is a great opportunity to meet with the Democrats we will be supporting this fall — invite your friends to join us! \n\n\n\nA menu is listed under photos on Classic Deli’s Facebook Page:\nhttps://www.facebook.com/TheClassicDeliIceCreamShoppe/
URL:https://www.powdems.com/event/central-committee-meeting-26
LOCATION:Classic Deli Brooklyn IA
CATEGORIES:Campaign,Central Committee
END:VEVENT
BEGIN:VEVENT
DTSTART;TZID=America/Chicago:20180712T150000
DTEND;TZID=America/Chicago:20180712T160000
DTSTAMP:20260424T002149
CREATED:20180711T180719Z
LAST-MODIFIED:20180711T180719Z
UID:1190-1531407600-1531411200@www.powdems.com
SUMMARY:Volunteers needed for the Ann Egley campaign
DESCRIPTION:Volunteers requested to complete a project for the Ann Egley campaign.\nWhen:  Thursday\, July 12th from 3PM to 4PM.\nLocation:  Grinnell’s Drake Library in the Board Room\nContact person:  John Clayton 641-260-7626
URL:https://www.powdems.com/event/volunteers-needed-for-the-ann-egley-campaign
LOCATION:Drake Community Library\, 930 Park St.\, Grinnell\, IA\, 50112\, United States
CATEGORIES:Campaign
END:VEVENT
BEGIN:VEVENT
DTSTART;TZID=America/Chicago:20180704T170000
DTEND;TZID=America/Chicago:20180704T190000
DTSTAMP:20260424T002149
CREATED:20180630T173239Z
LAST-MODIFIED:20180702T132418Z
UID:1182-1530723600-1530730800@www.powdems.com
SUMMARY:Fourth of July Parade in Grinnell
DESCRIPTION:The Poweshiek Democrats will be marching in Wednesday’s July 4 Parade in  Grinnell! We will gather at the lineup near the intersection of High Street and Hamilton Avenue between 3:30 and 4:30 p.m. This is a chance to get beyond the smaller groups of voters we already know and to show Democrats and independents in our communities that the Democratic Party wants their vote this year
URL:https://www.powdems.com/event/fourth-of-july-parade-in-grinnell
LOCATION:Grinnell\, Exact Location TBA
CATEGORIES:Campaign
END:VEVENT
BEGIN:VEVENT
DTSTART;TZID=America/Chicago:20180703T180000
DTEND;TZID=America/Chicago:20180703T200000
DTSTAMP:20260424T002149
CREATED:20180630T173129Z
LAST-MODIFIED:20180630T173129Z
UID:1180-1530640800-1530648000@www.powdems.com
SUMMARY:Campaign Phone Bank
DESCRIPTION:Join us as we call Poweshiek County voters to encourage them to vote in the 2018 election!
URL:https://www.powdems.com/event/campaign-phone-bank
LOCATION:Drake Community Library\, 930 Park St.\, Grinnell\, IA\, 50112\, United States
CATEGORIES:Campaign
END:VEVENT
BEGIN:VEVENT
DTSTART;TZID=America/Chicago:20180609T093000
DTEND;TZID=America/Chicago:20180609T110000
DTSTAMP:20260424T002149
CREATED:20180607T123001Z
LAST-MODIFIED:20180607T123001Z
UID:1174-1528536600-1528542000@www.powdems.com
SUMMARY:Flag Day Parade in Brooklyn
DESCRIPTION:Support our candidates at the Flag Day Parade this Saturday\, June 9 in Brooklyn at 9:45 a.m.! Most of us will be marching\, but there’s always room for people to ride in one of our pick-up floats. \nThis is a chance to get beyond the smaller groups of voters we already know and to show Democrats and independents in our communities that the Democratic Party wants their vote this year. We will be joined by Brooklyn’s own Jason Roudabush\, one of the Poweshiek Democrats’ candidates for county supervisor\, and Ann Egley\, the Democratic Party nominee in the Iowa House District 76 race against Dave Maxwell. Let’s show these candidates that they have our support! Let us know at poweshiekdems@gmail.com if you are planning to attend.
URL:https://www.powdems.com/event/flag-day-parade-in-brooklyn
LOCATION:Brooklyn\, IA
CATEGORIES:Campaign
END:VEVENT
BEGIN:VEVENT
DTSTART;TZID=America/Chicago:20180523T114500
DTEND;TZID=America/Chicago:20180523T123000
DTSTAMP:20260424T002149
CREATED:20180518T142803Z
LAST-MODIFIED:20180518T142803Z
UID:1158-1527075900-1527078600@www.powdems.com
SUMMARY:Congressional Candidate Abby Finkenauer Meets Voters in Grinnell
DESCRIPTION:State Representative Abby Finkenauer\, one of four candidates running to be the Democrat representing Poweshiek County in Congress\, will be meeting with voters in Grinnell on the morning of Wednesday\, May 23. The event is hosted by Isabela Gallegos at 1404 Broad Street and will take place from 11:45 a.m. to 12:30 p.m. Hope you see you there!
URL:https://www.powdems.com/event/congressional-candidate-abby-finkenauer-meets-voters-in-grinnell
LOCATION:1404 Broad Street\, 1404 Broad Street\, Grinnell\, IA\, 50112\, United States
CATEGORIES:Campaign
END:VEVENT
BEGIN:VEVENT
DTSTART;TZID=America/Chicago:20180515T090000
DTEND;TZID=America/Chicago:20180515T150000
DTSTAMP:20260424T002149
CREATED:20180502T190341Z
LAST-MODIFIED:20180502T190341Z
UID:1143-1526374800-1526396400@www.powdems.com
SUMMARY:Early Voting Opportunity for Democratic Party Primary
DESCRIPTION:The Poweshiek County Auditor will host an early voting opportunity for the Democratic Party primary at Grinnell College’s Joe Rosenfeld Center (1115 8th Avenue in Grinnell) on Tuesday\, May 15 from 9 a.m. to 3 p.m.  All registered Democratic Party voters in Poweshiek County can cast their primary election vote at this location. \nThe Iowa Democratic Party Primary concludes with a full day of voting across the state on Tuesday\, June 5. \n 
URL:https://www.powdems.com/event/early-voting-opportunity-for-democratic-party-primary
LOCATION:Grinnell College\, 1115 8th Avenue\, Grinnell\, 50112
CATEGORIES:Campaign,Election
END:VEVENT
BEGIN:VEVENT
DTSTART;TZID=America/Chicago:20180514T170000
DTEND;TZID=America/Chicago:20180514T183000
DTSTAMP:20260424T002149
CREATED:20180510T152621Z
LAST-MODIFIED:20180510T152621Z
UID:1152-1526317200-1526322600@www.powdems.com
SUMMARY:Gubernatorial Candidate Fred Hubbell in Grinnell
DESCRIPTION:Gubernatorial candidate Fred Hubbell will meet with Poweshiek County voters to talk about his campaign and vision for Iowa. This event will take place on Monday\, May 14 at 5 p.m. at Grinnell College’s Joe Rosenfeld Room 2009 (1115 8th Avenue). \nAll are welcome to attend.
URL:https://www.powdems.com/event/gubernatorial-candidate-fred-hubbell-in-grinnell
LOCATION:Grinnell College\, 1115 8th Avenue\, Grinnell\, 50112
CATEGORIES:Campaign
END:VEVENT
BEGIN:VEVENT
DTSTART;TZID=America/Chicago:20180506T130000
DTEND;TZID=America/Chicago:20180506T150000
DTSTAMP:20260424T002149
CREATED:20180502T144010Z
LAST-MODIFIED:20180502T144010Z
UID:1135-1525611600-1525618800@www.powdems.com
SUMMARY:Fundraiser for Local Candidates
DESCRIPTION:The Poweshiek Democrats are hosting a fundraiser for State House candidate Ann Egley and Poweshiek County Supervisor candidates Jason Roudabush and Lamoyne Gaard. This event will take place on Sunday\, May 6 at Solera (829 Broad Street) in Grinnell from 1 to 3 p.m. with all proceeds to be split among the three candidates. There’s no specific required donation\, but a $30 donation helps each candidate with $10. You can always give more! If you cannot attend on Sunday\, you can still give to our Iowa House candidate Ann Egley ONLINE. \n  \nLooking forward to seeing you on Sunday!
URL:https://www.powdems.com/event/fundraiser-for-local-candidates
LOCATION:Solera\, 829 Broad Street\, Grinnell\, IA\, 50112\, United States
CATEGORIES:Campaign,Fundraiser
END:VEVENT
BEGIN:VEVENT
DTSTART;TZID=America/Chicago:20180421T100000
DTEND;TZID=America/Chicago:20180421T120000
DTSTAMP:20260424T002149
CREATED:20180329T192802Z
LAST-MODIFIED:20180329T192943Z
UID:1112-1524304800-1524312000@www.powdems.com
SUMMARY:Gubernatorial Candidate Forum Livestream
DESCRIPTION:The League of Women Voters of Iowa will host a gubernatorial candidate forum on April 21 from 10 a.m. to noon in Cedar Rapids. All six Democratic candidates (Nate Boulton\, Cathy Glasson\, Fred Hubbell\,  Andy McGuire\, John Norris and Ross Wilburn) have confirmed they will attend. \nIowa League of Women Voters organizations will participate in this forum through ezTalks or Facebook meeting places.  This will allow all Iowans an opportunity to ask questions and watch these forums.   In Grinnell\, the forum will be held at the Joe Rosenfield\, Room 209 on the Grinnell College campus. No reservations are needed and the event is free and open to the public. \nQuestions for the candidates can be sent by April 20 to lwesspeters@gmail.com.  \n  \n 
URL:https://www.powdems.com/event/gubernatorial-forum-livestream-with-all-democratic-candidates
LOCATION:Grinnell College\, 1115 8th Avenue\, Grinnell\, 50112
CATEGORIES:Campaign
END:VEVENT
BEGIN:VEVENT
DTSTART;TZID=America/Chicago:20180405T120000
DTEND;TZID=America/Chicago:20180405T133000
DTSTAMP:20260424T002149
CREATED:20180322T183741Z
LAST-MODIFIED:20180322T183741Z
UID:1109-1522929600-1522935000@www.powdems.com
SUMMARY:US Rep. John Delaney in Grinnell
DESCRIPTION:John Delaney\, a Democratic congressman from Maryland who is running for president in 2020\, will meet with voters at Grinnell’s West Side Diner (229 6th Ave.) on Thursday\, April 5 at noon.
URL:https://www.powdems.com/event/us-rep-john-delaney-in-grinnell
LOCATION:IA
CATEGORIES:Campaign
END:VEVENT
BEGIN:VEVENT
DTSTART;TZID=America/Chicago:20180317T073000
DTEND;TZID=America/Chicago:20180317T120000
DTSTAMP:20260424T002149
CREATED:20180129T200303Z
LAST-MODIFIED:20180316T161505Z
UID:1068-1521271800-1521288000@www.powdems.com
SUMMARY:Poweshiek County Democratic Party Convention
DESCRIPTION:The Poweshiek Democratic Party will hold its county convention on Saturday\, March 17 from 8:30 a.m. to noon at the Malcom City Auditorium (212 Main Street in Malcom).Doors open and registration begins at 7:30 a.m. \nAt the county convention\, delegates who are elected at their precincts on February 5 will approve a county party platform and select delegates to represent Poweshiek County at the district and state conventions of the Democratic Party. \nContact the Poweshiek Democrats at poweshiekdems@gmail.com if you have any questions.
URL:https://www.powdems.com/event/county-convention-poweshiek-democratic-party
LOCATION:Malcom City Auditorium\, Malcom\, IA\, United States
CATEGORIES:Campaign
END:VEVENT
BEGIN:VEVENT
DTSTART;TZID=America/Chicago:20180313T190000
DTEND;TZID=America/Chicago:20180313T200000
DTSTAMP:20260424T002149
CREATED:20180306T005053Z
LAST-MODIFIED:20180306T005053Z
UID:1093-1520967600-1520971200@www.powdems.com
SUMMARY:Gubernatorial Candidate John Norris Meets with Voters
DESCRIPTION:John Norris\, former chief of staff to Tom Vilsack during his tenure as Iowa governor and Secretary of Agriculture\, will talk about his campaign for governor with voters at Grinnell’s Peace Tree Brewery (923 Main Street) on Tuesday\, March 13 at 7 p.m.
URL:https://www.powdems.com/event/gubernatorial-candidate-john-norris-meets-voters
LOCATION:Peace Tree Brewery\, 923 Main St.\, Grinnell\, IA\, 50112\, United States
CATEGORIES:Campaign
END:VEVENT
BEGIN:VEVENT
DTSTART;TZID=America/Chicago:20180227T190000
DTEND;TZID=America/Chicago:20180227T203000
DTSTAMP:20260424T002149
CREATED:20180107T163649Z
LAST-MODIFIED:20180219T144133Z
UID:1019-1519758000-1519763400@www.powdems.com
SUMMARY:Central Committee Meeting
DESCRIPTION:The Poweshiek County Democratic Party will hold its monthly Central Committee meeting on Tuesday\, February 27 at Pagliai’s Pizza in Grinnell (816 5th Avenue) beginning at 7 p.m. Several of us with gather at 6 p.m. for dinner. \nAnyone interested in the direction of the local Democratic Party is welcome to attend.
URL:https://www.powdems.com/event/central-committee-meeting-21
LOCATION:Pagliai’s Pizza\, 816 5th Ave.\, Grinnell\, Iowa\, 50112\, United States
CATEGORIES:Campaign,Central Committee
END:VEVENT
BEGIN:VEVENT
DTSTART;TZID=America/Chicago:20180222T190000
DTEND;TZID=America/Chicago:20180222T200000
DTSTAMP:20260424T002149
CREATED:20180219T144420Z
LAST-MODIFIED:20180219T144452Z
UID:1084-1519326000-1519329600@www.powdems.com
SUMMARY:Congressional Candidate Courtney Rowe
DESCRIPTION:Courtney Rowe\, a Democratic Party candidate in Iowa’s First Congressional District\, speaks with voters about her campaign at Grinnell’s Drake Library (930 Park Street) on Thursday\, February 22 at 7 p.m. This is a great opportunity to ask a candidate about the issues that matter most to you in this election. \nLearn more about her campaign at http://www.courtneyroweforcongress.org/.
URL:https://www.powdems.com/event/congressional-candidate-courtney-rowe
LOCATION:IA
CATEGORIES:Campaign
END:VEVENT
BEGIN:VEVENT
DTSTART;TZID=America/Chicago:20180215T190000
DTEND;TZID=America/Chicago:20180215T203000
DTSTAMP:20260424T002149
CREATED:20180118T182953Z
LAST-MODIFIED:20180118T182953Z
UID:1058-1518721200-1518726600@www.powdems.com
SUMMARY:Congressional Candidate Thomas Heckroth in Grinnell
DESCRIPTION:Thomas Heckroth\, a candidate for Congress in Iowa’s First District\, will be at the Drake Library on Thursday\, February 15 at 7 p.m. This is a great opportunity to talk to Heckroth about his campaign and vision for representing eastern Iowa in Congress.
URL:https://www.powdems.com/event/congressional-candidate-thomas-heckroth-grinnell
LOCATION:Drake Community Library\, 930 Park St.\, Grinnell\, IA\, 50112\, United States
CATEGORIES:Campaign
END:VEVENT
BEGIN:VEVENT
DTSTART;TZID=America/Chicago:20180205T190000
DTEND;TZID=America/Chicago:20180205T210000
DTSTAMP:20260424T002149
CREATED:20170927T192728Z
LAST-MODIFIED:20180115T005643Z
UID:963-1517857200-1517864400@www.powdems.com
SUMMARY:OFF YEAR CAUCUS
DESCRIPTION:The Poweshiek County Democrats will hold our caucus for 2018 on Monday\, February 5 at 7 p.m. (The four caucus locations for Poweshiek County are listed below). \nThis is an opportunity to learn about volunteer efforts to support Democrats in the 2018 election; learn more about Democratic Party candidates for governor\, Congress and the State House; and nominate members of your community to represent you at the County Democratic Convention in March. All registered Democrats are welcome to participate and you can register as a Democrat at your caucus location. \nCAUCUS LOCATIONS: \n• Grinnell’s Ward 1 (Area north of 6th Avenue & east of Broad Street)\nFirst Presbyterian Church\, 1025 5th Avenue\, Grinnell \n• All Other Grinnell Voters & Voters of Chester\, Grant\, Washington\, Sugar Creek and Searsboro\nDrake Public Library\, 930 Park Street\, Grinnell \n• Montezuma\, Jackson\, Union\, Pleasant\, Scott\, Guernsey\, Deep River & Lincoln\nMemorial Hall\, 205 East Main Street\, Montezuma \n• Brooklyn\, Holiday Lake\, Malcom\, Sheridan\, Bear Creek\, Warren\, Madison and Jefferson\nBrooklyn Public Library\, 306 Jackson Street\, Brooklyn \nA map of Poweshiek County precincts is available here.
URL:https://www.powdems.com/event/off-year-caucus
LOCATION:IA
CATEGORIES:Campaign
END:VEVENT
END:VCALENDAR