BEGIN:VCALENDAR
VERSION:2.0
PRODID:-// - ECPv6.13.2.1//NONSGML v1.0//EN
CALSCALE:GREGORIAN
METHOD:PUBLISH
X-ORIGINAL-URL:https://www.powdems.com
X-WR-CALDESC:Events for 
REFRESH-INTERVAL;VALUE=DURATION:PT1H
X-Robots-Tag:noindex
X-PUBLISHED-TTL:PT1H
BEGIN:VTIMEZONE
TZID:America/Chicago
BEGIN:DAYLIGHT
TZOFFSETFROM:-0600
TZOFFSETTO:-0500
TZNAME:CDT
DTSTART:20180311T080000
END:DAYLIGHT
BEGIN:STANDARD
TZOFFSETFROM:-0500
TZOFFSETTO:-0600
TZNAME:CST
DTSTART:20181104T070000
END:STANDARD
BEGIN:DAYLIGHT
TZOFFSETFROM:-0600
TZOFFSETTO:-0500
TZNAME:CDT
DTSTART:20190310T080000
END:DAYLIGHT
BEGIN:STANDARD
TZOFFSETFROM:-0500
TZOFFSETTO:-0600
TZNAME:CST
DTSTART:20191103T070000
END:STANDARD
END:VTIMEZONE
BEGIN:VEVENT
DTSTART;TZID=America/Chicago:20191019T150000
DTEND;TZID=America/Chicago:20191019T160000
DTSTAMP:20260423T202028
CREATED:20191015T163242Z
LAST-MODIFIED:20191015T163242Z
UID:1507-1571497200-1571500800@www.powdems.com
SUMMARY:Presidential Candidate Marianne Williamson
DESCRIPTION:Presidential candidate Marianne Williamson will be at Saints Rest Coffee in Grinnell this Saturday at 3 pm. This event is free and open to the public.
URL:https://www.powdems.com/event/presidential-candidate-marianne-williamson-2
LOCATION:Saints Rest Coffee House\, 917 Broad St.\, Grinnell\, IA\, United States
CATEGORIES:Campaign
END:VEVENT
BEGIN:VEVENT
DTSTART;TZID=America/Chicago:20190921T193000
DTEND;TZID=America/Chicago:20190921T213000
DTSTAMP:20260423T202028
CREATED:20190917T003007Z
LAST-MODIFIED:20190917T003007Z
UID:1482-1569094200-1569101400@www.powdems.com
SUMMARY:Senator Cory Booker in Grinnell
DESCRIPTION:Join Senator Cory Booker for a conversation about his campaign for president this Saturday night (September 21) in Grinnell at Saint’s Rest Coffee Shop (917 Broad Street) at 7:30 p.m. (Doors open at 7 p.m.) \nPlease RSVP! We will work with the campaign to set up the space to accommodate people who want to meet with Senator Booker.
URL:https://www.powdems.com/event/senator-cory-booker-in-grinnell
LOCATION:Saints Rest Coffee House\, 917 Broad St.\, Grinnell\, IA\, United States
CATEGORIES:Campaign
END:VEVENT
BEGIN:VEVENT
DTSTART;TZID=America/Chicago:20190914T100000
DTEND;TZID=America/Chicago:20190914T110000
DTSTAMP:20260423T202028
CREATED:20190908T204550Z
LAST-MODIFIED:20190910T205928Z
UID:1469-1568455200-1568458800@www.powdems.com
SUMMARY:US Senator Michael Bennet in Grinnell
DESCRIPTION:US Senator Michael Bennet (D-Colorado) will talk about his campaign for president on Saturday\, September 14 at 10 AM in the Joe Rosenfield Center Room 209 at Grinnell College (1115 8th Avenue). Bennet has represented Colorado in the Senate since 2009 and previous served as the superintendent of Denver’s public schools. This event is free and open to the public.
URL:https://www.powdems.com/event/us-senator-michael-bennet-in-grinnell
LOCATION:Grinnell College\, 1115 8th Avenue\, Grinnell\, 50112
CATEGORIES:Campaign
END:VEVENT
BEGIN:VEVENT
DTSTART;TZID=America/Chicago:20190912T190000
DTEND;TZID=America/Chicago:20190912T213000
DTSTAMP:20260423T202028
CREATED:20190909T211317Z
LAST-MODIFIED:20190909T211317Z
UID:1476-1568314800-1568323800@www.powdems.com
SUMMARY:Presidential Debate Watch Party
DESCRIPTION:Join the Poweshiek Democrats and watch the September presidential debate! This debate features  \nFormer Vice President Joe Biden \nSenator Cory Booker of New Jersey \nMayor Pete Buttigieg of South Bend\, Ind. \nJulián Castro\, former housing secretary \nSenator Kamala Harris of California \nSenator Amy Klobuchar of Minnesota \nFormer Representative Beto O’Rourke of Texas \nSenator Bernie Sanders of Vermont \nSenator Elizabeth Warren of Massachusetts \nAndrew Yang\, Tech entrepreneur
URL:https://www.powdems.com/event/presidential-debate-watch-party
LOCATION:hotel grinnell\, 925 Park Street\, Grinnell\, CA\, 50112\, United States
CATEGORIES:Campaign
END:VEVENT
BEGIN:VEVENT
DTSTART;TZID=America/Chicago:20190908T170000
DTEND;TZID=America/Chicago:20190908T190000
DTSTAMP:20260423T202028
CREATED:20190828T152600Z
LAST-MODIFIED:20190828T153802Z
UID:1456-1567962000-1567969200@www.powdems.com
SUMMARY:Ice Cream Social
DESCRIPTION:Join us in Central Park on Sunday\, September 8 at 5 p.m. \n* Register to vote & participate in 2020 presidential caucus \n* Meet representatives from presidential campaigns \n* Free will donations to the county party welcomed \nContact us at poweshiekdems@gmail.com with any questions
URL:https://www.powdems.com/event/ice-cream-social
LOCATION:Grinnell Central Park\, 925 3rd Avenue\, Grinnell\, IA\, 50112\, United States
CATEGORIES:Campaign
END:VEVENT
BEGIN:VEVENT
DTSTART;TZID=America/Chicago:20190827T190000
DTEND;TZID=America/Chicago:20190827T190000
DTSTAMP:20260423T202028
CREATED:20190822T003834Z
LAST-MODIFIED:20190822T003834Z
UID:1453-1566932400-1566932400@www.powdems.com
SUMMARY:August Central Committee Meeting
DESCRIPTION:The Poweshiek County Democrats will hold their August Central Committee meeting on Thursday\, August 27 at Pirates of Ponderosa (199 Marina Drive) in Montezuma. Some Democrats will meet for dinner at 6 p.m.\, with the official meeting to begin at 7 p.m. Anyone interested in the local Democratic Party or in caucusing for Democrats in 2020 is welcome to attend.
URL:https://www.powdems.com/event/august-central-committee-meeting
LOCATION:Pirates of Ponderosa\, 199 Marina Drive\, Montezuma\, 50171\, United States
CATEGORIES:Campaign,Central Committee
END:VEVENT
BEGIN:VEVENT
DTSTART;TZID=America/Chicago:20190731T190000
DTEND;TZID=America/Chicago:20190731T203000
DTSTAMP:20260423T202028
CREATED:20190730T134511Z
LAST-MODIFIED:20190730T134511Z
UID:1448-1564599600-1564605000@www.powdems.com
SUMMARY:Debate Watch Party
DESCRIPTION:Join us at the Periodic Table for some debate watching fun!  \nCandidates featured on the second night:\nCalifornia Sen. Kamala Harris\nFormer vice president Joe Biden\nNew York City Mayor Bill de Blasio\nColorado Sen. Michael Bennet\nHawaii Rep. Tulsi Gabbard\nNew York Sen. Kirsten Gillibrand\nWashington Gov. Jay Inslee\nNew Jersey Sen. Cory Booker\nEntrepreneur Andrew Yang\nFormer Housing and Urban Development secretary Julián Castro
URL:https://www.powdems.com/event/debate-watch-party-4
LOCATION:hotel grinnell\, 925 Park Street\, Grinnell\, CA\, 50112\, United States
CATEGORIES:Campaign
END:VEVENT
BEGIN:VEVENT
DTSTART;TZID=America/Chicago:20190730T190000
DTEND;TZID=America/Chicago:20190730T203000
DTSTAMP:20260423T202028
CREATED:20190730T134336Z
LAST-MODIFIED:20190730T134422Z
UID:1446-1564513200-1564518600@www.powdems.com
SUMMARY:Debate Watch Party
DESCRIPTION:Come and watch the second round of Democratic debates with us!  \nNight one will feature:\nMassachusetts Sen. Elizabeth Warren\nVermont Sen. Bernie Sanders\nMontana Gov. Steve Bullock\nOhio Rep. Tim Ryan\nFormer Colorado Gov. John Hickenlooper\nFormer Maryland Rep. John Delaney\nAuthor and speaker Marianne Williamson\nMinnesota Sen. Amy Klobuchar\nSouth Bend\, Indiana\, Mayor Pete Buttigieg\nFormer Texas Rep. Beto O’Rourke
URL:https://www.powdems.com/event/debate-watch-party-3
LOCATION:Peace Tree Brewery\, 923 Main St.\, Grinnell\, IA\, 50112\, United States
CATEGORIES:Campaign
END:VEVENT
BEGIN:VEVENT
DTSTART;TZID=America/Chicago:20190724T123000
DTEND;TZID=America/Chicago:20190724T133000
DTSTAMP:20260423T202028
CREATED:20190722T203327Z
LAST-MODIFIED:20190722T203327Z
UID:1437-1563971400-1563975000@www.powdems.com
SUMMARY:Presidential Candidate John Hickenlooper
DESCRIPTION:Former Colorado governor John Hickenlooper will stop by Saint’s Rest Coffee shop (917 Broad Street) in Grinnell on Wednesday\, July 24 at 12:30 p.m. to talk with voters about his campaign for president. Hickenlooper will be on the debate stage in Detroit at the end of this month and this is your chance to ask him your questions first. Anyone interested in caucusing with Democrats in 2020 is welcome to attend. \nhttps://www.mobilize.us/hickenlooperforiowa/event/103202/
URL:https://www.powdems.com/event/presidential-candidate-john-hickenlooper
LOCATION:Saints Rest Coffee House\, 917 Broad St.\, Grinnell\, IA\, United States
CATEGORIES:Campaign
END:VEVENT
BEGIN:VEVENT
DTSTART;TZID=America/Chicago:20190723T190000
DTEND;TZID=America/Chicago:20190723T203000
DTSTAMP:20260423T202028
CREATED:20190710T151819Z
LAST-MODIFIED:20190722T203121Z
UID:1432-1563908400-1563913800@www.powdems.com
SUMMARY:US Senate Candidate Kimberly Graham & Presidential Candidate Joe Sestak
DESCRIPTION:Kimberly Graham\, a candidate for the Democratic nomination for the US Senate\, will speak with voters at the Classic Deli (120 Jackson Street) in Brooklyn on Tuesday\, July 23 at 7 p.m.  \nJoe Sestak\, a retired admiral who served two terms in Congress\, will also talk about his campaign for the Democratic Party nomination for the presidency.  \nThe Poweshiek Democrats Central Committee meeting will follow Graham and Sestak’s remarks.  \nWe will also meet for dinner starting at 6 p.m. All Democrats are welcome to attend.
URL:https://www.powdems.com/event/us-senate-candidate-kimberly-graham-at-july-central-committee-meeting
LOCATION:Classic Deli Brooklyn IA
CATEGORIES:Campaign,Central Committee
END:VEVENT
BEGIN:VEVENT
DTSTART;TZID=America/Chicago:20190627T193000
DTEND;TZID=America/Chicago:20190627T213000
DTSTAMP:20260423T202028
CREATED:20190625T150828Z
LAST-MODIFIED:20190625T150828Z
UID:1421-1561663800-1561671000@www.powdems.com
SUMMARY:Debate Watch Party #2
DESCRIPTION:Join the Poweshiek Democrats as we watch the first presidential debates of 2019! \nOn June 27 (Night #2 of the debates)\, we will meet at Peace Tree Brewery (923 Main Street) starting around 7:30 p.m. The debate begins at 8 p.m. This is the evening that includes candidates Michael Bennet\, Joe Biden\, Pete Buttigieg\, Kirsten Gillibrand\, John Hickenlooper\, Kamala Harris\, Bernie Sanders\, Eric Swalwell\, Marianne Williamson and Andrew Yang.
URL:https://www.powdems.com/event/debate-watch-party-2
LOCATION:Peace Tree Brewery\, 923 Main St.\, Grinnell\, IA\, 50112\, United States
CATEGORIES:Campaign
END:VEVENT
BEGIN:VEVENT
DTSTART;TZID=America/Chicago:20190626T193000
DTEND;TZID=America/Chicago:20190626T213000
DTSTAMP:20260423T202028
CREATED:20190625T150604Z
LAST-MODIFIED:20190625T150723Z
UID:1418-1561577400-1561584600@www.powdems.com
SUMMARY:Debate Watch Party
DESCRIPTION:Join the Poweshiek Democrats as we watch the first presidential debates of 2019! \nOn June 26 (Night #1 of the debates)\, we will meet at Hotel Grinnell (925 Park Street) starting around 7:30 p.m. The debate begins at 8 p.m. This is evening that includes candidates Cory Booker\, Julián Castro\, Bill de Blasio\, John Delaney\, Tulsi Gabbard\, Jay Inslee\, Amy Klobuchar\, Beto O’Rourke\, Tim Ryan and Elizabeth Warren.
URL:https://www.powdems.com/event/debate-watch-party
LOCATION:hotel grinnell\, 925 Park Street\, Grinnell\, CA\, 50112\, United States
CATEGORIES:Campaign
END:VEVENT
BEGIN:VEVENT
DTSTART;TZID=America/Chicago:20190625T190000
DTEND;TZID=America/Chicago:20190625T203000
DTSTAMP:20260423T202028
CREATED:20190613T160121Z
LAST-MODIFIED:20190613T160247Z
UID:1413-1561489200-1561494600@www.powdems.com
SUMMARY:US Senate Candidate Eddie Mauro @ Central Committee Meeting in Montezuma
DESCRIPTION:US Senate candidate Eddie Mauro will speak with voters at our Central Committee meeting on Tuesday\, June 25 at Sauce’d Pizza in Montezuma. We will hold our monthly Central Committee meeting following Mr. Mauro’s remarks. \nSome Democrats will meet for dinner at 6 p.m. with Mauro’s appearance scheduled to start at 7 p.m. Anyone interested in the direction of the local Democratic Party or Mr. Mauro’s Senate campaign is welcome to attend.
URL:https://www.powdems.com/event/us-senate-candidate-eddie-maruo-central-committee-meeting-in-montezuma
LOCATION:Sauce’d Pizza\, 106 N 4th St\, Montezuma\, Iowa\, 50171\, United States
CATEGORIES:Campaign,Central Committee
END:VEVENT
BEGIN:VEVENT
DTSTART;TZID=America/Chicago:20190521T150000
DTEND;TZID=America/Chicago:20190521T163000
DTSTAMP:20260423T202028
CREATED:20190513T205535Z
LAST-MODIFIED:20190515T141836Z
UID:1403-1558450800-1558456200@www.powdems.com
SUMMARY:Presidential Candidate Eric Swalwell Visit CANCELLED
DESCRIPTION:Representative Eric Swalwell has to cancel his May 21 event in Grinnell — but for a pretty darn good reason. \nThe House Judiciary Committee has scheduled a hearing with former White House Counsel Don McGahn on May 21. As a member of the Judiciary Committee\, Representative Swalwell will need to be in Washington DC if McGahn testifies. \nThe campaign apologized for any inconvenience and said it will reschedule an appearance with Representative Swalwell in Grinnell later this year.
URL:https://www.powdems.com/event/presidential-candidate-eric-swalwel
LOCATION:Drake Community Library\, 930 Park St.\, Grinnell\, IA\, 50112\, United States
CATEGORIES:Campaign,Election
END:VEVENT
BEGIN:VEVENT
DTSTART;TZID=America/Chicago:20190507T143000
DTEND;TZID=America/Chicago:20190507T153000
DTSTAMP:20260423T202028
CREATED:20190427T141631Z
LAST-MODIFIED:20190427T141705Z
UID:1397-1557239400-1557243000@www.powdems.com
SUMMARY:Meet and Greet with Presidential Candidate Julián Castro
DESCRIPTION:Julián Castro\, the former mayor of San Antonio and Secretary of Housing and Urban Development in the Obama Administration\, will speak with voters about his campaign for president at Grinnell’s Drake Library (930 Park Street) on Tuesday\, May 7 at 2:30 p.m
URL:https://www.powdems.com/event/meet-and-greet-with-presidential-candidate-julian-castro
LOCATION:Drake Community Library\, 930 Park St.\, Grinnell\, IA\, 50112\, United States
CATEGORIES:Campaign
END:VEVENT
BEGIN:VEVENT
DTSTART;TZID=America/Chicago:20190504T130000
DTEND;TZID=America/Chicago:20190504T140000
DTSTAMP:20260423T202028
CREATED:20190427T141433Z
LAST-MODIFIED:20190427T141433Z
UID:1395-1556974800-1556978400@www.powdems.com
SUMMARY:Meet & Greet with Senator Amy Klobuchar
DESCRIPTION:Amy Klobuchar\, the senior US Senator from Minnesota\, will speak with voters about her campaign for president at Grinnell’s Drake Library (930 Park Street) on Saturday\, May 4 at 1 p.m. Klobuchar has been in the Senate since 2007 and serves on the Judiciary and Agriculture committees.
URL:https://www.powdems.com/event/meet-greet-with-senator-amy-klobuchar
LOCATION:Drake Community Library\, 930 Park St.\, Grinnell\, IA\, 50112\, United States
CATEGORIES:Campaign,Election
END:VEVENT
BEGIN:VEVENT
DTSTART;TZID=America/Chicago:20190405T180000
DTEND;TZID=America/Chicago:20190405T190000
DTSTAMP:20260423T202028
CREATED:20190401T182956Z
LAST-MODIFIED:20190402T220844Z
UID:1381-1554487200-1554490800@www.powdems.com
SUMMARY:Presidential Candidate Beto O'Rourke in Grinnell
DESCRIPTION:Former Texas Congressman Beto O’Rourke will be speaking about his presidential campaign at Grinnell’s Drake Library on Friday\, April 5 at 6 p.m. Doors will open at 5:30 p.m.
URL:https://www.powdems.com/event/presidential-candidate-beto-orourke-in-grinnell
LOCATION:Drake Community Library\, 930 Park St.\, Grinnell\, IA\, 50112\, United States
CATEGORIES:Campaign
END:VEVENT
BEGIN:VEVENT
DTSTART;TZID=America/Chicago:20190309T090000
DTEND;TZID=America/Chicago:20190309T120000
DTSTAMP:20260423T202028
CREATED:20190130T151209Z
LAST-MODIFIED:20190130T151209Z
UID:1343-1552122000-1552132800@www.powdems.com
SUMMARY:Off Year Caucus
DESCRIPTION:The Poweshiek Democrats will hold their Off Year Caucus on Saturday\, March 9 at the Malcom Auditorium from 9 a.m. to noon. This is an opportunity to elect new local party leaders and plan for the 2019-2020 election cycle — including how we will staff the Iowa Democratic Party Presidential Caucus sites across Poweshiek County in February 2020. Contact us at poweshiekdems@gmail.com if you have any questions.
URL:https://www.powdems.com/event/off-year-caucus-2
LOCATION:Malcom City Auditorium\, Malcom\, IA\, United States
CATEGORIES:Campaign
END:VEVENT
BEGIN:VEVENT
DTSTART;TZID=America/Chicago:20190218T090000
DTEND;TZID=America/Chicago:20190218T103000
DTSTAMP:20260423T202028
CREATED:20190209T212015Z
LAST-MODIFIED:20190209T212035Z
UID:1363-1550480400-1550485800@www.powdems.com
SUMMARY:Presidential Candidate John Delaney in Grinnell
DESCRIPTION:Former US Representative John Delaney of Maryland will talk about his campaign for president at Grinnell’s West Side Diner (229 6th Avenue West) on Monday\, February 18 at 9 a.m. Delaney served three terms in Congress after two decades as an entrepreneur. The event is free and anyone interested in the 2020 Iowa Democratic Party caucus is welcome to attend.
URL:https://www.powdems.com/event/presidential-candidate-john-delaney-in-grinnell
LOCATION:West Side Diner\, 226 6th Avenue W\, Grinnell\, IA\, 50112\, United States
CATEGORIES:Campaign
END:VEVENT
BEGIN:VEVENT
DTSTART;TZID=America/Chicago:20181106T070000
DTEND;TZID=America/Chicago:20181106T210000
DTSTAMP:20260423T202028
CREATED:20180925T023529Z
LAST-MODIFIED:20181029T135834Z
UID:1258-1541487600-1541538000@www.powdems.com
SUMMARY:VOTING ON ELECTION DAY
DESCRIPTION:Get out and vote for Democrats! \nYour polling locations by precinct: \n\nGrinnell Wards 1 & 2 (roughly the area of town north of 6th Avenue): Vote at Elks Lodge 720 3rd Avenue\, Grinnell\nGrinnell Ward 3 (roughly area south of 6th Avenue & west of Broad Street\, but including Water Tower Place): Vote at Drake Library\, 930 Park Street\, Grinnell\nGrinnell Ward 4 (roughly area south of 6th Avenue & east of Broad Street): Vote at 4-H Fairgrounds\, 425 East Street\, Grinnell\nChester\, Grant\, Washington\, and Sugar Creek Townships: Vote at 4-H Fairgrounds\, 425 East Street\, Grinnell\nMalcom & Sheridan: Vote at Malcom Auditorium\, 212 Main Street\, Malcom\nBrooklyn\, Bear Creek\, Madison\, Warren\, and Jefferson Townships: Vote at Mannatt Community Center\, 105 Jackson Street\, Brooklyn\nJackson\, Union\, Pleasant\, and Scott Townships: Vote at Foster Center\, 4896 Stagecoach Road in Montezuma\nMontezuma: Vote at Montezuma Public Library\, 500 East Main Street\nDeep River & Lincoln: Deep River Community Center\, 701 Main Street\, Deep River\n\nContact the Poweshiek County Auditor at (641) 623-5443 for more information. \n  \n 
URL:https://www.powdems.com/event/voting-on-election-day
LOCATION:IA
CATEGORIES:Campaign,Election
END:VEVENT
BEGIN:VEVENT
DTSTART;TZID=America/Chicago:20181104T120000
DTEND;TZID=America/Chicago:20181104T170000
DTSTAMP:20260423T202028
CREATED:20181016T174348Z
LAST-MODIFIED:20181016T181653Z
UID:1314-1541332800-1541350800@www.powdems.com
SUMMARY:Voter Outreach in Grinnell
DESCRIPTION:The Poweshiek Democrats will be talking to voters at their doors in Grinnell this weekend. We will meet at the new headquarters at 928 Main Street at the following times: \nSaturday\, Noon or 3 p.m.\nSunday\,  Noon or 3 p.m. \nOur group will talk to voters about the November election and gather absentee ballot requests. Canvassing voters is one of the best ways to ensure the Democrats win in November\, as voters who are contacted by someone in their community are significantly more likely to vote. If you can volunteer this weekend\, contact the Poweshiek Democrats at poweshiekdems@gmail.com or Iowa Democratic Party Organizer Jacob Gagnon 978-677-0511 to RSVP.
URL:https://www.powdems.com/event/voter-outreach-in-grinnell-6
LOCATION:IA
CATEGORIES:Campaign,Election
END:VEVENT
BEGIN:VEVENT
DTSTART;TZID=America/Chicago:20181103T120000
DTEND;TZID=America/Chicago:20181103T170000
DTSTAMP:20260423T202028
CREATED:20181016T174135Z
LAST-MODIFIED:20181016T174135Z
UID:1312-1541246400-1541264400@www.powdems.com
SUMMARY:Voter Outreach in Grinnell
DESCRIPTION:The Poweshiek Democrats will be talking to voters at their doors in Grinnell this weekend. We will meet at the new headquarters at 928 Main Street at the following times: \nSaturday\, Noon or 3 p.m.\nSunday\,  Noon or 3 p.m. \nOur group will talk to voters about the November election and gather absentee ballot requests. Canvassing voters is one of the best ways to ensure the Democrats win in November\, as voters who are contacted by someone in their community are significantly more likely to vote. If you can volunteer this weekend\, contact the Poweshiek Democrats at poweshiekdems@gmail.com or Iowa Democratic Party Organizer Jacob Gagnon 978-677-0511 to RSVP.
URL:https://www.powdems.com/event/voter-outreach-in-grinnell-5
LOCATION:PowDems HQ\, 928 Main Street\, Grinnell\, IA\, 50112\, United States
CATEGORIES:Campaign,Election
END:VEVENT
BEGIN:VEVENT
DTSTART;TZID=America/Chicago:20181029T190000
DTEND;TZID=America/Chicago:20181029T203000
DTSTAMP:20260423T202028
CREATED:20181002T225830Z
LAST-MODIFIED:20181002T225929Z
UID:1270-1540839600-1540845000@www.powdems.com
SUMMARY:Forum with State House Candidates
DESCRIPTION:Come for a discussion of the issues in the 2018 election\, with Democratic Iowa State House candidate Ann Egley and her opponent\, incumbent Republican House member Dave Maxwell. This discussion will be moderated by the League of Women Voters.
URL:https://www.powdems.com/event/forum-with-state-house-candidates
LOCATION:Drake Community Library\, 930 Park St.\, Grinnell\, IA\, United States
CATEGORIES:Campaign,Election
END:VEVENT
BEGIN:VEVENT
DTSTART;TZID=America/Chicago:20181028T120000
DTEND;TZID=America/Chicago:20181028T170000
DTSTAMP:20260423T202028
CREATED:20181016T173640Z
LAST-MODIFIED:20181016T173640Z
UID:1310-1540728000-1540746000@www.powdems.com
SUMMARY:Voter Outreach in Grinnell
DESCRIPTION:The Poweshiek Democrats will be talking to voters at their doors in Grinnell this weekend. We will meet at the new headquarters at 928 Main Street at the following times: \nSaturday\, Noon or 3 p.m.\nSunday\,  Noon or 3 p.m. \nOur group will talk to voters about the November election and gather absentee ballot requests. Canvassing voters is one of the best ways to ensure the Democrats win in November\, as voters who are contacted by someone in their community are significantly more likely to vote. If you can volunteer this weekend\, contact the Poweshiek Democrats at poweshiekdems@gmail.com or Iowa Democratic Party Organizer Jacob Gagnon 978-677-0511 to RSVP.
URL:https://www.powdems.com/event/voter-outreach-in-grinnell-4
LOCATION:PowDems HQ\, 928 Main Street\, Grinnell\, IA\, 50112\, United States
CATEGORIES:Campaign,Election
END:VEVENT
BEGIN:VEVENT
DTSTART;TZID=America/Chicago:20181027T120000
DTEND;TZID=America/Chicago:20181027T170000
DTSTAMP:20260423T202028
CREATED:20181016T173345Z
LAST-MODIFIED:20181016T173345Z
UID:1308-1540641600-1540659600@www.powdems.com
SUMMARY:Voter Outreach in Grinnell
DESCRIPTION:The Poweshiek Democrats will be talking to voters at their doors in Grinnell this weekend. We will meet at the new headquarters at 928 Main Street at the following times: \nSaturday\, Noon or 3 p.m.\nSunday\,  Noon or 3 p.m. \nOur group will talk to voters about the November election and gather absentee ballot requests. Canvassing voters is one of the best ways to ensure the Democrats win in November\, as voters who are contacted by someone in their community are significantly more likely to vote. If you can volunteer this weekend\, contact the Poweshiek Democrats at poweshiekdems@gmail.com or Iowa Democratic Party Organizer Jacob Gagnon 978-677-0511 to RSVP.
URL:https://www.powdems.com/event/voter-outreach-in-grinnell-3
LOCATION:PowDems HQ\, 928 Main Street\, Grinnell\, IA\, 50112\, United States
CATEGORIES:Campaign,Election
END:VEVENT
BEGIN:VEVENT
DTSTART;TZID=America/Chicago:20181027T090000
DTEND;TZID=America/Chicago:20181027T100000
DTSTAMP:20260423T202028
CREATED:20181024T182058Z
LAST-MODIFIED:20181024T182058Z
UID:1323-1540630800-1540634400@www.powdems.com
SUMMARY:Meet Fred Hubbell
DESCRIPTION:Democratic gubernatorial candidate Fred Hubbell will be at the Poweshiek Democrats Headquarters at 928 Main Street in Grinnell on Saturday\, October 27 at 9 a.m. Fred will talk about his campaign and launch our voter outreach efforts. See you there!
URL:https://www.powdems.com/event/meet-fred-hubbell
LOCATION:PowDems HQ\, 928 Main Street\, Grinnell\, IA\, 50112\, United States
CATEGORIES:Campaign
END:VEVENT
BEGIN:VEVENT
DTSTART;TZID=America/Chicago:20181024T180000
DTEND;TZID=America/Chicago:20181024T193000
DTSTAMP:20260423T202028
CREATED:20180928T012428Z
LAST-MODIFIED:20180928T012428Z
UID:1261-1540404000-1540409400@www.powdems.com
SUMMARY:Debate Prep with State House Candidate Ann Egley
DESCRIPTION:Come and help Ann Egley\, the Democratic candidate for Iowa House for Poweshiek County\, prepare for a League of Women Voters debate. \nEgley will hold a debate prep session on October 24 at 6 p.m. at Drake Library’s Community Room. Volunteers are needed to prepare and ask questions and serve in different campaign debate roles. \nContact the Poweshiek Democrats at poweshiekdems@gmail.com for more information.
URL:https://www.powdems.com/event/debate-prep-with-state-house-candidate-ann-egley
LOCATION:Drake Community Library\, 930 Park St.\, Grinnell\, IA\, United States
CATEGORIES:Campaign
END:VEVENT
BEGIN:VEVENT
DTSTART;TZID=America/Chicago:20181021T120000
DTEND;TZID=America/Chicago:20181021T170000
DTSTAMP:20260423T202028
CREATED:20181016T173122Z
LAST-MODIFIED:20181016T183019Z
UID:1306-1540123200-1540141200@www.powdems.com
SUMMARY:Voter Outreach in Grinnell
DESCRIPTION:The Poweshiek Democrats will be talking to voters at their doors in Grinnell this weekend. We will meet at the new headquarters at 928 Main Street at the following times: \nSaturday\, Noon or 3 p.m.\nSunday\,  Noon or 3 p.m. \nOur group will talk to voters about the November election and gather absentee ballot requests. Canvassing voters is one of the best ways to ensure the Democrats win in November\, as voters who are contacted by someone in their community are significantly more likely to vote. If you can volunteer this weekend\, contact the Poweshiek Democrats at poweshiekdems@gmail.com or Iowa Democratic Party Organizer Jacob Gagnon 978-677-0511 to RSVP.
URL:https://www.powdems.com/event/voter-outreach-in-grinnell-2
LOCATION:PowDems HQ\, 928 Main Street\, Grinnell\, IA\, 50112\, United States
CATEGORIES:Campaign,Election
END:VEVENT
BEGIN:VEVENT
DTSTART;TZID=America/Chicago:20181020T140000
DTEND;TZID=America/Chicago:20181020T160000
DTSTAMP:20260423T202028
CREATED:20181007T172901Z
LAST-MODIFIED:20181007T173044Z
UID:1294-1540044000-1540051200@www.powdems.com
SUMMARY:Midterm Momentum with Ann Egley
DESCRIPTION:Come and enjoy an afternoon of grassroots activism\, political conversations\, and camaraderie with friends and neighbors.\nSpeakers include Ann Egley\, Democratic candidate for Iowa House District 76\, and Ross Wilburn\, former mayor of Iowa City.\nWe will be writing postcards for Ann to send to voters in the district\nYou can register to vote or fill out an absentee ballot request\nInformation on candidates will be available\nEnjoy beverages\, desserts\, and satirical folk stylings of the Cedar River Whalers.
URL:https://www.powdems.com/event/midterm-momentum-with-ann-egley
LOCATION:Grinnell Central Park\, 925 3rd Avenue\, Grinnell\, IA\, 50112\, United States
CATEGORIES:Campaign,Education,Election
END:VEVENT
BEGIN:VEVENT
DTSTART;TZID=America/Chicago:20181020T120000
DTEND;TZID=America/Chicago:20181020T170000
DTSTAMP:20260423T202028
CREATED:20181016T172711Z
LAST-MODIFIED:20181016T173018Z
UID:1304-1540036800-1540054800@www.powdems.com
SUMMARY:Voter Outreach in Grinnell
DESCRIPTION:The Poweshiek Democrats will be talking to voters at their doors in Grinnell this weekend. We will meet at the new headquarters at 928 Main Street at the following times: \nSaturday\, Noon or 3 p.m.\nSunday\,  Noon or 3 p.m. \nOur group will talk to voters about the November election and gather absentee ballot requests. Canvassing voters is one of the best ways to ensure the Democrats win in November\, as voters who are contacted by someone in their community are significantly more likely to vote. If you can volunteer this weekend\, contact the Poweshiek Democrats at poweshiekdems@gmail.com or Iowa Democratic Party Organizer Jacob Gagnon 978-677-0511 to RSVP.
URL:https://www.powdems.com/event/voter-outreach-in-grinnell
LOCATION:PowDems HQ\, 928 Main Street\, Grinnell\, IA\, 50112\, United States
CATEGORIES:Campaign,Election
END:VEVENT
END:VCALENDAR