BEGIN:VCALENDAR
VERSION:2.0
PRODID:-// - ECPv6.13.2.1//NONSGML v1.0//EN
CALSCALE:GREGORIAN
METHOD:PUBLISH
X-ORIGINAL-URL:https://www.powdems.com
X-WR-CALDESC:Events for 
REFRESH-INTERVAL;VALUE=DURATION:PT1H
X-Robots-Tag:noindex
X-PUBLISHED-TTL:PT1H
BEGIN:VTIMEZONE
TZID:America/Chicago
BEGIN:DAYLIGHT
TZOFFSETFROM:-0600
TZOFFSETTO:-0500
TZNAME:CDT
DTSTART:20240310T080000
END:DAYLIGHT
BEGIN:STANDARD
TZOFFSETFROM:-0500
TZOFFSETTO:-0600
TZNAME:CST
DTSTART:20241103T070000
END:STANDARD
END:VTIMEZONE
BEGIN:VEVENT
DTSTART;TZID=America/Chicago:20241016T190000
DTEND;TZID=America/Chicago:20241016T203000
DTSTAMP:20260424T144120
CREATED:20241014T191916Z
LAST-MODIFIED:20241014T191933Z
UID:1971-1729105200-1729110600@www.powdems.com
SUMMARY:Get Out the Vote Party
DESCRIPTION:To celebrate the start of early voting\, we will have a launch party (with treats!) at Saints Rest Coffee Wednesday\, October 16 at 7 pm.  Come hear from Iowa House candidate Tommy Hexter and County Supervisor Diana Dawley and let them know they have your support! We will also be there to answer any questions people have about registering to vote or early voting.
URL:https://www.powdems.com/event/get-out-the-vote-party
LOCATION:Saints Rest Coffee House\, 917 Broad St.\, Grinnell\, IA\, United States
CATEGORIES:Campaign
END:VEVENT
END:VCALENDAR