BEGIN:VCALENDAR
VERSION:2.0
PRODID:-// - ECPv6.13.2.1//NONSGML v1.0//EN
CALSCALE:GREGORIAN
METHOD:PUBLISH
X-ORIGINAL-URL:https://www.powdems.com
X-WR-CALDESC:Events for 
REFRESH-INTERVAL;VALUE=DURATION:PT1H
X-Robots-Tag:noindex
X-PUBLISHED-TTL:PT1H
BEGIN:VTIMEZONE
TZID:America/Chicago
BEGIN:DAYLIGHT
TZOFFSETFROM:-0600
TZOFFSETTO:-0500
TZNAME:CDT
DTSTART:20240310T080000
END:DAYLIGHT
BEGIN:STANDARD
TZOFFSETFROM:-0500
TZOFFSETTO:-0600
TZNAME:CST
DTSTART:20241103T070000
END:STANDARD
END:VTIMEZONE
BEGIN:VEVENT
DTSTART;TZID=America/Chicago:20240411T190000
DTEND;TZID=America/Chicago:20240411T203000
DTSTAMP:20260424T221641
CREATED:20240408T130055Z
LAST-MODIFIED:20240408T130055Z
UID:1917-1712862000-1712867400@www.powdems.com
SUMMARY:Tommy Hexter Campaign Launch
DESCRIPTION:Tommy Hexter is hosting a campaign launch event Thursday\, April 11 at 7 pm at Saint’s Rest Coffee (917 Broad Street) in Grinnell. He will present his plans for Poweshiek County\, the state of Iowa\, and this upcoming State House election. If you can’t make it on Thursday night but want to support Tommy’s campaign\, you can donate here.
URL:https://www.powdems.com/event/tommy-hexter-campaign-launch
LOCATION:Saints Rest Coffee House\, 917 Broad St.\, Grinnell\, IA\, United States
CATEGORIES:Campaign
END:VEVENT
END:VCALENDAR