BEGIN:VCALENDAR
VERSION:2.0
PRODID:-// - ECPv6.13.2.1//NONSGML v1.0//EN
CALSCALE:GREGORIAN
METHOD:PUBLISH
X-ORIGINAL-URL:https://www.powdems.com
X-WR-CALDESC:Events for 
REFRESH-INTERVAL;VALUE=DURATION:PT1H
X-Robots-Tag:noindex
X-PUBLISHED-TTL:PT1H
BEGIN:VTIMEZONE
TZID:America/Chicago
BEGIN:DAYLIGHT
TZOFFSETFROM:-0600
TZOFFSETTO:-0500
TZNAME:CDT
DTSTART:20250309T080000
END:DAYLIGHT
BEGIN:STANDARD
TZOFFSETFROM:-0500
TZOFFSETTO:-0600
TZNAME:CST
DTSTART:20251102T070000
END:STANDARD
END:VTIMEZONE
BEGIN:VEVENT
DTSTART;TZID=America/Chicago:20251104T070000
DTEND;TZID=America/Chicago:20251104T200000
DTSTAMP:20260423T161916
CREATED:20251027T155501Z
LAST-MODIFIED:20251027T155501Z
UID:2011-1762239600-1762286400@www.powdems.com
SUMMARY:City and School Board Elections
DESCRIPTION:City and School Board Elections are Tuesday\, November 4\, with polling places open from 7 am to 8 pm. Polling locations for Poweshiek County are listed below. If you have questions about your polling place or Iowa’s voting laws\, contact the Poweshiek County Auditor’s Office at 641-623-5443. \n  \n\n2 · BMWJ\n Includes: Cities of Brooklyn\, Hartwick\, and Victor (the portion in Poweshiek County)\n Townships: Bear Creek\, Jefferson\, Madison\, Warren\nView Map and Driving Directions Michael J. Manatt Community Center · 105 Jackson St. · Brooklyn\, IA 52211\n\n\n3 · DRL\n Includes: Cities of Deep River and Guernsey\n Townships: Deep River\, Lincoln\nView Map and Driving Directions Deep River Community Center · 701 Main St. · Deep River\, IA 52222\n\n\n4 · MS\n Includes: City of Malcom\n Townships: Malcom\, Sheridan\nView Map and Driving Directions Malcom Auditorium · 212 Main St. · Malcom\, IA 50157\n\n\n5 · CGWS\n Includes: City of Searsboro\n Townships: Chester\, Grant\, Sugar Creek\, Washington\nView Map and Driving Directions Poweshiek County Fair 4-H Bldg.\, South End · 425 East St. S · Grinnell\, IA 50112\n\n\n6 · Grinnell – 1st Ward\nView Map and Driving Directions Elks Lodge\, West Side · 720 3rd Ave. · Grinnell\, IA 50112\n\n\n7 · Grinnell – 2nd Ward\nView Map and Driving Directions Elks Lodge\, East Side · 720 3rd Ave. · Grinnell\, IA 50112\n\n\n8 · Grinnell – 3rd Ward\nView Map and Driving Directions Drake Library – Community Room · 930 Park St. · Grinnell\, IA 50112\n\n\n9 · Grinnell – 4th Ward\nView Map and Driving Directions Poweshiek County Fair 4-H Building\, North End · 425 East St. S · Grinnell\, IA 50112\n\n\n10 · JUPS\n Includes: Barnes City (the portion in Poweshiek County)\n Townships: Jackson\, Pleasant\, Scott\, Union\nView Map and Driving Directions Poweshiek County Conservation Center · 4896 Stagecoach Rd. · Montezuma\, IA 50171\n\n\n11 · Montezuma\n Includes: City of Montezuma\nView Map and Driving Directions Montezuma Public Library · 500 E. Main St. · Montezuma\, IA 50171
URL:https://www.powdems.com/event/city-and-school-board-elections
LOCATION:IA
END:VEVENT
END:VCALENDAR