BEGIN:VCALENDAR
VERSION:2.0
PRODID:-// - ECPv6.13.2.1//NONSGML v1.0//EN
CALSCALE:GREGORIAN
METHOD:PUBLISH
X-ORIGINAL-URL:https://www.powdems.com
X-WR-CALDESC:Events for 
REFRESH-INTERVAL;VALUE=DURATION:PT1H
X-Robots-Tag:noindex
X-PUBLISHED-TTL:PT1H
BEGIN:VTIMEZONE
TZID:America/Chicago
BEGIN:DAYLIGHT
TZOFFSETFROM:-0600
TZOFFSETTO:-0500
TZNAME:CDT
DTSTART:20250309T080000
END:DAYLIGHT
BEGIN:STANDARD
TZOFFSETFROM:-0500
TZOFFSETTO:-0600
TZNAME:CST
DTSTART:20251102T070000
END:STANDARD
END:VTIMEZONE
BEGIN:VEVENT
DTSTART;TZID=America/Chicago:20251004T120000
DTEND;TZID=America/Chicago:20251004T140000
DTSTAMP:20260423T174100
CREATED:20251001T113252Z
LAST-MODIFIED:20251001T113252Z
UID:2007-1759579200-1759586400@www.powdems.com
SUMMARY:IDP Regional Event in Malcom
DESCRIPTION:This Saturday\, the Iowa Democratic Party will be giving its Outstanding Volunteer Award to … \nFRANK APPLETON and GAROLD NELSON! \nJoin IDP Chair Rita Hart and local Poweshiek Democrats this Saturday\, October 4 at noon in the Malcom Auditorium (305 3rd St. in Malcom). Lunch will be served. \nWe are so excited that the state party is acknowledging Frank and Garold’s tireless work. They have been our most committed door-knockers\, they show up at every parade\, and offer to help our candidates in so many different ways. \nAlso at this event: state candidates Julie Stauch (governor)\, Nate Willems (attorney general)\, Ryan Peterman (secretary of state)\, and Kathy Dolter (US House). Come learn more about next year’s election — and celebrate Frank and Garold. \nIf you are planning to attend\, RSVP to IDP’s Holly Lyman.
URL:https://www.powdems.com/event/idp-regional-event-in-malcom
LOCATION:Malcom City Auditorium\, Malcom\, IA\, United States
END:VEVENT
END:VCALENDAR