BEGIN:VCALENDAR
VERSION:2.0
PRODID:-// - ECPv6.13.2.1//NONSGML v1.0//EN
CALSCALE:GREGORIAN
METHOD:PUBLISH
X-ORIGINAL-URL:https://www.powdems.com
X-WR-CALDESC:Events for 
REFRESH-INTERVAL;VALUE=DURATION:PT1H
X-Robots-Tag:noindex
X-PUBLISHED-TTL:PT1H
BEGIN:VTIMEZONE
TZID:America/Chicago
BEGIN:DAYLIGHT
TZOFFSETFROM:-0600
TZOFFSETTO:-0500
TZNAME:CDT
DTSTART:20250309T080000
END:DAYLIGHT
BEGIN:STANDARD
TZOFFSETFROM:-0500
TZOFFSETTO:-0600
TZNAME:CST
DTSTART:20251102T070000
END:STANDARD
END:VTIMEZONE
BEGIN:VEVENT
DTSTART;TZID=America/Chicago:20250417T183000
DTEND;TZID=America/Chicago:20250417T200000
DTSTAMP:20260424T020034
CREATED:20250409T174754Z
LAST-MODIFIED:20250409T175021Z
UID:1981-1744914600-1744920000@www.powdems.com
SUMMARY:Legislative Town Hall in Grinnell
DESCRIPTION:Democratic state representatives  Elinor Levin (Iowa City)\, Lindsay James (Dubuque)\, and Adam Zabner (Iowa City) are holding a public forum at the Drake Library (930 Park Street) in Grinnell on Thursday\, April 17 at 6:30 pm. All members of the community are welcome and will have the opportunity to ask these representatives questions.
URL:https://www.powdems.com/event/legislative-town-hall
LOCATION:IA
END:VEVENT
END:VCALENDAR